BEGIN:VCALENDAR
VERSION:2.0
PRODID:-//St. John’s Community Care - ECPv6.15.20//NONSGML v1.0//EN
CALSCALE:GREGORIAN
METHOD:PUBLISH
X-WR-CALNAME:St. John’s Community Care
X-ORIGINAL-URL:https://stjohnscc.org
X-WR-CALDESC:Events for St. John’s Community Care
REFRESH-INTERVAL;VALUE=DURATION:PT1H
X-Robots-Tag:noindex
X-PUBLISHED-TTL:PT1H
BEGIN:VTIMEZONE
TZID:America/Edmonton
BEGIN:DAYLIGHT
TZOFFSETFROM:-0700
TZOFFSETTO:-0600
TZNAME:MDT
DTSTART:20250309T090000
END:DAYLIGHT
BEGIN:STANDARD
TZOFFSETFROM:-0600
TZOFFSETTO:-0700
TZNAME:MST
DTSTART:20251102T080000
END:STANDARD
BEGIN:DAYLIGHT
TZOFFSETFROM:-0700
TZOFFSETTO:-0600
TZNAME:MDT
DTSTART:20260308T090000
END:DAYLIGHT
BEGIN:STANDARD
TZOFFSETFROM:-0600
TZOFFSETTO:-0700
TZNAME:MST
DTSTART:20261101T080000
END:STANDARD
BEGIN:DAYLIGHT
TZOFFSETFROM:-0700
TZOFFSETTO:-0600
TZNAME:MDT
DTSTART:20270314T090000
END:DAYLIGHT
BEGIN:STANDARD
TZOFFSETFROM:-0600
TZOFFSETTO:-0700
TZNAME:MST
DTSTART:20271107T080000
END:STANDARD
END:VTIMEZONE
BEGIN:VEVENT
DTSTART;TZID=America/Edmonton:20260428T100000
DTEND;TZID=America/Edmonton:20260428T113000
DTSTAMP:20260423T093448
CREATED:20250421T214937Z
LAST-MODIFIED:20260306T195835Z
UID:10002558-1777370400-1777375800@stjohnscc.org
SUMMARY:Memory Cafe Edwardsville
DESCRIPTION:Tuesdays from 10am-11:30am at Edwardsville Library. In-person only.\n \n 
URL:https://stjohnscc.org/event/memory-cafe-at-main-street/2026-04-28/
END:VEVENT
BEGIN:VEVENT
DTSTART;TZID=America/Edmonton:20260505T100000
DTEND;TZID=America/Edmonton:20260505T113000
DTSTAMP:20260423T093448
CREATED:20250421T214937Z
LAST-MODIFIED:20260306T195835Z
UID:10002559-1777975200-1777980600@stjohnscc.org
SUMMARY:Memory Cafe Edwardsville
DESCRIPTION:Tuesdays from 10am-11:30am at Edwardsville Library. In-person only.\n \n 
URL:https://stjohnscc.org/event/memory-cafe-at-main-street/2026-05-05/
END:VEVENT
BEGIN:VEVENT
DTSTART;TZID=America/Edmonton:20260512T100000
DTEND;TZID=America/Edmonton:20260512T113000
DTSTAMP:20260423T093448
CREATED:20250421T214937Z
LAST-MODIFIED:20260306T195835Z
UID:10002560-1778580000-1778585400@stjohnscc.org
SUMMARY:Memory Cafe Edwardsville
DESCRIPTION:Tuesdays from 10am-11:30am at Edwardsville Library. In-person only.\n \n 
URL:https://stjohnscc.org/event/memory-cafe-at-main-street/2026-05-12/
END:VEVENT
BEGIN:VEVENT
DTSTART;TZID=America/Edmonton:20260519T100000
DTEND;TZID=America/Edmonton:20260519T113000
DTSTAMP:20260423T093448
CREATED:20250421T214937Z
LAST-MODIFIED:20260306T195835Z
UID:10002561-1779184800-1779190200@stjohnscc.org
SUMMARY:Memory Cafe Edwardsville
DESCRIPTION:Tuesdays from 10am-11:30am at Edwardsville Library. In-person only.\n \n 
URL:https://stjohnscc.org/event/memory-cafe-at-main-street/2026-05-19/
END:VEVENT
BEGIN:VEVENT
DTSTART;TZID=America/Edmonton:20260526T100000
DTEND;TZID=America/Edmonton:20260526T113000
DTSTAMP:20260423T093448
CREATED:20250421T214937Z
LAST-MODIFIED:20260306T195835Z
UID:10002562-1779789600-1779795000@stjohnscc.org
SUMMARY:Memory Cafe Edwardsville
DESCRIPTION:Tuesdays from 10am-11:30am at Edwardsville Library. In-person only.\n \n 
URL:https://stjohnscc.org/event/memory-cafe-at-main-street/2026-05-26/
END:VEVENT
BEGIN:VEVENT
DTSTART;TZID=America/Edmonton:20260602T100000
DTEND;TZID=America/Edmonton:20260602T113000
DTSTAMP:20260423T093448
CREATED:20250421T214937Z
LAST-MODIFIED:20260306T195835Z
UID:10002563-1780394400-1780399800@stjohnscc.org
SUMMARY:Memory Cafe Edwardsville
DESCRIPTION:Tuesdays from 10am-11:30am at Edwardsville Library. In-person only.\n \n 
URL:https://stjohnscc.org/event/memory-cafe-at-main-street/2026-06-02/
END:VEVENT
BEGIN:VEVENT
DTSTART;TZID=America/Edmonton:20260609T100000
DTEND;TZID=America/Edmonton:20260609T113000
DTSTAMP:20260423T093448
CREATED:20250421T214937Z
LAST-MODIFIED:20260306T195835Z
UID:10002564-1780999200-1781004600@stjohnscc.org
SUMMARY:Memory Cafe Edwardsville
DESCRIPTION:Tuesdays from 10am-11:30am at Edwardsville Library. In-person only.\n \n 
URL:https://stjohnscc.org/event/memory-cafe-at-main-street/2026-06-09/
END:VEVENT
BEGIN:VEVENT
DTSTART;TZID=America/Edmonton:20260616T100000
DTEND;TZID=America/Edmonton:20260616T113000
DTSTAMP:20260423T093448
CREATED:20250421T214937Z
LAST-MODIFIED:20260306T195835Z
UID:10002565-1781604000-1781609400@stjohnscc.org
SUMMARY:Memory Cafe Edwardsville
DESCRIPTION:Tuesdays from 10am-11:30am at Edwardsville Library. In-person only.\n \n 
URL:https://stjohnscc.org/event/memory-cafe-at-main-street/2026-06-16/
END:VEVENT
BEGIN:VEVENT
DTSTART;TZID=America/Edmonton:20260623T100000
DTEND;TZID=America/Edmonton:20260623T113000
DTSTAMP:20260423T093448
CREATED:20250421T214937Z
LAST-MODIFIED:20260306T195835Z
UID:10002566-1782208800-1782214200@stjohnscc.org
SUMMARY:Memory Cafe Edwardsville
DESCRIPTION:Tuesdays from 10am-11:30am at Edwardsville Library. In-person only.\n \n 
URL:https://stjohnscc.org/event/memory-cafe-at-main-street/2026-06-23/
END:VEVENT
BEGIN:VEVENT
DTSTART;TZID=America/Edmonton:20260630T100000
DTEND;TZID=America/Edmonton:20260630T113000
DTSTAMP:20260423T093448
CREATED:20250421T214937Z
LAST-MODIFIED:20260306T195835Z
UID:10002567-1782813600-1782819000@stjohnscc.org
SUMMARY:Memory Cafe Edwardsville
DESCRIPTION:Tuesdays from 10am-11:30am at Edwardsville Library. In-person only.\n \n 
URL:https://stjohnscc.org/event/memory-cafe-at-main-street/2026-06-30/
END:VEVENT
BEGIN:VEVENT
DTSTART;TZID=America/Edmonton:20260707T100000
DTEND;TZID=America/Edmonton:20260707T113000
DTSTAMP:20260423T093448
CREATED:20250421T214937Z
LAST-MODIFIED:20260306T195835Z
UID:10002568-1783418400-1783423800@stjohnscc.org
SUMMARY:Memory Cafe Edwardsville
DESCRIPTION:Tuesdays from 10am-11:30am at Edwardsville Library. In-person only.\n \n 
URL:https://stjohnscc.org/event/memory-cafe-at-main-street/2026-07-07/
END:VEVENT
BEGIN:VEVENT
DTSTART;TZID=America/Edmonton:20260714T100000
DTEND;TZID=America/Edmonton:20260714T113000
DTSTAMP:20260423T093448
CREATED:20250421T214937Z
LAST-MODIFIED:20260306T195835Z
UID:10002569-1784023200-1784028600@stjohnscc.org
SUMMARY:Memory Cafe Edwardsville
DESCRIPTION:Tuesdays from 10am-11:30am at Edwardsville Library. In-person only.\n \n 
URL:https://stjohnscc.org/event/memory-cafe-at-main-street/2026-07-14/
END:VEVENT
BEGIN:VEVENT
DTSTART;TZID=America/Edmonton:20260721T100000
DTEND;TZID=America/Edmonton:20260721T113000
DTSTAMP:20260423T093448
CREATED:20250421T214937Z
LAST-MODIFIED:20260306T195835Z
UID:10002570-1784628000-1784633400@stjohnscc.org
SUMMARY:Memory Cafe Edwardsville
DESCRIPTION:Tuesdays from 10am-11:30am at Edwardsville Library. In-person only.\n \n 
URL:https://stjohnscc.org/event/memory-cafe-at-main-street/2026-07-21/
END:VEVENT
BEGIN:VEVENT
DTSTART;TZID=America/Edmonton:20260728T100000
DTEND;TZID=America/Edmonton:20260728T113000
DTSTAMP:20260423T093448
CREATED:20250421T214937Z
LAST-MODIFIED:20260306T195835Z
UID:10002571-1785232800-1785238200@stjohnscc.org
SUMMARY:Memory Cafe Edwardsville
DESCRIPTION:Tuesdays from 10am-11:30am at Edwardsville Library. In-person only.\n \n 
URL:https://stjohnscc.org/event/memory-cafe-at-main-street/2026-07-28/
END:VEVENT
BEGIN:VEVENT
DTSTART;TZID=America/Edmonton:20260804T100000
DTEND;TZID=America/Edmonton:20260804T113000
DTSTAMP:20260423T093448
CREATED:20250421T214937Z
LAST-MODIFIED:20260306T195835Z
UID:10002572-1785837600-1785843000@stjohnscc.org
SUMMARY:Memory Cafe Edwardsville
DESCRIPTION:Tuesdays from 10am-11:30am at Edwardsville Library. In-person only.\n \n 
URL:https://stjohnscc.org/event/memory-cafe-at-main-street/2026-08-04/
END:VEVENT
BEGIN:VEVENT
DTSTART;TZID=America/Edmonton:20260811T100000
DTEND;TZID=America/Edmonton:20260811T113000
DTSTAMP:20260423T093448
CREATED:20250421T214937Z
LAST-MODIFIED:20260306T195835Z
UID:10002573-1786442400-1786447800@stjohnscc.org
SUMMARY:Memory Cafe Edwardsville
DESCRIPTION:Tuesdays from 10am-11:30am at Edwardsville Library. In-person only.\n \n 
URL:https://stjohnscc.org/event/memory-cafe-at-main-street/2026-08-11/
END:VEVENT
BEGIN:VEVENT
DTSTART;TZID=America/Edmonton:20260818T100000
DTEND;TZID=America/Edmonton:20260818T113000
DTSTAMP:20260423T093448
CREATED:20250421T214937Z
LAST-MODIFIED:20260306T195835Z
UID:10002574-1787047200-1787052600@stjohnscc.org
SUMMARY:Memory Cafe Edwardsville
DESCRIPTION:Tuesdays from 10am-11:30am at Edwardsville Library. In-person only.\n \n 
URL:https://stjohnscc.org/event/memory-cafe-at-main-street/2026-08-18/
END:VEVENT
BEGIN:VEVENT
DTSTART;TZID=America/Edmonton:20260825T100000
DTEND;TZID=America/Edmonton:20260825T113000
DTSTAMP:20260423T093448
CREATED:20250421T214937Z
LAST-MODIFIED:20260306T195835Z
UID:10002575-1787652000-1787657400@stjohnscc.org
SUMMARY:Memory Cafe Edwardsville
DESCRIPTION:Tuesdays from 10am-11:30am at Edwardsville Library. In-person only.\n \n 
URL:https://stjohnscc.org/event/memory-cafe-at-main-street/2026-08-25/
END:VEVENT
BEGIN:VEVENT
DTSTART;TZID=America/Edmonton:20260901T100000
DTEND;TZID=America/Edmonton:20260901T113000
DTSTAMP:20260423T093448
CREATED:20250421T214937Z
LAST-MODIFIED:20260306T195835Z
UID:10002576-1788256800-1788262200@stjohnscc.org
SUMMARY:Memory Cafe Edwardsville
DESCRIPTION:Tuesdays from 10am-11:30am at Edwardsville Library. In-person only.\n \n 
URL:https://stjohnscc.org/event/memory-cafe-at-main-street/2026-09-01/
END:VEVENT
BEGIN:VEVENT
DTSTART;TZID=America/Edmonton:20260908T100000
DTEND;TZID=America/Edmonton:20260908T113000
DTSTAMP:20260423T093448
CREATED:20250421T214937Z
LAST-MODIFIED:20260306T195835Z
UID:10002577-1788861600-1788867000@stjohnscc.org
SUMMARY:Memory Cafe Edwardsville
DESCRIPTION:Tuesdays from 10am-11:30am at Edwardsville Library. In-person only.\n \n 
URL:https://stjohnscc.org/event/memory-cafe-at-main-street/2026-09-08/
END:VEVENT
BEGIN:VEVENT
DTSTART;TZID=America/Edmonton:20260915T100000
DTEND;TZID=America/Edmonton:20260915T113000
DTSTAMP:20260423T093448
CREATED:20250421T214937Z
LAST-MODIFIED:20260306T195835Z
UID:10002578-1789466400-1789471800@stjohnscc.org
SUMMARY:Memory Cafe Edwardsville
DESCRIPTION:Tuesdays from 10am-11:30am at Edwardsville Library. In-person only.\n \n 
URL:https://stjohnscc.org/event/memory-cafe-at-main-street/2026-09-15/
END:VEVENT
BEGIN:VEVENT
DTSTART;TZID=America/Edmonton:20260922T100000
DTEND;TZID=America/Edmonton:20260922T113000
DTSTAMP:20260423T093448
CREATED:20250421T214937Z
LAST-MODIFIED:20260306T195835Z
UID:10002579-1790071200-1790076600@stjohnscc.org
SUMMARY:Memory Cafe Edwardsville
DESCRIPTION:Tuesdays from 10am-11:30am at Edwardsville Library. In-person only.\n \n 
URL:https://stjohnscc.org/event/memory-cafe-at-main-street/2026-09-22/
END:VEVENT
BEGIN:VEVENT
DTSTART;TZID=America/Edmonton:20260929T100000
DTEND;TZID=America/Edmonton:20260929T113000
DTSTAMP:20260423T093448
CREATED:20250421T214937Z
LAST-MODIFIED:20260306T195835Z
UID:10002580-1790676000-1790681400@stjohnscc.org
SUMMARY:Memory Cafe Edwardsville
DESCRIPTION:Tuesdays from 10am-11:30am at Edwardsville Library. In-person only.\n \n 
URL:https://stjohnscc.org/event/memory-cafe-at-main-street/2026-09-29/
END:VEVENT
BEGIN:VEVENT
DTSTART;TZID=America/Edmonton:20261006T100000
DTEND;TZID=America/Edmonton:20261006T113000
DTSTAMP:20260423T093448
CREATED:20250421T214937Z
LAST-MODIFIED:20260306T195835Z
UID:10002581-1791280800-1791286200@stjohnscc.org
SUMMARY:Memory Cafe Edwardsville
DESCRIPTION:Tuesdays from 10am-11:30am at Edwardsville Library. In-person only.\n \n 
URL:https://stjohnscc.org/event/memory-cafe-at-main-street/2026-10-06/
END:VEVENT
BEGIN:VEVENT
DTSTART;TZID=America/Edmonton:20261013T100000
DTEND;TZID=America/Edmonton:20261013T113000
DTSTAMP:20260423T093448
CREATED:20250421T214937Z
LAST-MODIFIED:20260306T195835Z
UID:10002582-1791885600-1791891000@stjohnscc.org
SUMMARY:Memory Cafe Edwardsville
DESCRIPTION:Tuesdays from 10am-11:30am at Edwardsville Library. In-person only.\n \n 
URL:https://stjohnscc.org/event/memory-cafe-at-main-street/2026-10-13/
END:VEVENT
BEGIN:VEVENT
DTSTART;TZID=America/Edmonton:20261020T100000
DTEND;TZID=America/Edmonton:20261020T113000
DTSTAMP:20260423T093448
CREATED:20250421T214937Z
LAST-MODIFIED:20260306T195835Z
UID:10002583-1792490400-1792495800@stjohnscc.org
SUMMARY:Memory Cafe Edwardsville
DESCRIPTION:Tuesdays from 10am-11:30am at Edwardsville Library. In-person only.\n \n 
URL:https://stjohnscc.org/event/memory-cafe-at-main-street/2026-10-20/
END:VEVENT
BEGIN:VEVENT
DTSTART;TZID=America/Edmonton:20261027T100000
DTEND;TZID=America/Edmonton:20261027T113000
DTSTAMP:20260423T093448
CREATED:20250421T214937Z
LAST-MODIFIED:20260306T195835Z
UID:10002584-1793095200-1793100600@stjohnscc.org
SUMMARY:Memory Cafe Edwardsville
DESCRIPTION:Tuesdays from 10am-11:30am at Edwardsville Library. In-person only.\n \n 
URL:https://stjohnscc.org/event/memory-cafe-at-main-street/2026-10-27/
END:VEVENT
BEGIN:VEVENT
DTSTART;TZID=America/Edmonton:20261103T100000
DTEND;TZID=America/Edmonton:20261103T113000
DTSTAMP:20260423T093448
CREATED:20250421T214937Z
LAST-MODIFIED:20260306T195835Z
UID:10002585-1793700000-1793705400@stjohnscc.org
SUMMARY:Memory Cafe Edwardsville
DESCRIPTION:Tuesdays from 10am-11:30am at Edwardsville Library. In-person only.\n \n 
URL:https://stjohnscc.org/event/memory-cafe-at-main-street/2026-11-03/
END:VEVENT
BEGIN:VEVENT
DTSTART;TZID=America/Edmonton:20261110T100000
DTEND;TZID=America/Edmonton:20261110T113000
DTSTAMP:20260423T093448
CREATED:20250421T214937Z
LAST-MODIFIED:20260306T195835Z
UID:10002586-1794304800-1794310200@stjohnscc.org
SUMMARY:Memory Cafe Edwardsville
DESCRIPTION:Tuesdays from 10am-11:30am at Edwardsville Library. In-person only.\n \n 
URL:https://stjohnscc.org/event/memory-cafe-at-main-street/2026-11-10/
END:VEVENT
BEGIN:VEVENT
DTSTART;TZID=America/Edmonton:20261117T100000
DTEND;TZID=America/Edmonton:20261117T113000
DTSTAMP:20260423T093448
CREATED:20250421T214937Z
LAST-MODIFIED:20260306T195835Z
UID:10002587-1794909600-1794915000@stjohnscc.org
SUMMARY:Memory Cafe Edwardsville
DESCRIPTION:Tuesdays from 10am-11:30am at Edwardsville Library. In-person only.\n \n 
URL:https://stjohnscc.org/event/memory-cafe-at-main-street/2026-11-17/
END:VEVENT
END:VCALENDAR