BEGIN:VCALENDAR
VERSION:2.0
PRODID:-//St. John’s Community Care - ECPv6.15.20//NONSGML v1.0//EN
CALSCALE:GREGORIAN
METHOD:PUBLISH
X-ORIGINAL-URL:https://stjohnscc.org
X-WR-CALDESC:Events for St. John’s Community Care
REFRESH-INTERVAL;VALUE=DURATION:PT1H
X-Robots-Tag:noindex
X-PUBLISHED-TTL:PT1H
BEGIN:VTIMEZONE
TZID:America/Edmonton
BEGIN:DAYLIGHT
TZOFFSETFROM:-0700
TZOFFSETTO:-0600
TZNAME:MDT
DTSTART:20290311T090000
END:DAYLIGHT
BEGIN:STANDARD
TZOFFSETFROM:-0600
TZOFFSETTO:-0700
TZNAME:MST
DTSTART:20291104T080000
END:STANDARD
BEGIN:DAYLIGHT
TZOFFSETFROM:-0700
TZOFFSETTO:-0600
TZNAME:MDT
DTSTART:20300310T090000
END:DAYLIGHT
BEGIN:STANDARD
TZOFFSETFROM:-0600
TZOFFSETTO:-0700
TZNAME:MST
DTSTART:20301103T080000
END:STANDARD
BEGIN:DAYLIGHT
TZOFFSETFROM:-0700
TZOFFSETTO:-0600
TZNAME:MDT
DTSTART:20310309T090000
END:DAYLIGHT
BEGIN:STANDARD
TZOFFSETFROM:-0600
TZOFFSETTO:-0700
TZNAME:MST
DTSTART:20311102T080000
END:STANDARD
BEGIN:DAYLIGHT
TZOFFSETFROM:-0700
TZOFFSETTO:-0600
TZNAME:MDT
DTSTART:20320314T090000
END:DAYLIGHT
BEGIN:STANDARD
TZOFFSETFROM:-0600
TZOFFSETTO:-0700
TZNAME:MST
DTSTART:20321107T080000
END:STANDARD
END:VTIMEZONE
BEGIN:VEVENT
DTSTART;TZID=America/Edmonton:20300930T090000
DTEND;TZID=America/Edmonton:20300930T103000
DTSTAMP:20260425T174256
CREATED:20240823T214550Z
LAST-MODIFIED:20251004T161842Z
UID:10002199-1916989200-1916994600@stjohnscc.org
SUMMARY:Caregiver Coffee Talk
DESCRIPTION:Every Monday\n9 am – 10:30 am \nEvery Friday\n10 am – 11:30 am \nAll caregivers are welcome. \nCoffee talk is for Caregivers to come together offering information\, resources\, and strategies specifically for caring for someone who may be disabled or have other health related concerns. \nCome together to share space and life experiences over a nice hot cup of coffee on St. John’s Community Care.
URL:https://stjohnscc.org/event/coffee-talk/2030-09-30/
END:VEVENT
BEGIN:VEVENT
DTSTART;TZID=America/Edmonton:20301001T100000
DTEND;TZID=America/Edmonton:20301001T113000
DTSTAMP:20260425T174256
CREATED:20250421T214937Z
LAST-MODIFIED:20260306T195835Z
UID:10002789-1917079200-1917084600@stjohnscc.org
SUMMARY:Memory Cafe Edwardsville
DESCRIPTION:Tuesdays from 10am-11:30am at Edwardsville Library. In-person only.\n \n 
URL:https://stjohnscc.org/event/memory-cafe-at-main-street/2030-10-01/
END:VEVENT
BEGIN:VEVENT
DTSTART;TZID=America/Edmonton:20301008T100000
DTEND;TZID=America/Edmonton:20301008T113000
DTSTAMP:20260425T174256
CREATED:20250421T214937Z
LAST-MODIFIED:20260306T195835Z
UID:10002790-1917684000-1917689400@stjohnscc.org
SUMMARY:Memory Cafe Edwardsville
DESCRIPTION:Tuesdays from 10am-11:30am at Edwardsville Library. In-person only.\n \n 
URL:https://stjohnscc.org/event/memory-cafe-at-main-street/2030-10-08/
END:VEVENT
BEGIN:VEVENT
DTSTART;TZID=America/Edmonton:20301008T133000
DTEND;TZID=America/Edmonton:20301008T150000
DTSTAMP:20260425T174256
CREATED:20260306T175347Z
LAST-MODIFIED:20260306T175348Z
UID:10002498-1917696600-1917702000@stjohnscc.org
SUMMARY:Alzheimer's Support Group
DESCRIPTION:
URL:https://stjohnscc.org/event/alzheimers-support-group-2-2-2/2030-10-08/
END:VEVENT
BEGIN:VEVENT
DTSTART;TZID=America/Edmonton:20301015T100000
DTEND;TZID=America/Edmonton:20301015T113000
DTSTAMP:20260425T174256
CREATED:20250421T214937Z
LAST-MODIFIED:20260306T195835Z
UID:10002791-1918288800-1918294200@stjohnscc.org
SUMMARY:Memory Cafe Edwardsville
DESCRIPTION:Tuesdays from 10am-11:30am at Edwardsville Library. In-person only.\n \n 
URL:https://stjohnscc.org/event/memory-cafe-at-main-street/2030-10-15/
END:VEVENT
BEGIN:VEVENT
DTSTART;TZID=America/Edmonton:20301022T100000
DTEND;TZID=America/Edmonton:20301022T113000
DTSTAMP:20260425T174256
CREATED:20250421T214937Z
LAST-MODIFIED:20260306T195835Z
UID:10002792-1918893600-1918899000@stjohnscc.org
SUMMARY:Memory Cafe Edwardsville
DESCRIPTION:Tuesdays from 10am-11:30am at Edwardsville Library. In-person only.\n \n 
URL:https://stjohnscc.org/event/memory-cafe-at-main-street/2030-10-22/
END:VEVENT
BEGIN:VEVENT
DTSTART;TZID=America/Edmonton:20301029T100000
DTEND;TZID=America/Edmonton:20301029T113000
DTSTAMP:20260425T174256
CREATED:20250421T214937Z
LAST-MODIFIED:20260306T195835Z
UID:10002793-1919498400-1919503800@stjohnscc.org
SUMMARY:Memory Cafe Edwardsville
DESCRIPTION:Tuesdays from 10am-11:30am at Edwardsville Library. In-person only.\n \n 
URL:https://stjohnscc.org/event/memory-cafe-at-main-street/2030-10-29/
END:VEVENT
BEGIN:VEVENT
DTSTART;TZID=America/Edmonton:20301105T100000
DTEND;TZID=America/Edmonton:20301105T113000
DTSTAMP:20260425T174256
CREATED:20250421T214937Z
LAST-MODIFIED:20260306T195835Z
UID:10002794-1920103200-1920108600@stjohnscc.org
SUMMARY:Memory Cafe Edwardsville
DESCRIPTION:Tuesdays from 10am-11:30am at Edwardsville Library. In-person only.\n \n 
URL:https://stjohnscc.org/event/memory-cafe-at-main-street/2030-11-05/
END:VEVENT
BEGIN:VEVENT
DTSTART;TZID=America/Edmonton:20301112T100000
DTEND;TZID=America/Edmonton:20301112T113000
DTSTAMP:20260425T174256
CREATED:20250421T214937Z
LAST-MODIFIED:20260306T195835Z
UID:10002795-1920708000-1920713400@stjohnscc.org
SUMMARY:Memory Cafe Edwardsville
DESCRIPTION:Tuesdays from 10am-11:30am at Edwardsville Library. In-person only.\n \n 
URL:https://stjohnscc.org/event/memory-cafe-at-main-street/2030-11-12/
END:VEVENT
BEGIN:VEVENT
DTSTART;TZID=America/Edmonton:20301112T133000
DTEND;TZID=America/Edmonton:20301112T150000
DTSTAMP:20260425T174256
CREATED:20260306T175347Z
LAST-MODIFIED:20260306T175348Z
UID:10002499-1920720600-1920726000@stjohnscc.org
SUMMARY:Alzheimer's Support Group
DESCRIPTION:
URL:https://stjohnscc.org/event/alzheimers-support-group-2-2-2/2030-11-12/
END:VEVENT
BEGIN:VEVENT
DTSTART;TZID=America/Edmonton:20301119T100000
DTEND;TZID=America/Edmonton:20301119T113000
DTSTAMP:20260425T174256
CREATED:20250421T214937Z
LAST-MODIFIED:20260306T195835Z
UID:10002796-1921312800-1921318200@stjohnscc.org
SUMMARY:Memory Cafe Edwardsville
DESCRIPTION:Tuesdays from 10am-11:30am at Edwardsville Library. In-person only.\n \n 
URL:https://stjohnscc.org/event/memory-cafe-at-main-street/2030-11-19/
END:VEVENT
BEGIN:VEVENT
DTSTART;TZID=America/Edmonton:20301126T100000
DTEND;TZID=America/Edmonton:20301126T113000
DTSTAMP:20260425T174256
CREATED:20250421T214937Z
LAST-MODIFIED:20260306T195835Z
UID:10002797-1921917600-1921923000@stjohnscc.org
SUMMARY:Memory Cafe Edwardsville
DESCRIPTION:Tuesdays from 10am-11:30am at Edwardsville Library. In-person only.\n \n 
URL:https://stjohnscc.org/event/memory-cafe-at-main-street/2030-11-26/
END:VEVENT
BEGIN:VEVENT
DTSTART;TZID=America/Edmonton:20301203T100000
DTEND;TZID=America/Edmonton:20301203T113000
DTSTAMP:20260425T174256
CREATED:20250421T214937Z
LAST-MODIFIED:20260306T195835Z
UID:10002798-1922522400-1922527800@stjohnscc.org
SUMMARY:Memory Cafe Edwardsville
DESCRIPTION:Tuesdays from 10am-11:30am at Edwardsville Library. In-person only.\n \n 
URL:https://stjohnscc.org/event/memory-cafe-at-main-street/2030-12-03/
END:VEVENT
BEGIN:VEVENT
DTSTART;TZID=America/Edmonton:20301210T100000
DTEND;TZID=America/Edmonton:20301210T113000
DTSTAMP:20260425T174256
CREATED:20250421T214937Z
LAST-MODIFIED:20260306T195835Z
UID:10002799-1923127200-1923132600@stjohnscc.org
SUMMARY:Memory Cafe Edwardsville
DESCRIPTION:Tuesdays from 10am-11:30am at Edwardsville Library. In-person only.\n \n 
URL:https://stjohnscc.org/event/memory-cafe-at-main-street/2030-12-10/
END:VEVENT
BEGIN:VEVENT
DTSTART;TZID=America/Edmonton:20301210T133000
DTEND;TZID=America/Edmonton:20301210T150000
DTSTAMP:20260425T174256
CREATED:20260306T175347Z
LAST-MODIFIED:20260306T175348Z
UID:10002500-1923139800-1923145200@stjohnscc.org
SUMMARY:Alzheimer's Support Group
DESCRIPTION:
URL:https://stjohnscc.org/event/alzheimers-support-group-2-2-2/2030-12-10/
END:VEVENT
BEGIN:VEVENT
DTSTART;TZID=America/Edmonton:20301217T100000
DTEND;TZID=America/Edmonton:20301217T113000
DTSTAMP:20260425T174256
CREATED:20250421T214937Z
LAST-MODIFIED:20260306T195835Z
UID:10002800-1923732000-1923737400@stjohnscc.org
SUMMARY:Memory Cafe Edwardsville
DESCRIPTION:Tuesdays from 10am-11:30am at Edwardsville Library. In-person only.\n \n 
URL:https://stjohnscc.org/event/memory-cafe-at-main-street/2030-12-17/
END:VEVENT
BEGIN:VEVENT
DTSTART;TZID=America/Edmonton:20301224T100000
DTEND;TZID=America/Edmonton:20301224T113000
DTSTAMP:20260425T174256
CREATED:20250421T214937Z
LAST-MODIFIED:20260306T195835Z
UID:10002801-1924336800-1924342200@stjohnscc.org
SUMMARY:Memory Cafe Edwardsville
DESCRIPTION:Tuesdays from 10am-11:30am at Edwardsville Library. In-person only.\n \n 
URL:https://stjohnscc.org/event/memory-cafe-at-main-street/2030-12-24/
END:VEVENT
BEGIN:VEVENT
DTSTART;TZID=America/Edmonton:20301231T100000
DTEND;TZID=America/Edmonton:20301231T113000
DTSTAMP:20260425T174256
CREATED:20250421T214937Z
LAST-MODIFIED:20260306T195835Z
UID:10002802-1924941600-1924947000@stjohnscc.org
SUMMARY:Memory Cafe Edwardsville
DESCRIPTION:Tuesdays from 10am-11:30am at Edwardsville Library. In-person only.\n \n 
URL:https://stjohnscc.org/event/memory-cafe-at-main-street/2030-12-31/
END:VEVENT
BEGIN:VEVENT
DTSTART;TZID=America/Edmonton:20310107T100000
DTEND;TZID=America/Edmonton:20310107T113000
DTSTAMP:20260425T174256
CREATED:20250421T214937Z
LAST-MODIFIED:20260306T195835Z
UID:10002803-1925546400-1925551800@stjohnscc.org
SUMMARY:Memory Cafe Edwardsville
DESCRIPTION:Tuesdays from 10am-11:30am at Edwardsville Library. In-person only.\n \n 
URL:https://stjohnscc.org/event/memory-cafe-at-main-street/2031-01-07/
END:VEVENT
BEGIN:VEVENT
DTSTART;TZID=America/Edmonton:20310114T100000
DTEND;TZID=America/Edmonton:20310114T113000
DTSTAMP:20260425T174256
CREATED:20250421T214937Z
LAST-MODIFIED:20260306T195835Z
UID:10002804-1926151200-1926156600@stjohnscc.org
SUMMARY:Memory Cafe Edwardsville
DESCRIPTION:Tuesdays from 10am-11:30am at Edwardsville Library. In-person only.\n \n 
URL:https://stjohnscc.org/event/memory-cafe-at-main-street/2031-01-14/
END:VEVENT
BEGIN:VEVENT
DTSTART;TZID=America/Edmonton:20310114T133000
DTEND;TZID=America/Edmonton:20310114T150000
DTSTAMP:20260425T174256
CREATED:20260306T175347Z
LAST-MODIFIED:20260306T175348Z
UID:10002501-1926163800-1926169200@stjohnscc.org
SUMMARY:Alzheimer's Support Group
DESCRIPTION:
URL:https://stjohnscc.org/event/alzheimers-support-group-2-2-2/2031-01-14/
END:VEVENT
BEGIN:VEVENT
DTSTART;TZID=America/Edmonton:20310121T100000
DTEND;TZID=America/Edmonton:20310121T113000
DTSTAMP:20260425T174256
CREATED:20250421T214937Z
LAST-MODIFIED:20260306T195835Z
UID:10002805-1926756000-1926761400@stjohnscc.org
SUMMARY:Memory Cafe Edwardsville
DESCRIPTION:Tuesdays from 10am-11:30am at Edwardsville Library. In-person only.\n \n 
URL:https://stjohnscc.org/event/memory-cafe-at-main-street/2031-01-21/
END:VEVENT
BEGIN:VEVENT
DTSTART;TZID=America/Edmonton:20310128T100000
DTEND;TZID=America/Edmonton:20310128T113000
DTSTAMP:20260425T174256
CREATED:20250421T214937Z
LAST-MODIFIED:20260306T195835Z
UID:10002806-1927360800-1927366200@stjohnscc.org
SUMMARY:Memory Cafe Edwardsville
DESCRIPTION:Tuesdays from 10am-11:30am at Edwardsville Library. In-person only.\n \n 
URL:https://stjohnscc.org/event/memory-cafe-at-main-street/2031-01-28/
END:VEVENT
BEGIN:VEVENT
DTSTART;TZID=America/Edmonton:20310204T100000
DTEND;TZID=America/Edmonton:20310204T113000
DTSTAMP:20260425T174256
CREATED:20250421T214937Z
LAST-MODIFIED:20260306T195835Z
UID:10002807-1927965600-1927971000@stjohnscc.org
SUMMARY:Memory Cafe Edwardsville
DESCRIPTION:Tuesdays from 10am-11:30am at Edwardsville Library. In-person only.\n \n 
URL:https://stjohnscc.org/event/memory-cafe-at-main-street/2031-02-04/
END:VEVENT
BEGIN:VEVENT
DTSTART;TZID=America/Edmonton:20310211T100000
DTEND;TZID=America/Edmonton:20310211T113000
DTSTAMP:20260425T174256
CREATED:20250421T214937Z
LAST-MODIFIED:20260306T195835Z
UID:10002808-1928570400-1928575800@stjohnscc.org
SUMMARY:Memory Cafe Edwardsville
DESCRIPTION:Tuesdays from 10am-11:30am at Edwardsville Library. In-person only.\n \n 
URL:https://stjohnscc.org/event/memory-cafe-at-main-street/2031-02-11/
END:VEVENT
BEGIN:VEVENT
DTSTART;TZID=America/Edmonton:20310211T133000
DTEND;TZID=America/Edmonton:20310211T150000
DTSTAMP:20260425T174256
CREATED:20260306T175347Z
LAST-MODIFIED:20260306T175348Z
UID:10002502-1928583000-1928588400@stjohnscc.org
SUMMARY:Alzheimer's Support Group
DESCRIPTION:
URL:https://stjohnscc.org/event/alzheimers-support-group-2-2-2/2031-02-11/
END:VEVENT
BEGIN:VEVENT
DTSTART;TZID=America/Edmonton:20310218T100000
DTEND;TZID=America/Edmonton:20310218T113000
DTSTAMP:20260425T174256
CREATED:20250421T214937Z
LAST-MODIFIED:20260306T195835Z
UID:10002809-1929175200-1929180600@stjohnscc.org
SUMMARY:Memory Cafe Edwardsville
DESCRIPTION:Tuesdays from 10am-11:30am at Edwardsville Library. In-person only.\n \n 
URL:https://stjohnscc.org/event/memory-cafe-at-main-street/2031-02-18/
END:VEVENT
BEGIN:VEVENT
DTSTART;TZID=America/Edmonton:20310225T100000
DTEND;TZID=America/Edmonton:20310225T113000
DTSTAMP:20260425T174256
CREATED:20250421T214937Z
LAST-MODIFIED:20260306T195835Z
UID:10002810-1929780000-1929785400@stjohnscc.org
SUMMARY:Memory Cafe Edwardsville
DESCRIPTION:Tuesdays from 10am-11:30am at Edwardsville Library. In-person only.\n \n 
URL:https://stjohnscc.org/event/memory-cafe-at-main-street/2031-02-25/
END:VEVENT
BEGIN:VEVENT
DTSTART;TZID=America/Edmonton:20310304T100000
DTEND;TZID=America/Edmonton:20310304T113000
DTSTAMP:20260425T174256
CREATED:20250421T214937Z
LAST-MODIFIED:20260306T195835Z
UID:10002811-1930384800-1930390200@stjohnscc.org
SUMMARY:Memory Cafe Edwardsville
DESCRIPTION:Tuesdays from 10am-11:30am at Edwardsville Library. In-person only.\n \n 
URL:https://stjohnscc.org/event/memory-cafe-at-main-street/2031-03-04/
END:VEVENT
END:VCALENDAR