BEGIN:VCALENDAR
VERSION:2.0
PRODID:-//St. John’s Community Care - ECPv6.15.20//NONSGML v1.0//EN
CALSCALE:GREGORIAN
METHOD:PUBLISH
X-ORIGINAL-URL:https://stjohnscc.org
X-WR-CALDESC:Events for St. John’s Community Care
REFRESH-INTERVAL;VALUE=DURATION:PT1H
X-Robots-Tag:noindex
X-PUBLISHED-TTL:PT1H
BEGIN:VTIMEZONE
TZID:America/Edmonton
BEGIN:DAYLIGHT
TZOFFSETFROM:-0700
TZOFFSETTO:-0600
TZNAME:MDT
DTSTART:20290311T090000
END:DAYLIGHT
BEGIN:STANDARD
TZOFFSETFROM:-0600
TZOFFSETTO:-0700
TZNAME:MST
DTSTART:20291104T080000
END:STANDARD
BEGIN:DAYLIGHT
TZOFFSETFROM:-0700
TZOFFSETTO:-0600
TZNAME:MDT
DTSTART:20300310T090000
END:DAYLIGHT
BEGIN:STANDARD
TZOFFSETFROM:-0600
TZOFFSETTO:-0700
TZNAME:MST
DTSTART:20301103T080000
END:STANDARD
BEGIN:DAYLIGHT
TZOFFSETFROM:-0700
TZOFFSETTO:-0600
TZNAME:MDT
DTSTART:20310309T090000
END:DAYLIGHT
BEGIN:STANDARD
TZOFFSETFROM:-0600
TZOFFSETTO:-0700
TZNAME:MST
DTSTART:20311102T080000
END:STANDARD
END:VTIMEZONE
BEGIN:VEVENT
DTSTART;TZID=America/Edmonton:20300222T100000
DTEND;TZID=America/Edmonton:20300222T113000
DTSTAMP:20260425T103515
CREATED:20240823T214659Z
LAST-MODIFIED:20250307T232054Z
UID:10001107-1897984800-1897990200@stjohnscc.org
SUMMARY:Caregiver Coffee Talk
DESCRIPTION:Every Monday\n9 am – 10:30 am \nEvery Friday\n10 am – 11:30 am \n\nAll caregivers are welcome. \nCoffee talk is for Caregivers to come together offering information\, resources\, and strategies specifically for caring for someone who may be disabled or have other health related concerns. \nCome together to share space and life experiences over a nice hot cup of coffee on St. John’s Community Care.
URL:https://stjohnscc.org/event/coffee-talk-2/2030-02-22/
END:VEVENT
BEGIN:VEVENT
DTSTART;TZID=America/Edmonton:20300225T090000
DTEND;TZID=America/Edmonton:20300225T103000
DTSTAMP:20260425T103515
CREATED:20240823T214550Z
LAST-MODIFIED:20251004T161842Z
UID:10001141-1898240400-1898245800@stjohnscc.org
SUMMARY:Caregiver Coffee Talk
DESCRIPTION:Every Monday\n9 am – 10:30 am \nEvery Friday\n10 am – 11:30 am \nAll caregivers are welcome. \nCoffee talk is for Caregivers to come together offering information\, resources\, and strategies specifically for caring for someone who may be disabled or have other health related concerns. \nCome together to share space and life experiences over a nice hot cup of coffee on St. John’s Community Care.
URL:https://stjohnscc.org/event/coffee-talk/2030-02-25/
END:VEVENT
BEGIN:VEVENT
DTSTART;TZID=America/Edmonton:20300226T100000
DTEND;TZID=America/Edmonton:20300226T113000
DTSTAMP:20260425T103515
CREATED:20250421T214937Z
LAST-MODIFIED:20260306T195835Z
UID:10002758-1898330400-1898335800@stjohnscc.org
SUMMARY:Memory Cafe Edwardsville
DESCRIPTION:Tuesdays from 10am-11:30am at Edwardsville Library. In-person only.\n \n 
URL:https://stjohnscc.org/event/memory-cafe-at-main-street/2030-02-26/
END:VEVENT
BEGIN:VEVENT
DTSTART;TZID=America/Edmonton:20300227T133000
DTEND;TZID=America/Edmonton:20300227T143000
DTSTAMP:20260425T103515
CREATED:20250515T160600Z
LAST-MODIFIED:20250515T160600Z
UID:10001848-1898429400-1898433000@stjohnscc.org
SUMMARY:Memory Cafe
DESCRIPTION:
URL:https://stjohnscc.org/event/memory-cafe/2030-02-27/
END:VEVENT
BEGIN:VEVENT
DTSTART;TZID=America/Edmonton:20300227T180000
DTEND;TZID=America/Edmonton:20300227T193000
DTSTAMP:20260425T103515
CREATED:20250611T154819Z
LAST-MODIFIED:20250611T155148Z
UID:10001917-1898445600-1898451000@stjohnscc.org
SUMMARY:Evening Zoom Group
DESCRIPTION:
URL:https://stjohnscc.org/event/evening-zoom-group-copy-2/2030-02-27/
END:VEVENT
BEGIN:VEVENT
DTSTART;TZID=America/Edmonton:20300301T100000
DTEND;TZID=America/Edmonton:20300301T113000
DTSTAMP:20260425T103515
CREATED:20240823T214659Z
LAST-MODIFIED:20250307T232054Z
UID:10001108-1898589600-1898595000@stjohnscc.org
SUMMARY:Caregiver Coffee Talk
DESCRIPTION:Every Monday\n9 am – 10:30 am \nEvery Friday\n10 am – 11:30 am \n\nAll caregivers are welcome. \nCoffee talk is for Caregivers to come together offering information\, resources\, and strategies specifically for caring for someone who may be disabled or have other health related concerns. \nCome together to share space and life experiences over a nice hot cup of coffee on St. John’s Community Care.
URL:https://stjohnscc.org/event/coffee-talk-2/2030-03-01/
END:VEVENT
BEGIN:VEVENT
DTSTART;TZID=America/Edmonton:20300304T090000
DTEND;TZID=America/Edmonton:20300304T103000
DTSTAMP:20260425T103515
CREATED:20240823T214550Z
LAST-MODIFIED:20251004T161842Z
UID:10001142-1898845200-1898850600@stjohnscc.org
SUMMARY:Caregiver Coffee Talk
DESCRIPTION:Every Monday\n9 am – 10:30 am \nEvery Friday\n10 am – 11:30 am \nAll caregivers are welcome. \nCoffee talk is for Caregivers to come together offering information\, resources\, and strategies specifically for caring for someone who may be disabled or have other health related concerns. \nCome together to share space and life experiences over a nice hot cup of coffee on St. John’s Community Care.
URL:https://stjohnscc.org/event/coffee-talk/2030-03-04/
END:VEVENT
BEGIN:VEVENT
DTSTART;TZID=America/Edmonton:20300304T130000
DTEND;TZID=America/Edmonton:20300304T143000
DTSTAMP:20260425T103515
CREATED:20251004T162312Z
LAST-MODIFIED:20251004T162312Z
UID:10002253-1898859600-1898865000@stjohnscc.org
SUMMARY:Alzheimer's Support Group Monday
DESCRIPTION:NOW OFFERING \nFirst and third Monday\, 1:00–2:30 p.m.\nGlen Carbon Senior Center\,\n157 N. Main\, Glen Carbon
URL:https://stjohnscc.org/event/alzheimers-support-group-monday/2030-03-04/
END:VEVENT
BEGIN:VEVENT
DTSTART;TZID=America/Edmonton:20300305T100000
DTEND;TZID=America/Edmonton:20300305T113000
DTSTAMP:20260425T103515
CREATED:20250421T214937Z
LAST-MODIFIED:20260306T195835Z
UID:10002759-1898935200-1898940600@stjohnscc.org
SUMMARY:Memory Cafe Edwardsville
DESCRIPTION:Tuesdays from 10am-11:30am at Edwardsville Library. In-person only.\n \n 
URL:https://stjohnscc.org/event/memory-cafe-at-main-street/2030-03-05/
END:VEVENT
BEGIN:VEVENT
DTSTART;TZID=America/Edmonton:20300306T133000
DTEND;TZID=America/Edmonton:20300306T143000
DTSTAMP:20260425T103515
CREATED:20250515T160600Z
LAST-MODIFIED:20250515T160600Z
UID:10001849-1899034200-1899037800@stjohnscc.org
SUMMARY:Memory Cafe
DESCRIPTION:
URL:https://stjohnscc.org/event/memory-cafe/2030-03-06/
END:VEVENT
BEGIN:VEVENT
DTSTART;TZID=America/Edmonton:20300311T090000
DTEND;TZID=America/Edmonton:20300311T103000
DTSTAMP:20260425T103515
CREATED:20240823T214550Z
LAST-MODIFIED:20251004T161842Z
UID:10002170-1899450000-1899455400@stjohnscc.org
SUMMARY:Caregiver Coffee Talk
DESCRIPTION:Every Monday\n9 am – 10:30 am \nEvery Friday\n10 am – 11:30 am \nAll caregivers are welcome. \nCoffee talk is for Caregivers to come together offering information\, resources\, and strategies specifically for caring for someone who may be disabled or have other health related concerns. \nCome together to share space and life experiences over a nice hot cup of coffee on St. John’s Community Care.
URL:https://stjohnscc.org/event/coffee-talk/2030-03-11/
END:VEVENT
BEGIN:VEVENT
DTSTART;TZID=America/Edmonton:20300312T100000
DTEND;TZID=America/Edmonton:20300312T113000
DTSTAMP:20260425T103515
CREATED:20250421T214937Z
LAST-MODIFIED:20260306T195835Z
UID:10002760-1899540000-1899545400@stjohnscc.org
SUMMARY:Memory Cafe Edwardsville
DESCRIPTION:Tuesdays from 10am-11:30am at Edwardsville Library. In-person only.\n \n 
URL:https://stjohnscc.org/event/memory-cafe-at-main-street/2030-03-12/
END:VEVENT
BEGIN:VEVENT
DTSTART;TZID=America/Edmonton:20300312T133000
DTEND;TZID=America/Edmonton:20300312T150000
DTSTAMP:20260425T103516
CREATED:20260306T175347Z
LAST-MODIFIED:20260306T175348Z
UID:10002491-1899552600-1899558000@stjohnscc.org
SUMMARY:Alzheimer's Support Group
DESCRIPTION:
URL:https://stjohnscc.org/event/alzheimers-support-group-2-2-2/2030-03-12/
END:VEVENT
BEGIN:VEVENT
DTSTART;TZID=America/Edmonton:20300313T133000
DTEND;TZID=America/Edmonton:20300313T143000
DTSTAMP:20260425T103516
CREATED:20250515T160600Z
LAST-MODIFIED:20250515T160600Z
UID:10001850-1899639000-1899642600@stjohnscc.org
SUMMARY:Memory Cafe
DESCRIPTION:
URL:https://stjohnscc.org/event/memory-cafe/2030-03-13/
END:VEVENT
BEGIN:VEVENT
DTSTART;TZID=America/Edmonton:20300313T180000
DTEND;TZID=America/Edmonton:20300313T193000
DTSTAMP:20260425T103516
CREATED:20250611T155121Z
LAST-MODIFIED:20250611T155121Z
UID:10001536-1899655200-1899660600@stjohnscc.org
SUMMARY:Evening Zoom Group
DESCRIPTION: 
URL:https://stjohnscc.org/event/evening-zoom-group-wednesday-2/2030-03-13/
END:VEVENT
BEGIN:VEVENT
DTSTART;TZID=America/Edmonton:20300314T103000
DTEND;TZID=America/Edmonton:20300314T113000
DTSTAMP:20260425T103516
CREATED:20251004T162548Z
LAST-MODIFIED:20251006T161823Z
UID:10002373-1899714600-1899718200@stjohnscc.org
SUMMARY:Alzheimer's Support Group Thursday
DESCRIPTION:NOW OFFERING \nSecond Thursday of every month\, 10:30–11:30 a.m.\nEdwardsville YMCA\,\n1200 Esic Drive\, Edwardsville
URL:https://stjohnscc.org/event/alzheimers-support-group-thursday/2030-03-14/
END:VEVENT
BEGIN:VEVENT
DTSTART;TZID=America/Edmonton:20300318T090000
DTEND;TZID=America/Edmonton:20300318T103000
DTSTAMP:20260425T103516
CREATED:20240823T214550Z
LAST-MODIFIED:20251004T161842Z
UID:10002171-1900054800-1900060200@stjohnscc.org
SUMMARY:Caregiver Coffee Talk
DESCRIPTION:Every Monday\n9 am – 10:30 am \nEvery Friday\n10 am – 11:30 am \nAll caregivers are welcome. \nCoffee talk is for Caregivers to come together offering information\, resources\, and strategies specifically for caring for someone who may be disabled or have other health related concerns. \nCome together to share space and life experiences over a nice hot cup of coffee on St. John’s Community Care.
URL:https://stjohnscc.org/event/coffee-talk/2030-03-18/
END:VEVENT
BEGIN:VEVENT
DTSTART;TZID=America/Edmonton:20300318T130000
DTEND;TZID=America/Edmonton:20300318T143000
DTSTAMP:20260425T103516
CREATED:20251004T162416Z
LAST-MODIFIED:20251004T162416Z
UID:10002313-1900069200-1900074600@stjohnscc.org
SUMMARY:Alzheimer's Support Group 3rd Monday
DESCRIPTION:NOW OFFERING \nFirst and third Monday\, 1:00–2:30 p.m.\nGlen Carbon Senior Center\,\n157 N. Main\, Glen Carbon
URL:https://stjohnscc.org/event/alzheimers-support-group-3rd-monday/2030-03-18/
END:VEVENT
BEGIN:VEVENT
DTSTART;TZID=America/Edmonton:20300319T100000
DTEND;TZID=America/Edmonton:20300319T113000
DTSTAMP:20260425T103516
CREATED:20250421T214937Z
LAST-MODIFIED:20260306T195835Z
UID:10002761-1900144800-1900150200@stjohnscc.org
SUMMARY:Memory Cafe Edwardsville
DESCRIPTION:Tuesdays from 10am-11:30am at Edwardsville Library. In-person only.\n \n 
URL:https://stjohnscc.org/event/memory-cafe-at-main-street/2030-03-19/
END:VEVENT
BEGIN:VEVENT
DTSTART;TZID=America/Edmonton:20300320T133000
DTEND;TZID=America/Edmonton:20300320T143000
DTSTAMP:20260425T103516
CREATED:20250515T160600Z
LAST-MODIFIED:20250515T160600Z
UID:10001851-1900243800-1900247400@stjohnscc.org
SUMMARY:Memory Cafe
DESCRIPTION:
URL:https://stjohnscc.org/event/memory-cafe/2030-03-20/
END:VEVENT
BEGIN:VEVENT
DTSTART;TZID=America/Edmonton:20300325T090000
DTEND;TZID=America/Edmonton:20300325T103000
DTSTAMP:20260425T103516
CREATED:20240823T214550Z
LAST-MODIFIED:20251004T161842Z
UID:10002172-1900659600-1900665000@stjohnscc.org
SUMMARY:Caregiver Coffee Talk
DESCRIPTION:Every Monday\n9 am – 10:30 am \nEvery Friday\n10 am – 11:30 am \nAll caregivers are welcome. \nCoffee talk is for Caregivers to come together offering information\, resources\, and strategies specifically for caring for someone who may be disabled or have other health related concerns. \nCome together to share space and life experiences over a nice hot cup of coffee on St. John’s Community Care.
URL:https://stjohnscc.org/event/coffee-talk/2030-03-25/
END:VEVENT
BEGIN:VEVENT
DTSTART;TZID=America/Edmonton:20300326T100000
DTEND;TZID=America/Edmonton:20300326T113000
DTSTAMP:20260425T103516
CREATED:20250421T214937Z
LAST-MODIFIED:20260306T195835Z
UID:10002762-1900749600-1900755000@stjohnscc.org
SUMMARY:Memory Cafe Edwardsville
DESCRIPTION:Tuesdays from 10am-11:30am at Edwardsville Library. In-person only.\n \n 
URL:https://stjohnscc.org/event/memory-cafe-at-main-street/2030-03-26/
END:VEVENT
BEGIN:VEVENT
DTSTART;TZID=America/Edmonton:20300327T133000
DTEND;TZID=America/Edmonton:20300327T143000
DTSTAMP:20260425T103516
CREATED:20250515T160600Z
LAST-MODIFIED:20250515T160600Z
UID:10001852-1900848600-1900852200@stjohnscc.org
SUMMARY:Memory Cafe
DESCRIPTION:
URL:https://stjohnscc.org/event/memory-cafe/2030-03-27/
END:VEVENT
BEGIN:VEVENT
DTSTART;TZID=America/Edmonton:20300327T180000
DTEND;TZID=America/Edmonton:20300327T193000
DTSTAMP:20260425T103516
CREATED:20250611T154819Z
LAST-MODIFIED:20250611T155148Z
UID:10001918-1900864800-1900870200@stjohnscc.org
SUMMARY:Evening Zoom Group
DESCRIPTION:
URL:https://stjohnscc.org/event/evening-zoom-group-copy-2/2030-03-27/
END:VEVENT
BEGIN:VEVENT
DTSTART;TZID=America/Edmonton:20300401T090000
DTEND;TZID=America/Edmonton:20300401T103000
DTSTAMP:20260425T103516
CREATED:20240823T214550Z
LAST-MODIFIED:20251004T161842Z
UID:10002173-1901264400-1901269800@stjohnscc.org
SUMMARY:Caregiver Coffee Talk
DESCRIPTION:Every Monday\n9 am – 10:30 am \nEvery Friday\n10 am – 11:30 am \nAll caregivers are welcome. \nCoffee talk is for Caregivers to come together offering information\, resources\, and strategies specifically for caring for someone who may be disabled or have other health related concerns. \nCome together to share space and life experiences over a nice hot cup of coffee on St. John’s Community Care.
URL:https://stjohnscc.org/event/coffee-talk/2030-04-01/
END:VEVENT
BEGIN:VEVENT
DTSTART;TZID=America/Edmonton:20300401T130000
DTEND;TZID=America/Edmonton:20300401T143000
DTSTAMP:20260425T103516
CREATED:20251004T162312Z
LAST-MODIFIED:20251004T162312Z
UID:10002254-1901278800-1901284200@stjohnscc.org
SUMMARY:Alzheimer's Support Group Monday
DESCRIPTION:NOW OFFERING \nFirst and third Monday\, 1:00–2:30 p.m.\nGlen Carbon Senior Center\,\n157 N. Main\, Glen Carbon
URL:https://stjohnscc.org/event/alzheimers-support-group-monday/2030-04-01/
END:VEVENT
BEGIN:VEVENT
DTSTART;TZID=America/Edmonton:20300402T100000
DTEND;TZID=America/Edmonton:20300402T113000
DTSTAMP:20260425T103516
CREATED:20250421T214937Z
LAST-MODIFIED:20260306T195835Z
UID:10002763-1901354400-1901359800@stjohnscc.org
SUMMARY:Memory Cafe Edwardsville
DESCRIPTION:Tuesdays from 10am-11:30am at Edwardsville Library. In-person only.\n \n 
URL:https://stjohnscc.org/event/memory-cafe-at-main-street/2030-04-02/
END:VEVENT
BEGIN:VEVENT
DTSTART;TZID=America/Edmonton:20300403T133000
DTEND;TZID=America/Edmonton:20300403T143000
DTSTAMP:20260425T103516
CREATED:20250515T160600Z
LAST-MODIFIED:20250515T160600Z
UID:10001853-1901453400-1901457000@stjohnscc.org
SUMMARY:Memory Cafe
DESCRIPTION:
URL:https://stjohnscc.org/event/memory-cafe/2030-04-03/
END:VEVENT
BEGIN:VEVENT
DTSTART;TZID=America/Edmonton:20300408T090000
DTEND;TZID=America/Edmonton:20300408T103000
DTSTAMP:20260425T103516
CREATED:20240823T214550Z
LAST-MODIFIED:20251004T161842Z
UID:10002174-1901869200-1901874600@stjohnscc.org
SUMMARY:Caregiver Coffee Talk
DESCRIPTION:Every Monday\n9 am – 10:30 am \nEvery Friday\n10 am – 11:30 am \nAll caregivers are welcome. \nCoffee talk is for Caregivers to come together offering information\, resources\, and strategies specifically for caring for someone who may be disabled or have other health related concerns. \nCome together to share space and life experiences over a nice hot cup of coffee on St. John’s Community Care.
URL:https://stjohnscc.org/event/coffee-talk/2030-04-08/
END:VEVENT
BEGIN:VEVENT
DTSTART;TZID=America/Edmonton:20300409T100000
DTEND;TZID=America/Edmonton:20300409T113000
DTSTAMP:20260425T103516
CREATED:20250421T214937Z
LAST-MODIFIED:20260306T195835Z
UID:10002764-1901959200-1901964600@stjohnscc.org
SUMMARY:Memory Cafe Edwardsville
DESCRIPTION:Tuesdays from 10am-11:30am at Edwardsville Library. In-person only.\n \n 
URL:https://stjohnscc.org/event/memory-cafe-at-main-street/2030-04-09/
END:VEVENT
END:VCALENDAR