BEGIN:VCALENDAR
VERSION:2.0
PRODID:-//St. John’s Community Care - ECPv6.15.20//NONSGML v1.0//EN
CALSCALE:GREGORIAN
METHOD:PUBLISH
X-ORIGINAL-URL:https://stjohnscc.org
X-WR-CALDESC:Events for St. John’s Community Care
REFRESH-INTERVAL;VALUE=DURATION:PT1H
X-Robots-Tag:noindex
X-PUBLISHED-TTL:PT1H
BEGIN:VTIMEZONE
TZID:America/Edmonton
BEGIN:DAYLIGHT
TZOFFSETFROM:-0700
TZOFFSETTO:-0600
TZNAME:MDT
DTSTART:20290311T090000
END:DAYLIGHT
BEGIN:STANDARD
TZOFFSETFROM:-0600
TZOFFSETTO:-0700
TZNAME:MST
DTSTART:20291104T080000
END:STANDARD
BEGIN:DAYLIGHT
TZOFFSETFROM:-0700
TZOFFSETTO:-0600
TZNAME:MDT
DTSTART:20300310T090000
END:DAYLIGHT
BEGIN:STANDARD
TZOFFSETFROM:-0600
TZOFFSETTO:-0700
TZNAME:MST
DTSTART:20301103T080000
END:STANDARD
BEGIN:DAYLIGHT
TZOFFSETFROM:-0700
TZOFFSETTO:-0600
TZNAME:MDT
DTSTART:20310309T090000
END:DAYLIGHT
BEGIN:STANDARD
TZOFFSETFROM:-0600
TZOFFSETTO:-0700
TZNAME:MST
DTSTART:20311102T080000
END:STANDARD
END:VTIMEZONE
BEGIN:VEVENT
DTSTART;TZID=America/Edmonton:20300122T100000
DTEND;TZID=America/Edmonton:20300122T113000
DTSTAMP:20260425T082824
CREATED:20250421T214937Z
LAST-MODIFIED:20260306T195835Z
UID:10002753-1895306400-1895311800@stjohnscc.org
SUMMARY:Memory Cafe Edwardsville
DESCRIPTION:Tuesdays from 10am-11:30am at Edwardsville Library. In-person only.\n \n 
URL:https://stjohnscc.org/event/memory-cafe-at-main-street/2030-01-22/
END:VEVENT
BEGIN:VEVENT
DTSTART;TZID=America/Edmonton:20300123T133000
DTEND;TZID=America/Edmonton:20300123T143000
DTSTAMP:20260425T082824
CREATED:20250515T160600Z
LAST-MODIFIED:20250515T160600Z
UID:10001843-1895405400-1895409000@stjohnscc.org
SUMMARY:Memory Cafe
DESCRIPTION:
URL:https://stjohnscc.org/event/memory-cafe/2030-01-23/
END:VEVENT
BEGIN:VEVENT
DTSTART;TZID=America/Edmonton:20300123T180000
DTEND;TZID=America/Edmonton:20300123T193000
DTSTAMP:20260425T082824
CREATED:20250611T154819Z
LAST-MODIFIED:20250611T155148Z
UID:10001916-1895421600-1895427000@stjohnscc.org
SUMMARY:Evening Zoom Group
DESCRIPTION:
URL:https://stjohnscc.org/event/evening-zoom-group-copy-2/2030-01-23/
END:VEVENT
BEGIN:VEVENT
DTSTART;TZID=America/Edmonton:20300125T100000
DTEND;TZID=America/Edmonton:20300125T113000
DTSTAMP:20260425T082824
CREATED:20240823T214659Z
LAST-MODIFIED:20250307T232054Z
UID:10001103-1895565600-1895571000@stjohnscc.org
SUMMARY:Caregiver Coffee Talk
DESCRIPTION:Every Monday\n9 am – 10:30 am \nEvery Friday\n10 am – 11:30 am \n\nAll caregivers are welcome. \nCoffee talk is for Caregivers to come together offering information\, resources\, and strategies specifically for caring for someone who may be disabled or have other health related concerns. \nCome together to share space and life experiences over a nice hot cup of coffee on St. John’s Community Care.
URL:https://stjohnscc.org/event/coffee-talk-2/2030-01-25/
END:VEVENT
BEGIN:VEVENT
DTSTART;TZID=America/Edmonton:20300128T090000
DTEND;TZID=America/Edmonton:20300128T103000
DTSTAMP:20260425T082824
CREATED:20240823T214550Z
LAST-MODIFIED:20251004T161842Z
UID:10001137-1895821200-1895826600@stjohnscc.org
SUMMARY:Caregiver Coffee Talk
DESCRIPTION:Every Monday\n9 am – 10:30 am \nEvery Friday\n10 am – 11:30 am \nAll caregivers are welcome. \nCoffee talk is for Caregivers to come together offering information\, resources\, and strategies specifically for caring for someone who may be disabled or have other health related concerns. \nCome together to share space and life experiences over a nice hot cup of coffee on St. John’s Community Care.
URL:https://stjohnscc.org/event/coffee-talk/2030-01-28/
END:VEVENT
BEGIN:VEVENT
DTSTART;TZID=America/Edmonton:20300129T100000
DTEND;TZID=America/Edmonton:20300129T113000
DTSTAMP:20260425T082824
CREATED:20250421T214937Z
LAST-MODIFIED:20260306T195835Z
UID:10002754-1895911200-1895916600@stjohnscc.org
SUMMARY:Memory Cafe Edwardsville
DESCRIPTION:Tuesdays from 10am-11:30am at Edwardsville Library. In-person only.\n \n 
URL:https://stjohnscc.org/event/memory-cafe-at-main-street/2030-01-29/
END:VEVENT
BEGIN:VEVENT
DTSTART;TZID=America/Edmonton:20300130T133000
DTEND;TZID=America/Edmonton:20300130T143000
DTSTAMP:20260425T082824
CREATED:20250515T160600Z
LAST-MODIFIED:20250515T160600Z
UID:10001844-1896010200-1896013800@stjohnscc.org
SUMMARY:Memory Cafe
DESCRIPTION:
URL:https://stjohnscc.org/event/memory-cafe/2030-01-30/
END:VEVENT
BEGIN:VEVENT
DTSTART;TZID=America/Edmonton:20300201T100000
DTEND;TZID=America/Edmonton:20300201T113000
DTSTAMP:20260425T082824
CREATED:20240823T214659Z
LAST-MODIFIED:20250307T232054Z
UID:10001104-1896170400-1896175800@stjohnscc.org
SUMMARY:Caregiver Coffee Talk
DESCRIPTION:Every Monday\n9 am – 10:30 am \nEvery Friday\n10 am – 11:30 am \n\nAll caregivers are welcome. \nCoffee talk is for Caregivers to come together offering information\, resources\, and strategies specifically for caring for someone who may be disabled or have other health related concerns. \nCome together to share space and life experiences over a nice hot cup of coffee on St. John’s Community Care.
URL:https://stjohnscc.org/event/coffee-talk-2/2030-02-01/
END:VEVENT
BEGIN:VEVENT
DTSTART;TZID=America/Edmonton:20300204T090000
DTEND;TZID=America/Edmonton:20300204T103000
DTSTAMP:20260425T082824
CREATED:20240823T214550Z
LAST-MODIFIED:20251004T161842Z
UID:10001138-1896426000-1896431400@stjohnscc.org
SUMMARY:Caregiver Coffee Talk
DESCRIPTION:Every Monday\n9 am – 10:30 am \nEvery Friday\n10 am – 11:30 am \nAll caregivers are welcome. \nCoffee talk is for Caregivers to come together offering information\, resources\, and strategies specifically for caring for someone who may be disabled or have other health related concerns. \nCome together to share space and life experiences over a nice hot cup of coffee on St. John’s Community Care.
URL:https://stjohnscc.org/event/coffee-talk/2030-02-04/
END:VEVENT
BEGIN:VEVENT
DTSTART;TZID=America/Edmonton:20300204T130000
DTEND;TZID=America/Edmonton:20300204T143000
DTSTAMP:20260425T082824
CREATED:20251004T162312Z
LAST-MODIFIED:20251004T162312Z
UID:10002252-1896440400-1896445800@stjohnscc.org
SUMMARY:Alzheimer's Support Group Monday
DESCRIPTION:NOW OFFERING \nFirst and third Monday\, 1:00–2:30 p.m.\nGlen Carbon Senior Center\,\n157 N. Main\, Glen Carbon
URL:https://stjohnscc.org/event/alzheimers-support-group-monday/2030-02-04/
END:VEVENT
BEGIN:VEVENT
DTSTART;TZID=America/Edmonton:20300205T100000
DTEND;TZID=America/Edmonton:20300205T113000
DTSTAMP:20260425T082824
CREATED:20250421T214937Z
LAST-MODIFIED:20260306T195835Z
UID:10002755-1896516000-1896521400@stjohnscc.org
SUMMARY:Memory Cafe Edwardsville
DESCRIPTION:Tuesdays from 10am-11:30am at Edwardsville Library. In-person only.\n \n 
URL:https://stjohnscc.org/event/memory-cafe-at-main-street/2030-02-05/
END:VEVENT
BEGIN:VEVENT
DTSTART;TZID=America/Edmonton:20300206T133000
DTEND;TZID=America/Edmonton:20300206T143000
DTSTAMP:20260425T082824
CREATED:20250515T160600Z
LAST-MODIFIED:20250515T160600Z
UID:10001845-1896615000-1896618600@stjohnscc.org
SUMMARY:Memory Cafe
DESCRIPTION:
URL:https://stjohnscc.org/event/memory-cafe/2030-02-06/
END:VEVENT
BEGIN:VEVENT
DTSTART;TZID=America/Edmonton:20300208T100000
DTEND;TZID=America/Edmonton:20300208T113000
DTSTAMP:20260425T082824
CREATED:20240823T214659Z
LAST-MODIFIED:20250307T232054Z
UID:10001105-1896775200-1896780600@stjohnscc.org
SUMMARY:Caregiver Coffee Talk
DESCRIPTION:Every Monday\n9 am – 10:30 am \nEvery Friday\n10 am – 11:30 am \n\nAll caregivers are welcome. \nCoffee talk is for Caregivers to come together offering information\, resources\, and strategies specifically for caring for someone who may be disabled or have other health related concerns. \nCome together to share space and life experiences over a nice hot cup of coffee on St. John’s Community Care.
URL:https://stjohnscc.org/event/coffee-talk-2/2030-02-08/
END:VEVENT
BEGIN:VEVENT
DTSTART;TZID=America/Edmonton:20300211T090000
DTEND;TZID=America/Edmonton:20300211T103000
DTSTAMP:20260425T082824
CREATED:20240823T214550Z
LAST-MODIFIED:20251004T161842Z
UID:10001139-1897030800-1897036200@stjohnscc.org
SUMMARY:Caregiver Coffee Talk
DESCRIPTION:Every Monday\n9 am – 10:30 am \nEvery Friday\n10 am – 11:30 am \nAll caregivers are welcome. \nCoffee talk is for Caregivers to come together offering information\, resources\, and strategies specifically for caring for someone who may be disabled or have other health related concerns. \nCome together to share space and life experiences over a nice hot cup of coffee on St. John’s Community Care.
URL:https://stjohnscc.org/event/coffee-talk/2030-02-11/
END:VEVENT
BEGIN:VEVENT
DTSTART;TZID=America/Edmonton:20300212T100000
DTEND;TZID=America/Edmonton:20300212T113000
DTSTAMP:20260425T082824
CREATED:20250421T214937Z
LAST-MODIFIED:20260306T195835Z
UID:10002756-1897120800-1897126200@stjohnscc.org
SUMMARY:Memory Cafe Edwardsville
DESCRIPTION:Tuesdays from 10am-11:30am at Edwardsville Library. In-person only.\n \n 
URL:https://stjohnscc.org/event/memory-cafe-at-main-street/2030-02-12/
END:VEVENT
BEGIN:VEVENT
DTSTART;TZID=America/Edmonton:20300212T133000
DTEND;TZID=America/Edmonton:20300212T150000
DTSTAMP:20260425T082824
CREATED:20260306T175347Z
LAST-MODIFIED:20260306T175348Z
UID:10002490-1897133400-1897138800@stjohnscc.org
SUMMARY:Alzheimer's Support Group
DESCRIPTION:
URL:https://stjohnscc.org/event/alzheimers-support-group-2-2-2/2030-02-12/
END:VEVENT
BEGIN:VEVENT
DTSTART;TZID=America/Edmonton:20300213T133000
DTEND;TZID=America/Edmonton:20300213T143000
DTSTAMP:20260425T082824
CREATED:20250515T160600Z
LAST-MODIFIED:20250515T160600Z
UID:10001846-1897219800-1897223400@stjohnscc.org
SUMMARY:Memory Cafe
DESCRIPTION:
URL:https://stjohnscc.org/event/memory-cafe/2030-02-13/
END:VEVENT
BEGIN:VEVENT
DTSTART;TZID=America/Edmonton:20300213T180000
DTEND;TZID=America/Edmonton:20300213T193000
DTSTAMP:20260425T082824
CREATED:20250611T155121Z
LAST-MODIFIED:20250611T155121Z
UID:10001535-1897236000-1897241400@stjohnscc.org
SUMMARY:Evening Zoom Group
DESCRIPTION: 
URL:https://stjohnscc.org/event/evening-zoom-group-wednesday-2/2030-02-13/
END:VEVENT
BEGIN:VEVENT
DTSTART;TZID=America/Edmonton:20300214T103000
DTEND;TZID=America/Edmonton:20300214T113000
DTSTAMP:20260425T082824
CREATED:20251004T162548Z
LAST-MODIFIED:20251006T161823Z
UID:10002372-1897295400-1897299000@stjohnscc.org
SUMMARY:Alzheimer's Support Group Thursday
DESCRIPTION:NOW OFFERING \nSecond Thursday of every month\, 10:30–11:30 a.m.\nEdwardsville YMCA\,\n1200 Esic Drive\, Edwardsville
URL:https://stjohnscc.org/event/alzheimers-support-group-thursday/2030-02-14/
END:VEVENT
BEGIN:VEVENT
DTSTART;TZID=America/Edmonton:20300215T100000
DTEND;TZID=America/Edmonton:20300215T113000
DTSTAMP:20260425T082824
CREATED:20240823T214659Z
LAST-MODIFIED:20250307T232054Z
UID:10001106-1897380000-1897385400@stjohnscc.org
SUMMARY:Caregiver Coffee Talk
DESCRIPTION:Every Monday\n9 am – 10:30 am \nEvery Friday\n10 am – 11:30 am \n\nAll caregivers are welcome. \nCoffee talk is for Caregivers to come together offering information\, resources\, and strategies specifically for caring for someone who may be disabled or have other health related concerns. \nCome together to share space and life experiences over a nice hot cup of coffee on St. John’s Community Care.
URL:https://stjohnscc.org/event/coffee-talk-2/2030-02-15/
END:VEVENT
BEGIN:VEVENT
DTSTART;TZID=America/Edmonton:20300218T090000
DTEND;TZID=America/Edmonton:20300218T103000
DTSTAMP:20260425T082824
CREATED:20240823T214550Z
LAST-MODIFIED:20251004T161842Z
UID:10001140-1897635600-1897641000@stjohnscc.org
SUMMARY:Caregiver Coffee Talk
DESCRIPTION:Every Monday\n9 am – 10:30 am \nEvery Friday\n10 am – 11:30 am \nAll caregivers are welcome. \nCoffee talk is for Caregivers to come together offering information\, resources\, and strategies specifically for caring for someone who may be disabled or have other health related concerns. \nCome together to share space and life experiences over a nice hot cup of coffee on St. John’s Community Care.
URL:https://stjohnscc.org/event/coffee-talk/2030-02-18/
END:VEVENT
BEGIN:VEVENT
DTSTART;TZID=America/Edmonton:20300218T130000
DTEND;TZID=America/Edmonton:20300218T143000
DTSTAMP:20260425T082824
CREATED:20251004T162416Z
LAST-MODIFIED:20251004T162416Z
UID:10002312-1897650000-1897655400@stjohnscc.org
SUMMARY:Alzheimer's Support Group 3rd Monday
DESCRIPTION:NOW OFFERING \nFirst and third Monday\, 1:00–2:30 p.m.\nGlen Carbon Senior Center\,\n157 N. Main\, Glen Carbon
URL:https://stjohnscc.org/event/alzheimers-support-group-3rd-monday/2030-02-18/
END:VEVENT
BEGIN:VEVENT
DTSTART;TZID=America/Edmonton:20300219T100000
DTEND;TZID=America/Edmonton:20300219T113000
DTSTAMP:20260425T082824
CREATED:20250421T214937Z
LAST-MODIFIED:20260306T195835Z
UID:10002757-1897725600-1897731000@stjohnscc.org
SUMMARY:Memory Cafe Edwardsville
DESCRIPTION:Tuesdays from 10am-11:30am at Edwardsville Library. In-person only.\n \n 
URL:https://stjohnscc.org/event/memory-cafe-at-main-street/2030-02-19/
END:VEVENT
BEGIN:VEVENT
DTSTART;TZID=America/Edmonton:20300220T133000
DTEND;TZID=America/Edmonton:20300220T143000
DTSTAMP:20260425T082824
CREATED:20250515T160600Z
LAST-MODIFIED:20250515T160600Z
UID:10001847-1897824600-1897828200@stjohnscc.org
SUMMARY:Memory Cafe
DESCRIPTION:
URL:https://stjohnscc.org/event/memory-cafe/2030-02-20/
END:VEVENT
BEGIN:VEVENT
DTSTART;TZID=America/Edmonton:20300222T100000
DTEND;TZID=America/Edmonton:20300222T113000
DTSTAMP:20260425T082824
CREATED:20240823T214659Z
LAST-MODIFIED:20250307T232054Z
UID:10001107-1897984800-1897990200@stjohnscc.org
SUMMARY:Caregiver Coffee Talk
DESCRIPTION:Every Monday\n9 am – 10:30 am \nEvery Friday\n10 am – 11:30 am \n\nAll caregivers are welcome. \nCoffee talk is for Caregivers to come together offering information\, resources\, and strategies specifically for caring for someone who may be disabled or have other health related concerns. \nCome together to share space and life experiences over a nice hot cup of coffee on St. John’s Community Care.
URL:https://stjohnscc.org/event/coffee-talk-2/2030-02-22/
END:VEVENT
BEGIN:VEVENT
DTSTART;TZID=America/Edmonton:20300225T090000
DTEND;TZID=America/Edmonton:20300225T103000
DTSTAMP:20260425T082824
CREATED:20240823T214550Z
LAST-MODIFIED:20251004T161842Z
UID:10001141-1898240400-1898245800@stjohnscc.org
SUMMARY:Caregiver Coffee Talk
DESCRIPTION:Every Monday\n9 am – 10:30 am \nEvery Friday\n10 am – 11:30 am \nAll caregivers are welcome. \nCoffee talk is for Caregivers to come together offering information\, resources\, and strategies specifically for caring for someone who may be disabled or have other health related concerns. \nCome together to share space and life experiences over a nice hot cup of coffee on St. John’s Community Care.
URL:https://stjohnscc.org/event/coffee-talk/2030-02-25/
END:VEVENT
BEGIN:VEVENT
DTSTART;TZID=America/Edmonton:20300226T100000
DTEND;TZID=America/Edmonton:20300226T113000
DTSTAMP:20260425T082824
CREATED:20250421T214937Z
LAST-MODIFIED:20260306T195835Z
UID:10002758-1898330400-1898335800@stjohnscc.org
SUMMARY:Memory Cafe Edwardsville
DESCRIPTION:Tuesdays from 10am-11:30am at Edwardsville Library. In-person only.\n \n 
URL:https://stjohnscc.org/event/memory-cafe-at-main-street/2030-02-26/
END:VEVENT
BEGIN:VEVENT
DTSTART;TZID=America/Edmonton:20300227T133000
DTEND;TZID=America/Edmonton:20300227T143000
DTSTAMP:20260425T082824
CREATED:20250515T160600Z
LAST-MODIFIED:20250515T160600Z
UID:10001848-1898429400-1898433000@stjohnscc.org
SUMMARY:Memory Cafe
DESCRIPTION:
URL:https://stjohnscc.org/event/memory-cafe/2030-02-27/
END:VEVENT
BEGIN:VEVENT
DTSTART;TZID=America/Edmonton:20300227T180000
DTEND;TZID=America/Edmonton:20300227T193000
DTSTAMP:20260425T082824
CREATED:20250611T154819Z
LAST-MODIFIED:20250611T155148Z
UID:10001917-1898445600-1898451000@stjohnscc.org
SUMMARY:Evening Zoom Group
DESCRIPTION:
URL:https://stjohnscc.org/event/evening-zoom-group-copy-2/2030-02-27/
END:VEVENT
BEGIN:VEVENT
DTSTART;TZID=America/Edmonton:20300301T100000
DTEND;TZID=America/Edmonton:20300301T113000
DTSTAMP:20260425T082824
CREATED:20240823T214659Z
LAST-MODIFIED:20250307T232054Z
UID:10001108-1898589600-1898595000@stjohnscc.org
SUMMARY:Caregiver Coffee Talk
DESCRIPTION:Every Monday\n9 am – 10:30 am \nEvery Friday\n10 am – 11:30 am \n\nAll caregivers are welcome. \nCoffee talk is for Caregivers to come together offering information\, resources\, and strategies specifically for caring for someone who may be disabled or have other health related concerns. \nCome together to share space and life experiences over a nice hot cup of coffee on St. John’s Community Care.
URL:https://stjohnscc.org/event/coffee-talk-2/2030-03-01/
END:VEVENT
END:VCALENDAR