BEGIN:VCALENDAR
VERSION:2.0
PRODID:-//St. John’s Community Care - ECPv6.15.20//NONSGML v1.0//EN
CALSCALE:GREGORIAN
METHOD:PUBLISH
X-ORIGINAL-URL:https://stjohnscc.org
X-WR-CALDESC:Events for St. John’s Community Care
REFRESH-INTERVAL;VALUE=DURATION:PT1H
X-Robots-Tag:noindex
X-PUBLISHED-TTL:PT1H
BEGIN:VTIMEZONE
TZID:America/Edmonton
BEGIN:DAYLIGHT
TZOFFSETFROM:-0700
TZOFFSETTO:-0600
TZNAME:MDT
DTSTART:20290311T090000
END:DAYLIGHT
BEGIN:STANDARD
TZOFFSETFROM:-0600
TZOFFSETTO:-0700
TZNAME:MST
DTSTART:20291104T080000
END:STANDARD
BEGIN:DAYLIGHT
TZOFFSETFROM:-0700
TZOFFSETTO:-0600
TZNAME:MDT
DTSTART:20300310T090000
END:DAYLIGHT
BEGIN:STANDARD
TZOFFSETFROM:-0600
TZOFFSETTO:-0700
TZNAME:MST
DTSTART:20301103T080000
END:STANDARD
BEGIN:DAYLIGHT
TZOFFSETFROM:-0700
TZOFFSETTO:-0600
TZNAME:MDT
DTSTART:20310309T090000
END:DAYLIGHT
BEGIN:STANDARD
TZOFFSETFROM:-0600
TZOFFSETTO:-0700
TZNAME:MST
DTSTART:20311102T080000
END:STANDARD
END:VTIMEZONE
BEGIN:VEVENT
DTSTART;TZID=America/Edmonton:20300508T133000
DTEND;TZID=America/Edmonton:20300508T143000
DTSTAMP:20260425T073643
CREATED:20250515T160600Z
LAST-MODIFIED:20250515T160600Z
UID:10001858-1904477400-1904481000@stjohnscc.org
SUMMARY:Memory Cafe
DESCRIPTION:
URL:https://stjohnscc.org/event/memory-cafe/2030-05-08/
END:VEVENT
BEGIN:VEVENT
DTSTART;TZID=America/Edmonton:20300508T180000
DTEND;TZID=America/Edmonton:20300508T193000
DTSTAMP:20260425T073643
CREATED:20250611T155121Z
LAST-MODIFIED:20250611T155121Z
UID:10001538-1904493600-1904499000@stjohnscc.org
SUMMARY:Evening Zoom Group
DESCRIPTION: 
URL:https://stjohnscc.org/event/evening-zoom-group-wednesday-2/2030-05-08/
END:VEVENT
BEGIN:VEVENT
DTSTART;TZID=America/Edmonton:20300509T103000
DTEND;TZID=America/Edmonton:20300509T113000
DTSTAMP:20260425T073643
CREATED:20251004T162548Z
LAST-MODIFIED:20251006T161823Z
UID:10002375-1904553000-1904556600@stjohnscc.org
SUMMARY:Alzheimer's Support Group Thursday
DESCRIPTION:NOW OFFERING \nSecond Thursday of every month\, 10:30–11:30 a.m.\nEdwardsville YMCA\,\n1200 Esic Drive\, Edwardsville
URL:https://stjohnscc.org/event/alzheimers-support-group-thursday/2030-05-09/
END:VEVENT
BEGIN:VEVENT
DTSTART;TZID=America/Edmonton:20300513T090000
DTEND;TZID=America/Edmonton:20300513T103000
DTSTAMP:20260425T073643
CREATED:20240823T214550Z
LAST-MODIFIED:20251004T161842Z
UID:10002179-1904893200-1904898600@stjohnscc.org
SUMMARY:Caregiver Coffee Talk
DESCRIPTION:Every Monday\n9 am – 10:30 am \nEvery Friday\n10 am – 11:30 am \nAll caregivers are welcome. \nCoffee talk is for Caregivers to come together offering information\, resources\, and strategies specifically for caring for someone who may be disabled or have other health related concerns. \nCome together to share space and life experiences over a nice hot cup of coffee on St. John’s Community Care.
URL:https://stjohnscc.org/event/coffee-talk/2030-05-13/
END:VEVENT
BEGIN:VEVENT
DTSTART;TZID=America/Edmonton:20300514T100000
DTEND;TZID=America/Edmonton:20300514T113000
DTSTAMP:20260425T073643
CREATED:20250421T214937Z
LAST-MODIFIED:20260306T195835Z
UID:10002769-1904983200-1904988600@stjohnscc.org
SUMMARY:Memory Cafe Edwardsville
DESCRIPTION:Tuesdays from 10am-11:30am at Edwardsville Library. In-person only.\n \n 
URL:https://stjohnscc.org/event/memory-cafe-at-main-street/2030-05-14/
END:VEVENT
BEGIN:VEVENT
DTSTART;TZID=America/Edmonton:20300514T133000
DTEND;TZID=America/Edmonton:20300514T150000
DTSTAMP:20260425T073643
CREATED:20260306T175347Z
LAST-MODIFIED:20260306T175348Z
UID:10002493-1904995800-1905001200@stjohnscc.org
SUMMARY:Alzheimer's Support Group
DESCRIPTION:
URL:https://stjohnscc.org/event/alzheimers-support-group-2-2-2/2030-05-14/
END:VEVENT
BEGIN:VEVENT
DTSTART;TZID=America/Edmonton:20300515T133000
DTEND;TZID=America/Edmonton:20300515T143000
DTSTAMP:20260425T073643
CREATED:20250515T160600Z
LAST-MODIFIED:20250515T160600Z
UID:10001859-1905082200-1905085800@stjohnscc.org
SUMMARY:Memory Cafe
DESCRIPTION:
URL:https://stjohnscc.org/event/memory-cafe/2030-05-15/
END:VEVENT
BEGIN:VEVENT
DTSTART;TZID=America/Edmonton:20300520T090000
DTEND;TZID=America/Edmonton:20300520T103000
DTSTAMP:20260425T073643
CREATED:20240823T214550Z
LAST-MODIFIED:20251004T161842Z
UID:10002180-1905498000-1905503400@stjohnscc.org
SUMMARY:Caregiver Coffee Talk
DESCRIPTION:Every Monday\n9 am – 10:30 am \nEvery Friday\n10 am – 11:30 am \nAll caregivers are welcome. \nCoffee talk is for Caregivers to come together offering information\, resources\, and strategies specifically for caring for someone who may be disabled or have other health related concerns. \nCome together to share space and life experiences over a nice hot cup of coffee on St. John’s Community Care.
URL:https://stjohnscc.org/event/coffee-talk/2030-05-20/
END:VEVENT
BEGIN:VEVENT
DTSTART;TZID=America/Edmonton:20300520T130000
DTEND;TZID=America/Edmonton:20300520T143000
DTSTAMP:20260425T073643
CREATED:20251004T162416Z
LAST-MODIFIED:20251004T162416Z
UID:10002315-1905512400-1905517800@stjohnscc.org
SUMMARY:Alzheimer's Support Group 3rd Monday
DESCRIPTION:NOW OFFERING \nFirst and third Monday\, 1:00–2:30 p.m.\nGlen Carbon Senior Center\,\n157 N. Main\, Glen Carbon
URL:https://stjohnscc.org/event/alzheimers-support-group-3rd-monday/2030-05-20/
END:VEVENT
BEGIN:VEVENT
DTSTART;TZID=America/Edmonton:20300521T100000
DTEND;TZID=America/Edmonton:20300521T113000
DTSTAMP:20260425T073643
CREATED:20250421T214937Z
LAST-MODIFIED:20260306T195835Z
UID:10002770-1905588000-1905593400@stjohnscc.org
SUMMARY:Memory Cafe Edwardsville
DESCRIPTION:Tuesdays from 10am-11:30am at Edwardsville Library. In-person only.\n \n 
URL:https://stjohnscc.org/event/memory-cafe-at-main-street/2030-05-21/
END:VEVENT
BEGIN:VEVENT
DTSTART;TZID=America/Edmonton:20300522T180000
DTEND;TZID=America/Edmonton:20300522T193000
DTSTAMP:20260425T073643
CREATED:20250611T154819Z
LAST-MODIFIED:20250611T155148Z
UID:10001920-1905703200-1905708600@stjohnscc.org
SUMMARY:Evening Zoom Group
DESCRIPTION:
URL:https://stjohnscc.org/event/evening-zoom-group-copy-2/2030-05-22/
END:VEVENT
BEGIN:VEVENT
DTSTART;TZID=America/Edmonton:20300527T090000
DTEND;TZID=America/Edmonton:20300527T103000
DTSTAMP:20260425T073643
CREATED:20240823T214550Z
LAST-MODIFIED:20251004T161842Z
UID:10002181-1906102800-1906108200@stjohnscc.org
SUMMARY:Caregiver Coffee Talk
DESCRIPTION:Every Monday\n9 am – 10:30 am \nEvery Friday\n10 am – 11:30 am \nAll caregivers are welcome. \nCoffee talk is for Caregivers to come together offering information\, resources\, and strategies specifically for caring for someone who may be disabled or have other health related concerns. \nCome together to share space and life experiences over a nice hot cup of coffee on St. John’s Community Care.
URL:https://stjohnscc.org/event/coffee-talk/2030-05-27/
END:VEVENT
BEGIN:VEVENT
DTSTART;TZID=America/Edmonton:20300528T100000
DTEND;TZID=America/Edmonton:20300528T113000
DTSTAMP:20260425T073643
CREATED:20250421T214937Z
LAST-MODIFIED:20260306T195835Z
UID:10002771-1906192800-1906198200@stjohnscc.org
SUMMARY:Memory Cafe Edwardsville
DESCRIPTION:Tuesdays from 10am-11:30am at Edwardsville Library. In-person only.\n \n 
URL:https://stjohnscc.org/event/memory-cafe-at-main-street/2030-05-28/
END:VEVENT
BEGIN:VEVENT
DTSTART;TZID=America/Edmonton:20300603T090000
DTEND;TZID=America/Edmonton:20300603T103000
DTSTAMP:20260425T073643
CREATED:20240823T214550Z
LAST-MODIFIED:20251004T161842Z
UID:10002182-1906707600-1906713000@stjohnscc.org
SUMMARY:Caregiver Coffee Talk
DESCRIPTION:Every Monday\n9 am – 10:30 am \nEvery Friday\n10 am – 11:30 am \nAll caregivers are welcome. \nCoffee talk is for Caregivers to come together offering information\, resources\, and strategies specifically for caring for someone who may be disabled or have other health related concerns. \nCome together to share space and life experiences over a nice hot cup of coffee on St. John’s Community Care.
URL:https://stjohnscc.org/event/coffee-talk/2030-06-03/
END:VEVENT
BEGIN:VEVENT
DTSTART;TZID=America/Edmonton:20300603T130000
DTEND;TZID=America/Edmonton:20300603T143000
DTSTAMP:20260425T073643
CREATED:20251004T162312Z
LAST-MODIFIED:20251004T162312Z
UID:10002256-1906722000-1906727400@stjohnscc.org
SUMMARY:Alzheimer's Support Group Monday
DESCRIPTION:NOW OFFERING \nFirst and third Monday\, 1:00–2:30 p.m.\nGlen Carbon Senior Center\,\n157 N. Main\, Glen Carbon
URL:https://stjohnscc.org/event/alzheimers-support-group-monday/2030-06-03/
END:VEVENT
BEGIN:VEVENT
DTSTART;TZID=America/Edmonton:20300604T100000
DTEND;TZID=America/Edmonton:20300604T113000
DTSTAMP:20260425T073643
CREATED:20250421T214937Z
LAST-MODIFIED:20260306T195835Z
UID:10002772-1906797600-1906803000@stjohnscc.org
SUMMARY:Memory Cafe Edwardsville
DESCRIPTION:Tuesdays from 10am-11:30am at Edwardsville Library. In-person only.\n \n 
URL:https://stjohnscc.org/event/memory-cafe-at-main-street/2030-06-04/
END:VEVENT
BEGIN:VEVENT
DTSTART;TZID=America/Edmonton:20300610T090000
DTEND;TZID=America/Edmonton:20300610T103000
DTSTAMP:20260425T073643
CREATED:20240823T214550Z
LAST-MODIFIED:20251004T161842Z
UID:10002183-1907312400-1907317800@stjohnscc.org
SUMMARY:Caregiver Coffee Talk
DESCRIPTION:Every Monday\n9 am – 10:30 am \nEvery Friday\n10 am – 11:30 am \nAll caregivers are welcome. \nCoffee talk is for Caregivers to come together offering information\, resources\, and strategies specifically for caring for someone who may be disabled or have other health related concerns. \nCome together to share space and life experiences over a nice hot cup of coffee on St. John’s Community Care.
URL:https://stjohnscc.org/event/coffee-talk/2030-06-10/
END:VEVENT
BEGIN:VEVENT
DTSTART;TZID=America/Edmonton:20300611T100000
DTEND;TZID=America/Edmonton:20300611T113000
DTSTAMP:20260425T073643
CREATED:20250421T214937Z
LAST-MODIFIED:20260306T195835Z
UID:10002773-1907402400-1907407800@stjohnscc.org
SUMMARY:Memory Cafe Edwardsville
DESCRIPTION:Tuesdays from 10am-11:30am at Edwardsville Library. In-person only.\n \n 
URL:https://stjohnscc.org/event/memory-cafe-at-main-street/2030-06-11/
END:VEVENT
BEGIN:VEVENT
DTSTART;TZID=America/Edmonton:20300611T133000
DTEND;TZID=America/Edmonton:20300611T150000
DTSTAMP:20260425T073643
CREATED:20260306T175347Z
LAST-MODIFIED:20260306T175348Z
UID:10002494-1907415000-1907420400@stjohnscc.org
SUMMARY:Alzheimer's Support Group
DESCRIPTION:
URL:https://stjohnscc.org/event/alzheimers-support-group-2-2-2/2030-06-11/
END:VEVENT
BEGIN:VEVENT
DTSTART;TZID=America/Edmonton:20300613T103000
DTEND;TZID=America/Edmonton:20300613T113000
DTSTAMP:20260425T073643
CREATED:20251004T162548Z
LAST-MODIFIED:20251006T161823Z
UID:10002376-1907577000-1907580600@stjohnscc.org
SUMMARY:Alzheimer's Support Group Thursday
DESCRIPTION:NOW OFFERING \nSecond Thursday of every month\, 10:30–11:30 a.m.\nEdwardsville YMCA\,\n1200 Esic Drive\, Edwardsville
URL:https://stjohnscc.org/event/alzheimers-support-group-thursday/2030-06-13/
END:VEVENT
BEGIN:VEVENT
DTSTART;TZID=America/Edmonton:20300617T090000
DTEND;TZID=America/Edmonton:20300617T103000
DTSTAMP:20260425T073643
CREATED:20240823T214550Z
LAST-MODIFIED:20251004T161842Z
UID:10002184-1907917200-1907922600@stjohnscc.org
SUMMARY:Caregiver Coffee Talk
DESCRIPTION:Every Monday\n9 am – 10:30 am \nEvery Friday\n10 am – 11:30 am \nAll caregivers are welcome. \nCoffee talk is for Caregivers to come together offering information\, resources\, and strategies specifically for caring for someone who may be disabled or have other health related concerns. \nCome together to share space and life experiences over a nice hot cup of coffee on St. John’s Community Care.
URL:https://stjohnscc.org/event/coffee-talk/2030-06-17/
END:VEVENT
BEGIN:VEVENT
DTSTART;TZID=America/Edmonton:20300617T130000
DTEND;TZID=America/Edmonton:20300617T143000
DTSTAMP:20260425T073643
CREATED:20251004T162416Z
LAST-MODIFIED:20251004T162416Z
UID:10002316-1907931600-1907937000@stjohnscc.org
SUMMARY:Alzheimer's Support Group 3rd Monday
DESCRIPTION:NOW OFFERING \nFirst and third Monday\, 1:00–2:30 p.m.\nGlen Carbon Senior Center\,\n157 N. Main\, Glen Carbon
URL:https://stjohnscc.org/event/alzheimers-support-group-3rd-monday/2030-06-17/
END:VEVENT
BEGIN:VEVENT
DTSTART;TZID=America/Edmonton:20300618T100000
DTEND;TZID=America/Edmonton:20300618T113000
DTSTAMP:20260425T073643
CREATED:20250421T214937Z
LAST-MODIFIED:20260306T195835Z
UID:10002774-1908007200-1908012600@stjohnscc.org
SUMMARY:Memory Cafe Edwardsville
DESCRIPTION:Tuesdays from 10am-11:30am at Edwardsville Library. In-person only.\n \n 
URL:https://stjohnscc.org/event/memory-cafe-at-main-street/2030-06-18/
END:VEVENT
BEGIN:VEVENT
DTSTART;TZID=America/Edmonton:20300624T090000
DTEND;TZID=America/Edmonton:20300624T103000
DTSTAMP:20260425T073643
CREATED:20240823T214550Z
LAST-MODIFIED:20251004T161842Z
UID:10002185-1908522000-1908527400@stjohnscc.org
SUMMARY:Caregiver Coffee Talk
DESCRIPTION:Every Monday\n9 am – 10:30 am \nEvery Friday\n10 am – 11:30 am \nAll caregivers are welcome. \nCoffee talk is for Caregivers to come together offering information\, resources\, and strategies specifically for caring for someone who may be disabled or have other health related concerns. \nCome together to share space and life experiences over a nice hot cup of coffee on St. John’s Community Care.
URL:https://stjohnscc.org/event/coffee-talk/2030-06-24/
END:VEVENT
BEGIN:VEVENT
DTSTART;TZID=America/Edmonton:20300625T100000
DTEND;TZID=America/Edmonton:20300625T113000
DTSTAMP:20260425T073643
CREATED:20250421T214937Z
LAST-MODIFIED:20260306T195835Z
UID:10002775-1908612000-1908617400@stjohnscc.org
SUMMARY:Memory Cafe Edwardsville
DESCRIPTION:Tuesdays from 10am-11:30am at Edwardsville Library. In-person only.\n \n 
URL:https://stjohnscc.org/event/memory-cafe-at-main-street/2030-06-25/
END:VEVENT
BEGIN:VEVENT
DTSTART;TZID=America/Edmonton:20300701T090000
DTEND;TZID=America/Edmonton:20300701T103000
DTSTAMP:20260425T073643
CREATED:20240823T214550Z
LAST-MODIFIED:20251004T161842Z
UID:10002186-1909126800-1909132200@stjohnscc.org
SUMMARY:Caregiver Coffee Talk
DESCRIPTION:Every Monday\n9 am – 10:30 am \nEvery Friday\n10 am – 11:30 am \nAll caregivers are welcome. \nCoffee talk is for Caregivers to come together offering information\, resources\, and strategies specifically for caring for someone who may be disabled or have other health related concerns. \nCome together to share space and life experiences over a nice hot cup of coffee on St. John’s Community Care.
URL:https://stjohnscc.org/event/coffee-talk/2030-07-01/
END:VEVENT
BEGIN:VEVENT
DTSTART;TZID=America/Edmonton:20300701T130000
DTEND;TZID=America/Edmonton:20300701T143000
DTSTAMP:20260425T073643
CREATED:20251004T162312Z
LAST-MODIFIED:20251004T162312Z
UID:10002257-1909141200-1909146600@stjohnscc.org
SUMMARY:Alzheimer's Support Group Monday
DESCRIPTION:NOW OFFERING \nFirst and third Monday\, 1:00–2:30 p.m.\nGlen Carbon Senior Center\,\n157 N. Main\, Glen Carbon
URL:https://stjohnscc.org/event/alzheimers-support-group-monday/2030-07-01/
END:VEVENT
BEGIN:VEVENT
DTSTART;TZID=America/Edmonton:20300702T100000
DTEND;TZID=America/Edmonton:20300702T113000
DTSTAMP:20260425T073643
CREATED:20250421T214937Z
LAST-MODIFIED:20260306T195835Z
UID:10002776-1909216800-1909222200@stjohnscc.org
SUMMARY:Memory Cafe Edwardsville
DESCRIPTION:Tuesdays from 10am-11:30am at Edwardsville Library. In-person only.\n \n 
URL:https://stjohnscc.org/event/memory-cafe-at-main-street/2030-07-02/
END:VEVENT
BEGIN:VEVENT
DTSTART;TZID=America/Edmonton:20300708T090000
DTEND;TZID=America/Edmonton:20300708T103000
DTSTAMP:20260425T073643
CREATED:20240823T214550Z
LAST-MODIFIED:20251004T161842Z
UID:10002187-1909731600-1909737000@stjohnscc.org
SUMMARY:Caregiver Coffee Talk
DESCRIPTION:Every Monday\n9 am – 10:30 am \nEvery Friday\n10 am – 11:30 am \nAll caregivers are welcome. \nCoffee talk is for Caregivers to come together offering information\, resources\, and strategies specifically for caring for someone who may be disabled or have other health related concerns. \nCome together to share space and life experiences over a nice hot cup of coffee on St. John’s Community Care.
URL:https://stjohnscc.org/event/coffee-talk/2030-07-08/
END:VEVENT
BEGIN:VEVENT
DTSTART;TZID=America/Edmonton:20300709T100000
DTEND;TZID=America/Edmonton:20300709T113000
DTSTAMP:20260425T073643
CREATED:20250421T214937Z
LAST-MODIFIED:20260306T195835Z
UID:10002777-1909821600-1909827000@stjohnscc.org
SUMMARY:Memory Cafe Edwardsville
DESCRIPTION:Tuesdays from 10am-11:30am at Edwardsville Library. In-person only.\n \n 
URL:https://stjohnscc.org/event/memory-cafe-at-main-street/2030-07-09/
END:VEVENT
END:VCALENDAR