BEGIN:VCALENDAR
VERSION:2.0
PRODID:-//St. John’s Community Care - ECPv6.15.20//NONSGML v1.0//EN
CALSCALE:GREGORIAN
METHOD:PUBLISH
X-WR-CALNAME:St. John’s Community Care
X-ORIGINAL-URL:https://stjohnscc.org
X-WR-CALDESC:Events for St. John’s Community Care
REFRESH-INTERVAL;VALUE=DURATION:PT1H
X-Robots-Tag:noindex
X-PUBLISHED-TTL:PT1H
BEGIN:VTIMEZONE
TZID:America/Edmonton
BEGIN:DAYLIGHT
TZOFFSETFROM:-0700
TZOFFSETTO:-0600
TZNAME:MDT
DTSTART:20280312T090000
END:DAYLIGHT
BEGIN:STANDARD
TZOFFSETFROM:-0600
TZOFFSETTO:-0700
TZNAME:MST
DTSTART:20281105T080000
END:STANDARD
BEGIN:DAYLIGHT
TZOFFSETFROM:-0700
TZOFFSETTO:-0600
TZNAME:MDT
DTSTART:20290311T090000
END:DAYLIGHT
BEGIN:STANDARD
TZOFFSETFROM:-0600
TZOFFSETTO:-0700
TZNAME:MST
DTSTART:20291104T080000
END:STANDARD
BEGIN:DAYLIGHT
TZOFFSETFROM:-0700
TZOFFSETTO:-0600
TZNAME:MDT
DTSTART:20300310T090000
END:DAYLIGHT
BEGIN:STANDARD
TZOFFSETFROM:-0600
TZOFFSETTO:-0700
TZNAME:MST
DTSTART:20301103T080000
END:STANDARD
BEGIN:DAYLIGHT
TZOFFSETFROM:-0700
TZOFFSETTO:-0600
TZNAME:MDT
DTSTART:20310309T090000
END:DAYLIGHT
BEGIN:STANDARD
TZOFFSETFROM:-0600
TZOFFSETTO:-0700
TZNAME:MST
DTSTART:20311102T080000
END:STANDARD
END:VTIMEZONE
BEGIN:VEVENT
DTSTART;TZID=America/Edmonton:20291221T100000
DTEND;TZID=America/Edmonton:20291221T113000
DTSTAMP:20260425T055505
CREATED:20240823T214659Z
LAST-MODIFIED:20250307T232054Z
UID:10001098-1892541600-1892547000@stjohnscc.org
SUMMARY:Caregiver Coffee Talk
DESCRIPTION:Every Monday\n9 am – 10:30 am \nEvery Friday\n10 am – 11:30 am \n\nAll caregivers are welcome. \nCoffee talk is for Caregivers to come together offering information\, resources\, and strategies specifically for caring for someone who may be disabled or have other health related concerns. \nCome together to share space and life experiences over a nice hot cup of coffee on St. John’s Community Care.
URL:https://stjohnscc.org/event/coffee-talk-2/2029-12-21/
END:VEVENT
BEGIN:VEVENT
DTSTART;TZID=America/Edmonton:20291224T090000
DTEND;TZID=America/Edmonton:20291224T103000
DTSTAMP:20260425T055505
CREATED:20240823T214550Z
LAST-MODIFIED:20251004T161842Z
UID:10001132-1892797200-1892802600@stjohnscc.org
SUMMARY:Caregiver Coffee Talk
DESCRIPTION:Every Monday\n9 am – 10:30 am \nEvery Friday\n10 am – 11:30 am \nAll caregivers are welcome. \nCoffee talk is for Caregivers to come together offering information\, resources\, and strategies specifically for caring for someone who may be disabled or have other health related concerns. \nCome together to share space and life experiences over a nice hot cup of coffee on St. John’s Community Care.
URL:https://stjohnscc.org/event/coffee-talk/2029-12-24/
END:VEVENT
BEGIN:VEVENT
DTSTART;TZID=America/Edmonton:20291225T100000
DTEND;TZID=America/Edmonton:20291225T113000
DTSTAMP:20260425T055505
CREATED:20250421T214937Z
LAST-MODIFIED:20260306T195835Z
UID:10002749-1892887200-1892892600@stjohnscc.org
SUMMARY:Memory Cafe Edwardsville
DESCRIPTION:Tuesdays from 10am-11:30am at Edwardsville Library. In-person only.\n \n 
URL:https://stjohnscc.org/event/memory-cafe-at-main-street/2029-12-25/
END:VEVENT
BEGIN:VEVENT
DTSTART;TZID=America/Edmonton:20291226T133000
DTEND;TZID=America/Edmonton:20291226T143000
DTSTAMP:20260425T055505
CREATED:20250515T160600Z
LAST-MODIFIED:20250515T160600Z
UID:10001839-1892986200-1892989800@stjohnscc.org
SUMMARY:Memory Cafe
DESCRIPTION:
URL:https://stjohnscc.org/event/memory-cafe/2029-12-26/
END:VEVENT
BEGIN:VEVENT
DTSTART;TZID=America/Edmonton:20291226T180000
DTEND;TZID=America/Edmonton:20291226T193000
DTSTAMP:20260425T055505
CREATED:20250611T154819Z
LAST-MODIFIED:20250611T155148Z
UID:10001915-1893002400-1893007800@stjohnscc.org
SUMMARY:Evening Zoom Group
DESCRIPTION:
URL:https://stjohnscc.org/event/evening-zoom-group-copy-2/2029-12-26/
END:VEVENT
BEGIN:VEVENT
DTSTART;TZID=America/Edmonton:20291228T100000
DTEND;TZID=America/Edmonton:20291228T113000
DTSTAMP:20260425T055505
CREATED:20240823T214659Z
LAST-MODIFIED:20250307T232054Z
UID:10001099-1893146400-1893151800@stjohnscc.org
SUMMARY:Caregiver Coffee Talk
DESCRIPTION:Every Monday\n9 am – 10:30 am \nEvery Friday\n10 am – 11:30 am \n\nAll caregivers are welcome. \nCoffee talk is for Caregivers to come together offering information\, resources\, and strategies specifically for caring for someone who may be disabled or have other health related concerns. \nCome together to share space and life experiences over a nice hot cup of coffee on St. John’s Community Care.
URL:https://stjohnscc.org/event/coffee-talk-2/2029-12-28/
END:VEVENT
BEGIN:VEVENT
DTSTART;TZID=America/Edmonton:20291231T090000
DTEND;TZID=America/Edmonton:20291231T103000
DTSTAMP:20260425T055505
CREATED:20240823T214550Z
LAST-MODIFIED:20251004T161842Z
UID:10001133-1893402000-1893407400@stjohnscc.org
SUMMARY:Caregiver Coffee Talk
DESCRIPTION:Every Monday\n9 am – 10:30 am \nEvery Friday\n10 am – 11:30 am \nAll caregivers are welcome. \nCoffee talk is for Caregivers to come together offering information\, resources\, and strategies specifically for caring for someone who may be disabled or have other health related concerns. \nCome together to share space and life experiences over a nice hot cup of coffee on St. John’s Community Care.
URL:https://stjohnscc.org/event/coffee-talk/2029-12-31/
END:VEVENT
BEGIN:VEVENT
DTSTART;TZID=America/Edmonton:20300101T100000
DTEND;TZID=America/Edmonton:20300101T113000
DTSTAMP:20260425T055505
CREATED:20250421T214937Z
LAST-MODIFIED:20260306T195835Z
UID:10002750-1893492000-1893497400@stjohnscc.org
SUMMARY:Memory Cafe Edwardsville
DESCRIPTION:Tuesdays from 10am-11:30am at Edwardsville Library. In-person only.\n \n 
URL:https://stjohnscc.org/event/memory-cafe-at-main-street/2030-01-01/
END:VEVENT
BEGIN:VEVENT
DTSTART;TZID=America/Edmonton:20300102T133000
DTEND;TZID=America/Edmonton:20300102T143000
DTSTAMP:20260425T055505
CREATED:20250515T160600Z
LAST-MODIFIED:20250515T160600Z
UID:10001840-1893591000-1893594600@stjohnscc.org
SUMMARY:Memory Cafe
DESCRIPTION:
URL:https://stjohnscc.org/event/memory-cafe/2030-01-02/
END:VEVENT
BEGIN:VEVENT
DTSTART;TZID=America/Edmonton:20300104T100000
DTEND;TZID=America/Edmonton:20300104T113000
DTSTAMP:20260425T055505
CREATED:20240823T214659Z
LAST-MODIFIED:20250307T232054Z
UID:10001100-1893751200-1893756600@stjohnscc.org
SUMMARY:Caregiver Coffee Talk
DESCRIPTION:Every Monday\n9 am – 10:30 am \nEvery Friday\n10 am – 11:30 am \n\nAll caregivers are welcome. \nCoffee talk is for Caregivers to come together offering information\, resources\, and strategies specifically for caring for someone who may be disabled or have other health related concerns. \nCome together to share space and life experiences over a nice hot cup of coffee on St. John’s Community Care.
URL:https://stjohnscc.org/event/coffee-talk-2/2030-01-04/
END:VEVENT
BEGIN:VEVENT
DTSTART;TZID=America/Edmonton:20300107T090000
DTEND;TZID=America/Edmonton:20300107T103000
DTSTAMP:20260425T055505
CREATED:20240823T214550Z
LAST-MODIFIED:20251004T161842Z
UID:10001134-1894006800-1894012200@stjohnscc.org
SUMMARY:Caregiver Coffee Talk
DESCRIPTION:Every Monday\n9 am – 10:30 am \nEvery Friday\n10 am – 11:30 am \nAll caregivers are welcome. \nCoffee talk is for Caregivers to come together offering information\, resources\, and strategies specifically for caring for someone who may be disabled or have other health related concerns. \nCome together to share space and life experiences over a nice hot cup of coffee on St. John’s Community Care.
URL:https://stjohnscc.org/event/coffee-talk/2030-01-07/
END:VEVENT
BEGIN:VEVENT
DTSTART;TZID=America/Edmonton:20300107T130000
DTEND;TZID=America/Edmonton:20300107T143000
DTSTAMP:20260425T055505
CREATED:20251004T162312Z
LAST-MODIFIED:20251004T162312Z
UID:10002251-1894021200-1894026600@stjohnscc.org
SUMMARY:Alzheimer's Support Group Monday
DESCRIPTION:NOW OFFERING \nFirst and third Monday\, 1:00–2:30 p.m.\nGlen Carbon Senior Center\,\n157 N. Main\, Glen Carbon
URL:https://stjohnscc.org/event/alzheimers-support-group-monday/2030-01-07/
END:VEVENT
BEGIN:VEVENT
DTSTART;TZID=America/Edmonton:20300108T100000
DTEND;TZID=America/Edmonton:20300108T113000
DTSTAMP:20260425T055505
CREATED:20250421T214937Z
LAST-MODIFIED:20260306T195835Z
UID:10002751-1894096800-1894102200@stjohnscc.org
SUMMARY:Memory Cafe Edwardsville
DESCRIPTION:Tuesdays from 10am-11:30am at Edwardsville Library. In-person only.\n \n 
URL:https://stjohnscc.org/event/memory-cafe-at-main-street/2030-01-08/
END:VEVENT
BEGIN:VEVENT
DTSTART;TZID=America/Edmonton:20300108T133000
DTEND;TZID=America/Edmonton:20300108T150000
DTSTAMP:20260425T055505
CREATED:20260306T175347Z
LAST-MODIFIED:20260306T175348Z
UID:10002489-1894109400-1894114800@stjohnscc.org
SUMMARY:Alzheimer's Support Group
DESCRIPTION:
URL:https://stjohnscc.org/event/alzheimers-support-group-2-2-2/2030-01-08/
END:VEVENT
BEGIN:VEVENT
DTSTART;TZID=America/Edmonton:20300109T133000
DTEND;TZID=America/Edmonton:20300109T143000
DTSTAMP:20260425T055505
CREATED:20250515T160600Z
LAST-MODIFIED:20250515T160600Z
UID:10001841-1894195800-1894199400@stjohnscc.org
SUMMARY:Memory Cafe
DESCRIPTION:
URL:https://stjohnscc.org/event/memory-cafe/2030-01-09/
END:VEVENT
BEGIN:VEVENT
DTSTART;TZID=America/Edmonton:20300109T180000
DTEND;TZID=America/Edmonton:20300109T193000
DTSTAMP:20260425T055505
CREATED:20250611T155121Z
LAST-MODIFIED:20250611T155121Z
UID:10001534-1894212000-1894217400@stjohnscc.org
SUMMARY:Evening Zoom Group
DESCRIPTION: 
URL:https://stjohnscc.org/event/evening-zoom-group-wednesday-2/2030-01-09/
END:VEVENT
BEGIN:VEVENT
DTSTART;TZID=America/Edmonton:20300110T103000
DTEND;TZID=America/Edmonton:20300110T113000
DTSTAMP:20260425T055505
CREATED:20251004T162548Z
LAST-MODIFIED:20251006T161823Z
UID:10002371-1894271400-1894275000@stjohnscc.org
SUMMARY:Alzheimer's Support Group Thursday
DESCRIPTION:NOW OFFERING \nSecond Thursday of every month\, 10:30–11:30 a.m.\nEdwardsville YMCA\,\n1200 Esic Drive\, Edwardsville
URL:https://stjohnscc.org/event/alzheimers-support-group-thursday/2030-01-10/
END:VEVENT
BEGIN:VEVENT
DTSTART;TZID=America/Edmonton:20300111T100000
DTEND;TZID=America/Edmonton:20300111T113000
DTSTAMP:20260425T055505
CREATED:20240823T214659Z
LAST-MODIFIED:20250307T232054Z
UID:10001101-1894356000-1894361400@stjohnscc.org
SUMMARY:Caregiver Coffee Talk
DESCRIPTION:Every Monday\n9 am – 10:30 am \nEvery Friday\n10 am – 11:30 am \n\nAll caregivers are welcome. \nCoffee talk is for Caregivers to come together offering information\, resources\, and strategies specifically for caring for someone who may be disabled or have other health related concerns. \nCome together to share space and life experiences over a nice hot cup of coffee on St. John’s Community Care.
URL:https://stjohnscc.org/event/coffee-talk-2/2030-01-11/
END:VEVENT
BEGIN:VEVENT
DTSTART;TZID=America/Edmonton:20300114T090000
DTEND;TZID=America/Edmonton:20300114T103000
DTSTAMP:20260425T055505
CREATED:20240823T214550Z
LAST-MODIFIED:20251004T161842Z
UID:10001135-1894611600-1894617000@stjohnscc.org
SUMMARY:Caregiver Coffee Talk
DESCRIPTION:Every Monday\n9 am – 10:30 am \nEvery Friday\n10 am – 11:30 am \nAll caregivers are welcome. \nCoffee talk is for Caregivers to come together offering information\, resources\, and strategies specifically for caring for someone who may be disabled or have other health related concerns. \nCome together to share space and life experiences over a nice hot cup of coffee on St. John’s Community Care.
URL:https://stjohnscc.org/event/coffee-talk/2030-01-14/
END:VEVENT
BEGIN:VEVENT
DTSTART;TZID=America/Edmonton:20300115T100000
DTEND;TZID=America/Edmonton:20300115T113000
DTSTAMP:20260425T055505
CREATED:20250421T214937Z
LAST-MODIFIED:20260306T195835Z
UID:10002752-1894701600-1894707000@stjohnscc.org
SUMMARY:Memory Cafe Edwardsville
DESCRIPTION:Tuesdays from 10am-11:30am at Edwardsville Library. In-person only.\n \n 
URL:https://stjohnscc.org/event/memory-cafe-at-main-street/2030-01-15/
END:VEVENT
BEGIN:VEVENT
DTSTART;TZID=America/Edmonton:20300116T133000
DTEND;TZID=America/Edmonton:20300116T143000
DTSTAMP:20260425T055505
CREATED:20250515T160600Z
LAST-MODIFIED:20250515T160600Z
UID:10001842-1894800600-1894804200@stjohnscc.org
SUMMARY:Memory Cafe
DESCRIPTION:
URL:https://stjohnscc.org/event/memory-cafe/2030-01-16/
END:VEVENT
BEGIN:VEVENT
DTSTART;TZID=America/Edmonton:20300118T100000
DTEND;TZID=America/Edmonton:20300118T113000
DTSTAMP:20260425T055505
CREATED:20240823T214659Z
LAST-MODIFIED:20250307T232054Z
UID:10001102-1894960800-1894966200@stjohnscc.org
SUMMARY:Caregiver Coffee Talk
DESCRIPTION:Every Monday\n9 am – 10:30 am \nEvery Friday\n10 am – 11:30 am \n\nAll caregivers are welcome. \nCoffee talk is for Caregivers to come together offering information\, resources\, and strategies specifically for caring for someone who may be disabled or have other health related concerns. \nCome together to share space and life experiences over a nice hot cup of coffee on St. John’s Community Care.
URL:https://stjohnscc.org/event/coffee-talk-2/2030-01-18/
END:VEVENT
BEGIN:VEVENT
DTSTART;TZID=America/Edmonton:20300121T090000
DTEND;TZID=America/Edmonton:20300121T103000
DTSTAMP:20260425T055505
CREATED:20240823T214550Z
LAST-MODIFIED:20251004T161842Z
UID:10001136-1895216400-1895221800@stjohnscc.org
SUMMARY:Caregiver Coffee Talk
DESCRIPTION:Every Monday\n9 am – 10:30 am \nEvery Friday\n10 am – 11:30 am \nAll caregivers are welcome. \nCoffee talk is for Caregivers to come together offering information\, resources\, and strategies specifically for caring for someone who may be disabled or have other health related concerns. \nCome together to share space and life experiences over a nice hot cup of coffee on St. John’s Community Care.
URL:https://stjohnscc.org/event/coffee-talk/2030-01-21/
END:VEVENT
BEGIN:VEVENT
DTSTART;TZID=America/Edmonton:20300121T130000
DTEND;TZID=America/Edmonton:20300121T143000
DTSTAMP:20260425T055505
CREATED:20251004T162416Z
LAST-MODIFIED:20251004T162416Z
UID:10002311-1895230800-1895236200@stjohnscc.org
SUMMARY:Alzheimer's Support Group 3rd Monday
DESCRIPTION:NOW OFFERING \nFirst and third Monday\, 1:00–2:30 p.m.\nGlen Carbon Senior Center\,\n157 N. Main\, Glen Carbon
URL:https://stjohnscc.org/event/alzheimers-support-group-3rd-monday/2030-01-21/
END:VEVENT
BEGIN:VEVENT
DTSTART;TZID=America/Edmonton:20300122T100000
DTEND;TZID=America/Edmonton:20300122T113000
DTSTAMP:20260425T055505
CREATED:20250421T214937Z
LAST-MODIFIED:20260306T195835Z
UID:10002753-1895306400-1895311800@stjohnscc.org
SUMMARY:Memory Cafe Edwardsville
DESCRIPTION:Tuesdays from 10am-11:30am at Edwardsville Library. In-person only.\n \n 
URL:https://stjohnscc.org/event/memory-cafe-at-main-street/2030-01-22/
END:VEVENT
BEGIN:VEVENT
DTSTART;TZID=America/Edmonton:20300123T133000
DTEND;TZID=America/Edmonton:20300123T143000
DTSTAMP:20260425T055505
CREATED:20250515T160600Z
LAST-MODIFIED:20250515T160600Z
UID:10001843-1895405400-1895409000@stjohnscc.org
SUMMARY:Memory Cafe
DESCRIPTION:
URL:https://stjohnscc.org/event/memory-cafe/2030-01-23/
END:VEVENT
BEGIN:VEVENT
DTSTART;TZID=America/Edmonton:20300123T180000
DTEND;TZID=America/Edmonton:20300123T193000
DTSTAMP:20260425T055505
CREATED:20250611T154819Z
LAST-MODIFIED:20250611T155148Z
UID:10001916-1895421600-1895427000@stjohnscc.org
SUMMARY:Evening Zoom Group
DESCRIPTION:
URL:https://stjohnscc.org/event/evening-zoom-group-copy-2/2030-01-23/
END:VEVENT
BEGIN:VEVENT
DTSTART;TZID=America/Edmonton:20300125T100000
DTEND;TZID=America/Edmonton:20300125T113000
DTSTAMP:20260425T055505
CREATED:20240823T214659Z
LAST-MODIFIED:20250307T232054Z
UID:10001103-1895565600-1895571000@stjohnscc.org
SUMMARY:Caregiver Coffee Talk
DESCRIPTION:Every Monday\n9 am – 10:30 am \nEvery Friday\n10 am – 11:30 am \n\nAll caregivers are welcome. \nCoffee talk is for Caregivers to come together offering information\, resources\, and strategies specifically for caring for someone who may be disabled or have other health related concerns. \nCome together to share space and life experiences over a nice hot cup of coffee on St. John’s Community Care.
URL:https://stjohnscc.org/event/coffee-talk-2/2030-01-25/
END:VEVENT
BEGIN:VEVENT
DTSTART;TZID=America/Edmonton:20300128T090000
DTEND;TZID=America/Edmonton:20300128T103000
DTSTAMP:20260425T055505
CREATED:20240823T214550Z
LAST-MODIFIED:20251004T161842Z
UID:10001137-1895821200-1895826600@stjohnscc.org
SUMMARY:Caregiver Coffee Talk
DESCRIPTION:Every Monday\n9 am – 10:30 am \nEvery Friday\n10 am – 11:30 am \nAll caregivers are welcome. \nCoffee talk is for Caregivers to come together offering information\, resources\, and strategies specifically for caring for someone who may be disabled or have other health related concerns. \nCome together to share space and life experiences over a nice hot cup of coffee on St. John’s Community Care.
URL:https://stjohnscc.org/event/coffee-talk/2030-01-28/
END:VEVENT
BEGIN:VEVENT
DTSTART;TZID=America/Edmonton:20300129T100000
DTEND;TZID=America/Edmonton:20300129T113000
DTSTAMP:20260425T055505
CREATED:20250421T214937Z
LAST-MODIFIED:20260306T195835Z
UID:10002754-1895911200-1895916600@stjohnscc.org
SUMMARY:Memory Cafe Edwardsville
DESCRIPTION:Tuesdays from 10am-11:30am at Edwardsville Library. In-person only.\n \n 
URL:https://stjohnscc.org/event/memory-cafe-at-main-street/2030-01-29/
END:VEVENT
END:VCALENDAR