BEGIN:VCALENDAR
VERSION:2.0
PRODID:-//St. John’s Community Care - ECPv6.15.20//NONSGML v1.0//EN
CALSCALE:GREGORIAN
METHOD:PUBLISH
X-ORIGINAL-URL:https://stjohnscc.org
X-WR-CALDESC:Events for St. John’s Community Care
REFRESH-INTERVAL;VALUE=DURATION:PT1H
X-Robots-Tag:noindex
X-PUBLISHED-TTL:PT1H
BEGIN:VTIMEZONE
TZID:America/Edmonton
BEGIN:DAYLIGHT
TZOFFSETFROM:-0700
TZOFFSETTO:-0600
TZNAME:MDT
DTSTART:20280312T090000
END:DAYLIGHT
BEGIN:STANDARD
TZOFFSETFROM:-0600
TZOFFSETTO:-0700
TZNAME:MST
DTSTART:20281105T080000
END:STANDARD
BEGIN:DAYLIGHT
TZOFFSETFROM:-0700
TZOFFSETTO:-0600
TZNAME:MDT
DTSTART:20290311T090000
END:DAYLIGHT
BEGIN:STANDARD
TZOFFSETFROM:-0600
TZOFFSETTO:-0700
TZNAME:MST
DTSTART:20291104T080000
END:STANDARD
BEGIN:DAYLIGHT
TZOFFSETFROM:-0700
TZOFFSETTO:-0600
TZNAME:MDT
DTSTART:20300310T090000
END:DAYLIGHT
BEGIN:STANDARD
TZOFFSETFROM:-0600
TZOFFSETTO:-0700
TZNAME:MST
DTSTART:20301103T080000
END:STANDARD
END:VTIMEZONE
BEGIN:VEVENT
DTSTART;TZID=America/Edmonton:20290904T100000
DTEND;TZID=America/Edmonton:20290904T113000
DTSTAMP:20260423T015501
CREATED:20250421T214937Z
LAST-MODIFIED:20260306T195835Z
UID:10002733-1883210400-1883215800@stjohnscc.org
SUMMARY:Memory Cafe Edwardsville
DESCRIPTION:Tuesdays from 10am-11:30am at Edwardsville Library. In-person only.\n \n 
URL:https://stjohnscc.org/event/memory-cafe-at-main-street/2029-09-04/
END:VEVENT
BEGIN:VEVENT
DTSTART;TZID=America/Edmonton:20290905T133000
DTEND;TZID=America/Edmonton:20290905T143000
DTSTAMP:20260423T015501
CREATED:20250515T160600Z
LAST-MODIFIED:20250515T160600Z
UID:10001823-1883309400-1883313000@stjohnscc.org
SUMMARY:Memory Cafe
DESCRIPTION:
URL:https://stjohnscc.org/event/memory-cafe/2029-09-05/
END:VEVENT
BEGIN:VEVENT
DTSTART;TZID=America/Edmonton:20290907T100000
DTEND;TZID=America/Edmonton:20290907T113000
DTSTAMP:20260423T015501
CREATED:20240823T214659Z
LAST-MODIFIED:20250307T232054Z
UID:10001083-1883469600-1883475000@stjohnscc.org
SUMMARY:Caregiver Coffee Talk
DESCRIPTION:Every Monday\n9 am – 10:30 am \nEvery Friday\n10 am – 11:30 am \n\nAll caregivers are welcome. \nCoffee talk is for Caregivers to come together offering information\, resources\, and strategies specifically for caring for someone who may be disabled or have other health related concerns. \nCome together to share space and life experiences over a nice hot cup of coffee on St. John’s Community Care.
URL:https://stjohnscc.org/event/coffee-talk-2/2029-09-07/
END:VEVENT
BEGIN:VEVENT
DTSTART;TZID=America/Edmonton:20290910T090000
DTEND;TZID=America/Edmonton:20290910T103000
DTSTAMP:20260423T015501
CREATED:20240823T214550Z
LAST-MODIFIED:20251004T161842Z
UID:10001117-1883725200-1883730600@stjohnscc.org
SUMMARY:Caregiver Coffee Talk
DESCRIPTION:Every Monday\n9 am – 10:30 am \nEvery Friday\n10 am – 11:30 am \nAll caregivers are welcome. \nCoffee talk is for Caregivers to come together offering information\, resources\, and strategies specifically for caring for someone who may be disabled or have other health related concerns. \nCome together to share space and life experiences over a nice hot cup of coffee on St. John’s Community Care.
URL:https://stjohnscc.org/event/coffee-talk/2029-09-10/
END:VEVENT
BEGIN:VEVENT
DTSTART;TZID=America/Edmonton:20290911T100000
DTEND;TZID=America/Edmonton:20290911T113000
DTSTAMP:20260423T015501
CREATED:20250421T214937Z
LAST-MODIFIED:20260306T195835Z
UID:10002734-1883815200-1883820600@stjohnscc.org
SUMMARY:Memory Cafe Edwardsville
DESCRIPTION:Tuesdays from 10am-11:30am at Edwardsville Library. In-person only.\n \n 
URL:https://stjohnscc.org/event/memory-cafe-at-main-street/2029-09-11/
END:VEVENT
BEGIN:VEVENT
DTSTART;TZID=America/Edmonton:20290911T133000
DTEND;TZID=America/Edmonton:20290911T150000
DTSTAMP:20260423T015501
CREATED:20260306T175347Z
LAST-MODIFIED:20260306T175348Z
UID:10002485-1883827800-1883833200@stjohnscc.org
SUMMARY:Alzheimer's Support Group
DESCRIPTION:
URL:https://stjohnscc.org/event/alzheimers-support-group-2-2-2/2029-09-11/
END:VEVENT
BEGIN:VEVENT
DTSTART;TZID=America/Edmonton:20290912T133000
DTEND;TZID=America/Edmonton:20290912T143000
DTSTAMP:20260423T015501
CREATED:20250515T160600Z
LAST-MODIFIED:20250515T160600Z
UID:10001824-1883914200-1883917800@stjohnscc.org
SUMMARY:Memory Cafe
DESCRIPTION:
URL:https://stjohnscc.org/event/memory-cafe/2029-09-12/
END:VEVENT
BEGIN:VEVENT
DTSTART;TZID=America/Edmonton:20290912T180000
DTEND;TZID=America/Edmonton:20290912T193000
DTSTAMP:20260423T015501
CREATED:20250611T155121Z
LAST-MODIFIED:20250611T155121Z
UID:10001530-1883930400-1883935800@stjohnscc.org
SUMMARY:Evening Zoom Group
DESCRIPTION: 
URL:https://stjohnscc.org/event/evening-zoom-group-wednesday-2/2029-09-12/
END:VEVENT
BEGIN:VEVENT
DTSTART;TZID=America/Edmonton:20290913T103000
DTEND;TZID=America/Edmonton:20290913T113000
DTSTAMP:20260423T015501
CREATED:20251004T162548Z
LAST-MODIFIED:20251006T161823Z
UID:10002367-1883989800-1883993400@stjohnscc.org
SUMMARY:Alzheimer's Support Group Thursday
DESCRIPTION:NOW OFFERING \nSecond Thursday of every month\, 10:30–11:30 a.m.\nEdwardsville YMCA\,\n1200 Esic Drive\, Edwardsville
URL:https://stjohnscc.org/event/alzheimers-support-group-thursday/2029-09-13/
END:VEVENT
BEGIN:VEVENT
DTSTART;TZID=America/Edmonton:20290914T100000
DTEND;TZID=America/Edmonton:20290914T113000
DTSTAMP:20260423T015501
CREATED:20240823T214659Z
LAST-MODIFIED:20250307T232054Z
UID:10001084-1884074400-1884079800@stjohnscc.org
SUMMARY:Caregiver Coffee Talk
DESCRIPTION:Every Monday\n9 am – 10:30 am \nEvery Friday\n10 am – 11:30 am \n\nAll caregivers are welcome. \nCoffee talk is for Caregivers to come together offering information\, resources\, and strategies specifically for caring for someone who may be disabled or have other health related concerns. \nCome together to share space and life experiences over a nice hot cup of coffee on St. John’s Community Care.
URL:https://stjohnscc.org/event/coffee-talk-2/2029-09-14/
END:VEVENT
BEGIN:VEVENT
DTSTART;TZID=America/Edmonton:20290917T090000
DTEND;TZID=America/Edmonton:20290917T103000
DTSTAMP:20260423T015501
CREATED:20240823T214550Z
LAST-MODIFIED:20251004T161842Z
UID:10001118-1884330000-1884335400@stjohnscc.org
SUMMARY:Caregiver Coffee Talk
DESCRIPTION:Every Monday\n9 am – 10:30 am \nEvery Friday\n10 am – 11:30 am \nAll caregivers are welcome. \nCoffee talk is for Caregivers to come together offering information\, resources\, and strategies specifically for caring for someone who may be disabled or have other health related concerns. \nCome together to share space and life experiences over a nice hot cup of coffee on St. John’s Community Care.
URL:https://stjohnscc.org/event/coffee-talk/2029-09-17/
END:VEVENT
BEGIN:VEVENT
DTSTART;TZID=America/Edmonton:20290917T130000
DTEND;TZID=America/Edmonton:20290917T143000
DTSTAMP:20260423T015501
CREATED:20251004T162416Z
LAST-MODIFIED:20251004T162416Z
UID:10002307-1884344400-1884349800@stjohnscc.org
SUMMARY:Alzheimer's Support Group 3rd Monday
DESCRIPTION:NOW OFFERING \nFirst and third Monday\, 1:00–2:30 p.m.\nGlen Carbon Senior Center\,\n157 N. Main\, Glen Carbon
URL:https://stjohnscc.org/event/alzheimers-support-group-3rd-monday/2029-09-17/
END:VEVENT
BEGIN:VEVENT
DTSTART;TZID=America/Edmonton:20290918T100000
DTEND;TZID=America/Edmonton:20290918T113000
DTSTAMP:20260423T015501
CREATED:20250421T214937Z
LAST-MODIFIED:20260306T195835Z
UID:10002735-1884420000-1884425400@stjohnscc.org
SUMMARY:Memory Cafe Edwardsville
DESCRIPTION:Tuesdays from 10am-11:30am at Edwardsville Library. In-person only.\n \n 
URL:https://stjohnscc.org/event/memory-cafe-at-main-street/2029-09-18/
END:VEVENT
BEGIN:VEVENT
DTSTART;TZID=America/Edmonton:20290919T133000
DTEND;TZID=America/Edmonton:20290919T143000
DTSTAMP:20260423T015501
CREATED:20250515T160600Z
LAST-MODIFIED:20250515T160600Z
UID:10001825-1884519000-1884522600@stjohnscc.org
SUMMARY:Memory Cafe
DESCRIPTION:
URL:https://stjohnscc.org/event/memory-cafe/2029-09-19/
END:VEVENT
BEGIN:VEVENT
DTSTART;TZID=America/Edmonton:20290921T100000
DTEND;TZID=America/Edmonton:20290921T113000
DTSTAMP:20260423T015501
CREATED:20240823T214659Z
LAST-MODIFIED:20250307T232054Z
UID:10001085-1884679200-1884684600@stjohnscc.org
SUMMARY:Caregiver Coffee Talk
DESCRIPTION:Every Monday\n9 am – 10:30 am \nEvery Friday\n10 am – 11:30 am \n\nAll caregivers are welcome. \nCoffee talk is for Caregivers to come together offering information\, resources\, and strategies specifically for caring for someone who may be disabled or have other health related concerns. \nCome together to share space and life experiences over a nice hot cup of coffee on St. John’s Community Care.
URL:https://stjohnscc.org/event/coffee-talk-2/2029-09-21/
END:VEVENT
BEGIN:VEVENT
DTSTART;TZID=America/Edmonton:20290924T090000
DTEND;TZID=America/Edmonton:20290924T103000
DTSTAMP:20260423T015501
CREATED:20240823T214550Z
LAST-MODIFIED:20251004T161842Z
UID:10001119-1884934800-1884940200@stjohnscc.org
SUMMARY:Caregiver Coffee Talk
DESCRIPTION:Every Monday\n9 am – 10:30 am \nEvery Friday\n10 am – 11:30 am \nAll caregivers are welcome. \nCoffee talk is for Caregivers to come together offering information\, resources\, and strategies specifically for caring for someone who may be disabled or have other health related concerns. \nCome together to share space and life experiences over a nice hot cup of coffee on St. John’s Community Care.
URL:https://stjohnscc.org/event/coffee-talk/2029-09-24/
END:VEVENT
BEGIN:VEVENT
DTSTART;TZID=America/Edmonton:20290925T100000
DTEND;TZID=America/Edmonton:20290925T113000
DTSTAMP:20260423T015501
CREATED:20250421T214937Z
LAST-MODIFIED:20260306T195835Z
UID:10002736-1885024800-1885030200@stjohnscc.org
SUMMARY:Memory Cafe Edwardsville
DESCRIPTION:Tuesdays from 10am-11:30am at Edwardsville Library. In-person only.\n \n 
URL:https://stjohnscc.org/event/memory-cafe-at-main-street/2029-09-25/
END:VEVENT
BEGIN:VEVENT
DTSTART;TZID=America/Edmonton:20290926T133000
DTEND;TZID=America/Edmonton:20290926T143000
DTSTAMP:20260423T015501
CREATED:20250515T160600Z
LAST-MODIFIED:20250515T160600Z
UID:10001826-1885123800-1885127400@stjohnscc.org
SUMMARY:Memory Cafe
DESCRIPTION:
URL:https://stjohnscc.org/event/memory-cafe/2029-09-26/
END:VEVENT
BEGIN:VEVENT
DTSTART;TZID=America/Edmonton:20290926T180000
DTEND;TZID=America/Edmonton:20290926T193000
DTSTAMP:20260423T015501
CREATED:20250611T154819Z
LAST-MODIFIED:20250611T155148Z
UID:10001912-1885140000-1885145400@stjohnscc.org
SUMMARY:Evening Zoom Group
DESCRIPTION:
URL:https://stjohnscc.org/event/evening-zoom-group-copy-2/2029-09-26/
END:VEVENT
BEGIN:VEVENT
DTSTART;TZID=America/Edmonton:20290928T100000
DTEND;TZID=America/Edmonton:20290928T113000
DTSTAMP:20260423T015501
CREATED:20240823T214659Z
LAST-MODIFIED:20250307T232054Z
UID:10001086-1885284000-1885289400@stjohnscc.org
SUMMARY:Caregiver Coffee Talk
DESCRIPTION:Every Monday\n9 am – 10:30 am \nEvery Friday\n10 am – 11:30 am \n\nAll caregivers are welcome. \nCoffee talk is for Caregivers to come together offering information\, resources\, and strategies specifically for caring for someone who may be disabled or have other health related concerns. \nCome together to share space and life experiences over a nice hot cup of coffee on St. John’s Community Care.
URL:https://stjohnscc.org/event/coffee-talk-2/2029-09-28/
END:VEVENT
BEGIN:VEVENT
DTSTART;TZID=America/Edmonton:20291001T090000
DTEND;TZID=America/Edmonton:20291001T103000
DTSTAMP:20260423T015501
CREATED:20240823T214550Z
LAST-MODIFIED:20251004T161842Z
UID:10001120-1885539600-1885545000@stjohnscc.org
SUMMARY:Caregiver Coffee Talk
DESCRIPTION:Every Monday\n9 am – 10:30 am \nEvery Friday\n10 am – 11:30 am \nAll caregivers are welcome. \nCoffee talk is for Caregivers to come together offering information\, resources\, and strategies specifically for caring for someone who may be disabled or have other health related concerns. \nCome together to share space and life experiences over a nice hot cup of coffee on St. John’s Community Care.
URL:https://stjohnscc.org/event/coffee-talk/2029-10-01/
END:VEVENT
BEGIN:VEVENT
DTSTART;TZID=America/Edmonton:20291001T130000
DTEND;TZID=America/Edmonton:20291001T143000
DTSTAMP:20260423T015501
CREATED:20251004T162312Z
LAST-MODIFIED:20251004T162312Z
UID:10002248-1885554000-1885559400@stjohnscc.org
SUMMARY:Alzheimer's Support Group Monday
DESCRIPTION:NOW OFFERING \nFirst and third Monday\, 1:00–2:30 p.m.\nGlen Carbon Senior Center\,\n157 N. Main\, Glen Carbon
URL:https://stjohnscc.org/event/alzheimers-support-group-monday/2029-10-01/
END:VEVENT
BEGIN:VEVENT
DTSTART;TZID=America/Edmonton:20291002T100000
DTEND;TZID=America/Edmonton:20291002T113000
DTSTAMP:20260423T015501
CREATED:20250421T214937Z
LAST-MODIFIED:20260306T195835Z
UID:10002737-1885629600-1885635000@stjohnscc.org
SUMMARY:Memory Cafe Edwardsville
DESCRIPTION:Tuesdays from 10am-11:30am at Edwardsville Library. In-person only.\n \n 
URL:https://stjohnscc.org/event/memory-cafe-at-main-street/2029-10-02/
END:VEVENT
BEGIN:VEVENT
DTSTART;TZID=America/Edmonton:20291003T133000
DTEND;TZID=America/Edmonton:20291003T143000
DTSTAMP:20260423T015501
CREATED:20250515T160600Z
LAST-MODIFIED:20250515T160600Z
UID:10001827-1885728600-1885732200@stjohnscc.org
SUMMARY:Memory Cafe
DESCRIPTION:
URL:https://stjohnscc.org/event/memory-cafe/2029-10-03/
END:VEVENT
BEGIN:VEVENT
DTSTART;TZID=America/Edmonton:20291005T100000
DTEND;TZID=America/Edmonton:20291005T113000
DTSTAMP:20260423T015501
CREATED:20240823T214659Z
LAST-MODIFIED:20250307T232054Z
UID:10001087-1885888800-1885894200@stjohnscc.org
SUMMARY:Caregiver Coffee Talk
DESCRIPTION:Every Monday\n9 am – 10:30 am \nEvery Friday\n10 am – 11:30 am \n\nAll caregivers are welcome. \nCoffee talk is for Caregivers to come together offering information\, resources\, and strategies specifically for caring for someone who may be disabled or have other health related concerns. \nCome together to share space and life experiences over a nice hot cup of coffee on St. John’s Community Care.
URL:https://stjohnscc.org/event/coffee-talk-2/2029-10-05/
END:VEVENT
BEGIN:VEVENT
DTSTART;TZID=America/Edmonton:20291008T090000
DTEND;TZID=America/Edmonton:20291008T103000
DTSTAMP:20260423T015501
CREATED:20240823T214550Z
LAST-MODIFIED:20251004T161842Z
UID:10001121-1886144400-1886149800@stjohnscc.org
SUMMARY:Caregiver Coffee Talk
DESCRIPTION:Every Monday\n9 am – 10:30 am \nEvery Friday\n10 am – 11:30 am \nAll caregivers are welcome. \nCoffee talk is for Caregivers to come together offering information\, resources\, and strategies specifically for caring for someone who may be disabled or have other health related concerns. \nCome together to share space and life experiences over a nice hot cup of coffee on St. John’s Community Care.
URL:https://stjohnscc.org/event/coffee-talk/2029-10-08/
END:VEVENT
BEGIN:VEVENT
DTSTART;TZID=America/Edmonton:20291009T100000
DTEND;TZID=America/Edmonton:20291009T113000
DTSTAMP:20260423T015501
CREATED:20250421T214937Z
LAST-MODIFIED:20260306T195835Z
UID:10002738-1886234400-1886239800@stjohnscc.org
SUMMARY:Memory Cafe Edwardsville
DESCRIPTION:Tuesdays from 10am-11:30am at Edwardsville Library. In-person only.\n \n 
URL:https://stjohnscc.org/event/memory-cafe-at-main-street/2029-10-09/
END:VEVENT
BEGIN:VEVENT
DTSTART;TZID=America/Edmonton:20291009T133000
DTEND;TZID=America/Edmonton:20291009T150000
DTSTAMP:20260423T015501
CREATED:20260306T175347Z
LAST-MODIFIED:20260306T175348Z
UID:10002486-1886247000-1886252400@stjohnscc.org
SUMMARY:Alzheimer's Support Group
DESCRIPTION:
URL:https://stjohnscc.org/event/alzheimers-support-group-2-2-2/2029-10-09/
END:VEVENT
BEGIN:VEVENT
DTSTART;TZID=America/Edmonton:20291010T133000
DTEND;TZID=America/Edmonton:20291010T143000
DTSTAMP:20260423T015501
CREATED:20250515T160600Z
LAST-MODIFIED:20250515T160600Z
UID:10001828-1886333400-1886337000@stjohnscc.org
SUMMARY:Memory Cafe
DESCRIPTION:
URL:https://stjohnscc.org/event/memory-cafe/2029-10-10/
END:VEVENT
BEGIN:VEVENT
DTSTART;TZID=America/Edmonton:20291010T180000
DTEND;TZID=America/Edmonton:20291010T193000
DTSTAMP:20260423T015501
CREATED:20250611T155121Z
LAST-MODIFIED:20250611T155121Z
UID:10001531-1886349600-1886355000@stjohnscc.org
SUMMARY:Evening Zoom Group
DESCRIPTION: 
URL:https://stjohnscc.org/event/evening-zoom-group-wednesday-2/2029-10-10/
END:VEVENT
END:VCALENDAR