BEGIN:VCALENDAR
VERSION:2.0
PRODID:-//St. John’s Community Care - ECPv6.15.20//NONSGML v1.0//EN
CALSCALE:GREGORIAN
METHOD:PUBLISH
X-WR-CALNAME:St. John’s Community Care
X-ORIGINAL-URL:https://stjohnscc.org
X-WR-CALDESC:Events for St. John’s Community Care
REFRESH-INTERVAL;VALUE=DURATION:PT1H
X-Robots-Tag:noindex
X-PUBLISHED-TTL:PT1H
BEGIN:VTIMEZONE
TZID:America/Edmonton
BEGIN:DAYLIGHT
TZOFFSETFROM:-0700
TZOFFSETTO:-0600
TZNAME:MDT
DTSTART:20280312T090000
END:DAYLIGHT
BEGIN:STANDARD
TZOFFSETFROM:-0600
TZOFFSETTO:-0700
TZNAME:MST
DTSTART:20281105T080000
END:STANDARD
BEGIN:DAYLIGHT
TZOFFSETFROM:-0700
TZOFFSETTO:-0600
TZNAME:MDT
DTSTART:20290311T090000
END:DAYLIGHT
BEGIN:STANDARD
TZOFFSETFROM:-0600
TZOFFSETTO:-0700
TZNAME:MST
DTSTART:20291104T080000
END:STANDARD
BEGIN:DAYLIGHT
TZOFFSETFROM:-0700
TZOFFSETTO:-0600
TZNAME:MDT
DTSTART:20300310T090000
END:DAYLIGHT
BEGIN:STANDARD
TZOFFSETFROM:-0600
TZOFFSETTO:-0700
TZNAME:MST
DTSTART:20301103T080000
END:STANDARD
END:VTIMEZONE
BEGIN:VEVENT
DTSTART;TZID=America/Edmonton:20290806T090000
DTEND;TZID=America/Edmonton:20290806T103000
DTSTAMP:20260422T232727
CREATED:20240823T214550Z
LAST-MODIFIED:20251004T161842Z
UID:10000390-1880701200-1880706600@stjohnscc.org
SUMMARY:Caregiver Coffee Talk
DESCRIPTION:Every Monday\n9 am – 10:30 am \nEvery Friday\n10 am – 11:30 am \nAll caregivers are welcome. \nCoffee talk is for Caregivers to come together offering information\, resources\, and strategies specifically for caring for someone who may be disabled or have other health related concerns. \nCome together to share space and life experiences over a nice hot cup of coffee on St. John’s Community Care.
URL:https://stjohnscc.org/event/coffee-talk/2029-08-06/
END:VEVENT
BEGIN:VEVENT
DTSTART;TZID=America/Edmonton:20290806T130000
DTEND;TZID=America/Edmonton:20290806T143000
DTSTAMP:20260422T232727
CREATED:20251004T162312Z
LAST-MODIFIED:20251004T162312Z
UID:10002246-1880715600-1880721000@stjohnscc.org
SUMMARY:Alzheimer's Support Group Monday
DESCRIPTION:NOW OFFERING \nFirst and third Monday\, 1:00–2:30 p.m.\nGlen Carbon Senior Center\,\n157 N. Main\, Glen Carbon
URL:https://stjohnscc.org/event/alzheimers-support-group-monday/2029-08-06/
END:VEVENT
BEGIN:VEVENT
DTSTART;TZID=America/Edmonton:20290807T100000
DTEND;TZID=America/Edmonton:20290807T113000
DTSTAMP:20260422T232727
CREATED:20250421T214937Z
LAST-MODIFIED:20260306T195835Z
UID:10002729-1880791200-1880796600@stjohnscc.org
SUMMARY:Memory Cafe Edwardsville
DESCRIPTION:Tuesdays from 10am-11:30am at Edwardsville Library. In-person only.\n \n 
URL:https://stjohnscc.org/event/memory-cafe-at-main-street/2029-08-07/
END:VEVENT
BEGIN:VEVENT
DTSTART;TZID=America/Edmonton:20290808T133000
DTEND;TZID=America/Edmonton:20290808T143000
DTSTAMP:20260422T232727
CREATED:20250515T160600Z
LAST-MODIFIED:20250515T160600Z
UID:10001819-1880890200-1880893800@stjohnscc.org
SUMMARY:Memory Cafe
DESCRIPTION:
URL:https://stjohnscc.org/event/memory-cafe/2029-08-08/
END:VEVENT
BEGIN:VEVENT
DTSTART;TZID=America/Edmonton:20290808T180000
DTEND;TZID=America/Edmonton:20290808T193000
DTSTAMP:20260422T232727
CREATED:20250611T155121Z
LAST-MODIFIED:20250611T155121Z
UID:10001529-1880906400-1880911800@stjohnscc.org
SUMMARY:Evening Zoom Group
DESCRIPTION: 
URL:https://stjohnscc.org/event/evening-zoom-group-wednesday-2/2029-08-08/
END:VEVENT
BEGIN:VEVENT
DTSTART;TZID=America/Edmonton:20290809T103000
DTEND;TZID=America/Edmonton:20290809T113000
DTSTAMP:20260422T232727
CREATED:20251004T162548Z
LAST-MODIFIED:20251006T161823Z
UID:10002366-1880965800-1880969400@stjohnscc.org
SUMMARY:Alzheimer's Support Group Thursday
DESCRIPTION:NOW OFFERING \nSecond Thursday of every month\, 10:30–11:30 a.m.\nEdwardsville YMCA\,\n1200 Esic Drive\, Edwardsville
URL:https://stjohnscc.org/event/alzheimers-support-group-thursday/2029-08-09/
END:VEVENT
BEGIN:VEVENT
DTSTART;TZID=America/Edmonton:20290810T100000
DTEND;TZID=America/Edmonton:20290810T113000
DTSTAMP:20260422T232727
CREATED:20240823T214659Z
LAST-MODIFIED:20250307T232054Z
UID:10000646-1881050400-1881055800@stjohnscc.org
SUMMARY:Caregiver Coffee Talk
DESCRIPTION:Every Monday\n9 am – 10:30 am \nEvery Friday\n10 am – 11:30 am \n\nAll caregivers are welcome. \nCoffee talk is for Caregivers to come together offering information\, resources\, and strategies specifically for caring for someone who may be disabled or have other health related concerns. \nCome together to share space and life experiences over a nice hot cup of coffee on St. John’s Community Care.
URL:https://stjohnscc.org/event/coffee-talk-2/2029-08-10/
END:VEVENT
BEGIN:VEVENT
DTSTART;TZID=America/Edmonton:20290813T090000
DTEND;TZID=America/Edmonton:20290813T103000
DTSTAMP:20260422T232727
CREATED:20240823T214550Z
LAST-MODIFIED:20251004T161842Z
UID:10000391-1881306000-1881311400@stjohnscc.org
SUMMARY:Caregiver Coffee Talk
DESCRIPTION:Every Monday\n9 am – 10:30 am \nEvery Friday\n10 am – 11:30 am \nAll caregivers are welcome. \nCoffee talk is for Caregivers to come together offering information\, resources\, and strategies specifically for caring for someone who may be disabled or have other health related concerns. \nCome together to share space and life experiences over a nice hot cup of coffee on St. John’s Community Care.
URL:https://stjohnscc.org/event/coffee-talk/2029-08-13/
END:VEVENT
BEGIN:VEVENT
DTSTART;TZID=America/Edmonton:20290814T100000
DTEND;TZID=America/Edmonton:20290814T113000
DTSTAMP:20260422T232727
CREATED:20250421T214937Z
LAST-MODIFIED:20260306T195835Z
UID:10002730-1881396000-1881401400@stjohnscc.org
SUMMARY:Memory Cafe Edwardsville
DESCRIPTION:Tuesdays from 10am-11:30am at Edwardsville Library. In-person only.\n \n 
URL:https://stjohnscc.org/event/memory-cafe-at-main-street/2029-08-14/
END:VEVENT
BEGIN:VEVENT
DTSTART;TZID=America/Edmonton:20290814T133000
DTEND;TZID=America/Edmonton:20290814T150000
DTSTAMP:20260422T232727
CREATED:20260306T175347Z
LAST-MODIFIED:20260306T175348Z
UID:10002484-1881408600-1881414000@stjohnscc.org
SUMMARY:Alzheimer's Support Group
DESCRIPTION:
URL:https://stjohnscc.org/event/alzheimers-support-group-2-2-2/2029-08-14/
END:VEVENT
BEGIN:VEVENT
DTSTART;TZID=America/Edmonton:20290815T133000
DTEND;TZID=America/Edmonton:20290815T143000
DTSTAMP:20260422T232727
CREATED:20250515T160600Z
LAST-MODIFIED:20250515T160600Z
UID:10001820-1881495000-1881498600@stjohnscc.org
SUMMARY:Memory Cafe
DESCRIPTION:
URL:https://stjohnscc.org/event/memory-cafe/2029-08-15/
END:VEVENT
BEGIN:VEVENT
DTSTART;TZID=America/Edmonton:20290817T100000
DTEND;TZID=America/Edmonton:20290817T113000
DTSTAMP:20260422T232727
CREATED:20240823T214659Z
LAST-MODIFIED:20250307T232054Z
UID:10000647-1881655200-1881660600@stjohnscc.org
SUMMARY:Caregiver Coffee Talk
DESCRIPTION:Every Monday\n9 am – 10:30 am \nEvery Friday\n10 am – 11:30 am \n\nAll caregivers are welcome. \nCoffee talk is for Caregivers to come together offering information\, resources\, and strategies specifically for caring for someone who may be disabled or have other health related concerns. \nCome together to share space and life experiences over a nice hot cup of coffee on St. John’s Community Care.
URL:https://stjohnscc.org/event/coffee-talk-2/2029-08-17/
END:VEVENT
BEGIN:VEVENT
DTSTART;TZID=America/Edmonton:20290820T090000
DTEND;TZID=America/Edmonton:20290820T103000
DTSTAMP:20260422T232727
CREATED:20240823T214550Z
LAST-MODIFIED:20251004T161842Z
UID:10000392-1881910800-1881916200@stjohnscc.org
SUMMARY:Caregiver Coffee Talk
DESCRIPTION:Every Monday\n9 am – 10:30 am \nEvery Friday\n10 am – 11:30 am \nAll caregivers are welcome. \nCoffee talk is for Caregivers to come together offering information\, resources\, and strategies specifically for caring for someone who may be disabled or have other health related concerns. \nCome together to share space and life experiences over a nice hot cup of coffee on St. John’s Community Care.
URL:https://stjohnscc.org/event/coffee-talk/2029-08-20/
END:VEVENT
BEGIN:VEVENT
DTSTART;TZID=America/Edmonton:20290820T130000
DTEND;TZID=America/Edmonton:20290820T143000
DTSTAMP:20260422T232727
CREATED:20251004T162416Z
LAST-MODIFIED:20251004T162416Z
UID:10002306-1881925200-1881930600@stjohnscc.org
SUMMARY:Alzheimer's Support Group 3rd Monday
DESCRIPTION:NOW OFFERING \nFirst and third Monday\, 1:00–2:30 p.m.\nGlen Carbon Senior Center\,\n157 N. Main\, Glen Carbon
URL:https://stjohnscc.org/event/alzheimers-support-group-3rd-monday/2029-08-20/
END:VEVENT
BEGIN:VEVENT
DTSTART;TZID=America/Edmonton:20290821T100000
DTEND;TZID=America/Edmonton:20290821T113000
DTSTAMP:20260422T232727
CREATED:20250421T214937Z
LAST-MODIFIED:20260306T195835Z
UID:10002731-1882000800-1882006200@stjohnscc.org
SUMMARY:Memory Cafe Edwardsville
DESCRIPTION:Tuesdays from 10am-11:30am at Edwardsville Library. In-person only.\n \n 
URL:https://stjohnscc.org/event/memory-cafe-at-main-street/2029-08-21/
END:VEVENT
BEGIN:VEVENT
DTSTART;TZID=America/Edmonton:20290822T133000
DTEND;TZID=America/Edmonton:20290822T143000
DTSTAMP:20260422T232727
CREATED:20250515T160600Z
LAST-MODIFIED:20250515T160600Z
UID:10001821-1882099800-1882103400@stjohnscc.org
SUMMARY:Memory Cafe
DESCRIPTION:
URL:https://stjohnscc.org/event/memory-cafe/2029-08-22/
END:VEVENT
BEGIN:VEVENT
DTSTART;TZID=America/Edmonton:20290822T180000
DTEND;TZID=America/Edmonton:20290822T193000
DTSTAMP:20260422T232727
CREATED:20250611T154819Z
LAST-MODIFIED:20250611T155148Z
UID:10001911-1882116000-1882121400@stjohnscc.org
SUMMARY:Evening Zoom Group
DESCRIPTION:
URL:https://stjohnscc.org/event/evening-zoom-group-copy-2/2029-08-22/
END:VEVENT
BEGIN:VEVENT
DTSTART;TZID=America/Edmonton:20290824T100000
DTEND;TZID=America/Edmonton:20290824T113000
DTSTAMP:20260422T232727
CREATED:20240823T214659Z
LAST-MODIFIED:20250307T232054Z
UID:10001081-1882260000-1882265400@stjohnscc.org
SUMMARY:Caregiver Coffee Talk
DESCRIPTION:Every Monday\n9 am – 10:30 am \nEvery Friday\n10 am – 11:30 am \n\nAll caregivers are welcome. \nCoffee talk is for Caregivers to come together offering information\, resources\, and strategies specifically for caring for someone who may be disabled or have other health related concerns. \nCome together to share space and life experiences over a nice hot cup of coffee on St. John’s Community Care.
URL:https://stjohnscc.org/event/coffee-talk-2/2029-08-24/
END:VEVENT
BEGIN:VEVENT
DTSTART;TZID=America/Edmonton:20290827T090000
DTEND;TZID=America/Edmonton:20290827T103000
DTSTAMP:20260422T232727
CREATED:20240823T214550Z
LAST-MODIFIED:20251004T161842Z
UID:10001115-1882515600-1882521000@stjohnscc.org
SUMMARY:Caregiver Coffee Talk
DESCRIPTION:Every Monday\n9 am – 10:30 am \nEvery Friday\n10 am – 11:30 am \nAll caregivers are welcome. \nCoffee talk is for Caregivers to come together offering information\, resources\, and strategies specifically for caring for someone who may be disabled or have other health related concerns. \nCome together to share space and life experiences over a nice hot cup of coffee on St. John’s Community Care.
URL:https://stjohnscc.org/event/coffee-talk/2029-08-27/
END:VEVENT
BEGIN:VEVENT
DTSTART;TZID=America/Edmonton:20290828T100000
DTEND;TZID=America/Edmonton:20290828T113000
DTSTAMP:20260422T232727
CREATED:20250421T214937Z
LAST-MODIFIED:20260306T195835Z
UID:10002732-1882605600-1882611000@stjohnscc.org
SUMMARY:Memory Cafe Edwardsville
DESCRIPTION:Tuesdays from 10am-11:30am at Edwardsville Library. In-person only.\n \n 
URL:https://stjohnscc.org/event/memory-cafe-at-main-street/2029-08-28/
END:VEVENT
BEGIN:VEVENT
DTSTART;TZID=America/Edmonton:20290829T133000
DTEND;TZID=America/Edmonton:20290829T143000
DTSTAMP:20260422T232727
CREATED:20250515T160600Z
LAST-MODIFIED:20250515T160600Z
UID:10001822-1882704600-1882708200@stjohnscc.org
SUMMARY:Memory Cafe
DESCRIPTION:
URL:https://stjohnscc.org/event/memory-cafe/2029-08-29/
END:VEVENT
BEGIN:VEVENT
DTSTART;TZID=America/Edmonton:20290831T100000
DTEND;TZID=America/Edmonton:20290831T113000
DTSTAMP:20260422T232727
CREATED:20240823T214659Z
LAST-MODIFIED:20250307T232054Z
UID:10001082-1882864800-1882870200@stjohnscc.org
SUMMARY:Caregiver Coffee Talk
DESCRIPTION:Every Monday\n9 am – 10:30 am \nEvery Friday\n10 am – 11:30 am \n\nAll caregivers are welcome. \nCoffee talk is for Caregivers to come together offering information\, resources\, and strategies specifically for caring for someone who may be disabled or have other health related concerns. \nCome together to share space and life experiences over a nice hot cup of coffee on St. John’s Community Care.
URL:https://stjohnscc.org/event/coffee-talk-2/2029-08-31/
END:VEVENT
BEGIN:VEVENT
DTSTART;TZID=America/Edmonton:20290903T090000
DTEND;TZID=America/Edmonton:20290903T103000
DTSTAMP:20260422T232727
CREATED:20240823T214550Z
LAST-MODIFIED:20251004T161842Z
UID:10001116-1883120400-1883125800@stjohnscc.org
SUMMARY:Caregiver Coffee Talk
DESCRIPTION:Every Monday\n9 am – 10:30 am \nEvery Friday\n10 am – 11:30 am \nAll caregivers are welcome. \nCoffee talk is for Caregivers to come together offering information\, resources\, and strategies specifically for caring for someone who may be disabled or have other health related concerns. \nCome together to share space and life experiences over a nice hot cup of coffee on St. John’s Community Care.
URL:https://stjohnscc.org/event/coffee-talk/2029-09-03/
END:VEVENT
BEGIN:VEVENT
DTSTART;TZID=America/Edmonton:20290903T130000
DTEND;TZID=America/Edmonton:20290903T143000
DTSTAMP:20260422T232727
CREATED:20251004T162312Z
LAST-MODIFIED:20251004T162312Z
UID:10002247-1883134800-1883140200@stjohnscc.org
SUMMARY:Alzheimer's Support Group Monday
DESCRIPTION:NOW OFFERING \nFirst and third Monday\, 1:00–2:30 p.m.\nGlen Carbon Senior Center\,\n157 N. Main\, Glen Carbon
URL:https://stjohnscc.org/event/alzheimers-support-group-monday/2029-09-03/
END:VEVENT
BEGIN:VEVENT
DTSTART;TZID=America/Edmonton:20290904T100000
DTEND;TZID=America/Edmonton:20290904T113000
DTSTAMP:20260422T232727
CREATED:20250421T214937Z
LAST-MODIFIED:20260306T195835Z
UID:10002733-1883210400-1883215800@stjohnscc.org
SUMMARY:Memory Cafe Edwardsville
DESCRIPTION:Tuesdays from 10am-11:30am at Edwardsville Library. In-person only.\n \n 
URL:https://stjohnscc.org/event/memory-cafe-at-main-street/2029-09-04/
END:VEVENT
BEGIN:VEVENT
DTSTART;TZID=America/Edmonton:20290905T133000
DTEND;TZID=America/Edmonton:20290905T143000
DTSTAMP:20260422T232727
CREATED:20250515T160600Z
LAST-MODIFIED:20250515T160600Z
UID:10001823-1883309400-1883313000@stjohnscc.org
SUMMARY:Memory Cafe
DESCRIPTION:
URL:https://stjohnscc.org/event/memory-cafe/2029-09-05/
END:VEVENT
BEGIN:VEVENT
DTSTART;TZID=America/Edmonton:20290907T100000
DTEND;TZID=America/Edmonton:20290907T113000
DTSTAMP:20260422T232727
CREATED:20240823T214659Z
LAST-MODIFIED:20250307T232054Z
UID:10001083-1883469600-1883475000@stjohnscc.org
SUMMARY:Caregiver Coffee Talk
DESCRIPTION:Every Monday\n9 am – 10:30 am \nEvery Friday\n10 am – 11:30 am \n\nAll caregivers are welcome. \nCoffee talk is for Caregivers to come together offering information\, resources\, and strategies specifically for caring for someone who may be disabled or have other health related concerns. \nCome together to share space and life experiences over a nice hot cup of coffee on St. John’s Community Care.
URL:https://stjohnscc.org/event/coffee-talk-2/2029-09-07/
END:VEVENT
BEGIN:VEVENT
DTSTART;TZID=America/Edmonton:20290910T090000
DTEND;TZID=America/Edmonton:20290910T103000
DTSTAMP:20260422T232727
CREATED:20240823T214550Z
LAST-MODIFIED:20251004T161842Z
UID:10001117-1883725200-1883730600@stjohnscc.org
SUMMARY:Caregiver Coffee Talk
DESCRIPTION:Every Monday\n9 am – 10:30 am \nEvery Friday\n10 am – 11:30 am \nAll caregivers are welcome. \nCoffee talk is for Caregivers to come together offering information\, resources\, and strategies specifically for caring for someone who may be disabled or have other health related concerns. \nCome together to share space and life experiences over a nice hot cup of coffee on St. John’s Community Care.
URL:https://stjohnscc.org/event/coffee-talk/2029-09-10/
END:VEVENT
BEGIN:VEVENT
DTSTART;TZID=America/Edmonton:20290911T100000
DTEND;TZID=America/Edmonton:20290911T113000
DTSTAMP:20260422T232727
CREATED:20250421T214937Z
LAST-MODIFIED:20260306T195835Z
UID:10002734-1883815200-1883820600@stjohnscc.org
SUMMARY:Memory Cafe Edwardsville
DESCRIPTION:Tuesdays from 10am-11:30am at Edwardsville Library. In-person only.\n \n 
URL:https://stjohnscc.org/event/memory-cafe-at-main-street/2029-09-11/
END:VEVENT
BEGIN:VEVENT
DTSTART;TZID=America/Edmonton:20290911T133000
DTEND;TZID=America/Edmonton:20290911T150000
DTSTAMP:20260422T232727
CREATED:20260306T175347Z
LAST-MODIFIED:20260306T175348Z
UID:10002485-1883827800-1883833200@stjohnscc.org
SUMMARY:Alzheimer's Support Group
DESCRIPTION:
URL:https://stjohnscc.org/event/alzheimers-support-group-2-2-2/2029-09-11/
END:VEVENT
END:VCALENDAR