BEGIN:VCALENDAR
VERSION:2.0
PRODID:-//St. John’s Community Care - ECPv6.15.20//NONSGML v1.0//EN
CALSCALE:GREGORIAN
METHOD:PUBLISH
X-WR-CALNAME:St. John’s Community Care
X-ORIGINAL-URL:https://stjohnscc.org
X-WR-CALDESC:Events for St. John’s Community Care
REFRESH-INTERVAL;VALUE=DURATION:PT1H
X-Robots-Tag:noindex
X-PUBLISHED-TTL:PT1H
BEGIN:VTIMEZONE
TZID:America/Edmonton
BEGIN:DAYLIGHT
TZOFFSETFROM:-0700
TZOFFSETTO:-0600
TZNAME:MDT
DTSTART:20280312T090000
END:DAYLIGHT
BEGIN:STANDARD
TZOFFSETFROM:-0600
TZOFFSETTO:-0700
TZNAME:MST
DTSTART:20281105T080000
END:STANDARD
BEGIN:DAYLIGHT
TZOFFSETFROM:-0700
TZOFFSETTO:-0600
TZNAME:MDT
DTSTART:20290311T090000
END:DAYLIGHT
BEGIN:STANDARD
TZOFFSETFROM:-0600
TZOFFSETTO:-0700
TZNAME:MST
DTSTART:20291104T080000
END:STANDARD
BEGIN:DAYLIGHT
TZOFFSETFROM:-0700
TZOFFSETTO:-0600
TZNAME:MDT
DTSTART:20300310T090000
END:DAYLIGHT
BEGIN:STANDARD
TZOFFSETFROM:-0600
TZOFFSETTO:-0700
TZNAME:MST
DTSTART:20301103T080000
END:STANDARD
END:VTIMEZONE
BEGIN:VEVENT
DTSTART;TZID=America/Edmonton:20290601T100000
DTEND;TZID=America/Edmonton:20290601T113000
DTSTAMP:20260422T224048
CREATED:20240823T214659Z
LAST-MODIFIED:20250307T232054Z
UID:10000636-1875002400-1875007800@stjohnscc.org
SUMMARY:Caregiver Coffee Talk
DESCRIPTION:Every Monday\n9 am – 10:30 am \nEvery Friday\n10 am – 11:30 am \n\nAll caregivers are welcome. \nCoffee talk is for Caregivers to come together offering information\, resources\, and strategies specifically for caring for someone who may be disabled or have other health related concerns. \nCome together to share space and life experiences over a nice hot cup of coffee on St. John’s Community Care.
URL:https://stjohnscc.org/event/coffee-talk-2/2029-06-01/
END:VEVENT
BEGIN:VEVENT
DTSTART;TZID=America/Edmonton:20290604T090000
DTEND;TZID=America/Edmonton:20290604T103000
DTSTAMP:20260422T224048
CREATED:20240823T214550Z
LAST-MODIFIED:20251004T161842Z
UID:10000381-1875258000-1875263400@stjohnscc.org
SUMMARY:Caregiver Coffee Talk
DESCRIPTION:Every Monday\n9 am – 10:30 am \nEvery Friday\n10 am – 11:30 am \nAll caregivers are welcome. \nCoffee talk is for Caregivers to come together offering information\, resources\, and strategies specifically for caring for someone who may be disabled or have other health related concerns. \nCome together to share space and life experiences over a nice hot cup of coffee on St. John’s Community Care.
URL:https://stjohnscc.org/event/coffee-talk/2029-06-04/
END:VEVENT
BEGIN:VEVENT
DTSTART;TZID=America/Edmonton:20290604T130000
DTEND;TZID=America/Edmonton:20290604T143000
DTSTAMP:20260422T224048
CREATED:20251004T162312Z
LAST-MODIFIED:20251004T162312Z
UID:10002244-1875272400-1875277800@stjohnscc.org
SUMMARY:Alzheimer's Support Group Monday
DESCRIPTION:NOW OFFERING \nFirst and third Monday\, 1:00–2:30 p.m.\nGlen Carbon Senior Center\,\n157 N. Main\, Glen Carbon
URL:https://stjohnscc.org/event/alzheimers-support-group-monday/2029-06-04/
END:VEVENT
BEGIN:VEVENT
DTSTART;TZID=America/Edmonton:20290605T100000
DTEND;TZID=America/Edmonton:20290605T113000
DTSTAMP:20260422T224048
CREATED:20250421T214937Z
LAST-MODIFIED:20260306T195835Z
UID:10002720-1875348000-1875353400@stjohnscc.org
SUMMARY:Memory Cafe Edwardsville
DESCRIPTION:Tuesdays from 10am-11:30am at Edwardsville Library. In-person only.\n \n 
URL:https://stjohnscc.org/event/memory-cafe-at-main-street/2029-06-05/
END:VEVENT
BEGIN:VEVENT
DTSTART;TZID=America/Edmonton:20290606T133000
DTEND;TZID=America/Edmonton:20290606T143000
DTSTAMP:20260422T224048
CREATED:20250515T160600Z
LAST-MODIFIED:20250515T160600Z
UID:10001810-1875447000-1875450600@stjohnscc.org
SUMMARY:Memory Cafe
DESCRIPTION:
URL:https://stjohnscc.org/event/memory-cafe/2029-06-06/
END:VEVENT
BEGIN:VEVENT
DTSTART;TZID=America/Edmonton:20290608T100000
DTEND;TZID=America/Edmonton:20290608T113000
DTSTAMP:20260422T224048
CREATED:20240823T214659Z
LAST-MODIFIED:20250307T232054Z
UID:10000637-1875607200-1875612600@stjohnscc.org
SUMMARY:Caregiver Coffee Talk
DESCRIPTION:Every Monday\n9 am – 10:30 am \nEvery Friday\n10 am – 11:30 am \n\nAll caregivers are welcome. \nCoffee talk is for Caregivers to come together offering information\, resources\, and strategies specifically for caring for someone who may be disabled or have other health related concerns. \nCome together to share space and life experiences over a nice hot cup of coffee on St. John’s Community Care.
URL:https://stjohnscc.org/event/coffee-talk-2/2029-06-08/
END:VEVENT
BEGIN:VEVENT
DTSTART;TZID=America/Edmonton:20290611T090000
DTEND;TZID=America/Edmonton:20290611T103000
DTSTAMP:20260422T224048
CREATED:20240823T214550Z
LAST-MODIFIED:20251004T161842Z
UID:10000382-1875862800-1875868200@stjohnscc.org
SUMMARY:Caregiver Coffee Talk
DESCRIPTION:Every Monday\n9 am – 10:30 am \nEvery Friday\n10 am – 11:30 am \nAll caregivers are welcome. \nCoffee talk is for Caregivers to come together offering information\, resources\, and strategies specifically for caring for someone who may be disabled or have other health related concerns. \nCome together to share space and life experiences over a nice hot cup of coffee on St. John’s Community Care.
URL:https://stjohnscc.org/event/coffee-talk/2029-06-11/
END:VEVENT
BEGIN:VEVENT
DTSTART;TZID=America/Edmonton:20290612T100000
DTEND;TZID=America/Edmonton:20290612T113000
DTSTAMP:20260422T224048
CREATED:20250421T214937Z
LAST-MODIFIED:20260306T195835Z
UID:10002721-1875952800-1875958200@stjohnscc.org
SUMMARY:Memory Cafe Edwardsville
DESCRIPTION:Tuesdays from 10am-11:30am at Edwardsville Library. In-person only.\n \n 
URL:https://stjohnscc.org/event/memory-cafe-at-main-street/2029-06-12/
END:VEVENT
BEGIN:VEVENT
DTSTART;TZID=America/Edmonton:20290612T133000
DTEND;TZID=America/Edmonton:20290612T150000
DTSTAMP:20260422T224048
CREATED:20260306T175347Z
LAST-MODIFIED:20260306T175348Z
UID:10002482-1875965400-1875970800@stjohnscc.org
SUMMARY:Alzheimer's Support Group
DESCRIPTION:
URL:https://stjohnscc.org/event/alzheimers-support-group-2-2-2/2029-06-12/
END:VEVENT
BEGIN:VEVENT
DTSTART;TZID=America/Edmonton:20290613T133000
DTEND;TZID=America/Edmonton:20290613T143000
DTSTAMP:20260422T224048
CREATED:20250515T160600Z
LAST-MODIFIED:20250515T160600Z
UID:10001811-1876051800-1876055400@stjohnscc.org
SUMMARY:Memory Cafe
DESCRIPTION:
URL:https://stjohnscc.org/event/memory-cafe/2029-06-13/
END:VEVENT
BEGIN:VEVENT
DTSTART;TZID=America/Edmonton:20290613T180000
DTEND;TZID=America/Edmonton:20290613T193000
DTSTAMP:20260422T224048
CREATED:20250611T155121Z
LAST-MODIFIED:20250611T155121Z
UID:10001527-1876068000-1876073400@stjohnscc.org
SUMMARY:Evening Zoom Group
DESCRIPTION: 
URL:https://stjohnscc.org/event/evening-zoom-group-wednesday-2/2029-06-13/
END:VEVENT
BEGIN:VEVENT
DTSTART;TZID=America/Edmonton:20290614T103000
DTEND;TZID=America/Edmonton:20290614T113000
DTSTAMP:20260422T224048
CREATED:20251004T162548Z
LAST-MODIFIED:20251006T161823Z
UID:10002364-1876127400-1876131000@stjohnscc.org
SUMMARY:Alzheimer's Support Group Thursday
DESCRIPTION:NOW OFFERING \nSecond Thursday of every month\, 10:30–11:30 a.m.\nEdwardsville YMCA\,\n1200 Esic Drive\, Edwardsville
URL:https://stjohnscc.org/event/alzheimers-support-group-thursday/2029-06-14/
END:VEVENT
BEGIN:VEVENT
DTSTART;TZID=America/Edmonton:20290615T100000
DTEND;TZID=America/Edmonton:20290615T113000
DTSTAMP:20260422T224048
CREATED:20240823T214659Z
LAST-MODIFIED:20250307T232054Z
UID:10000638-1876212000-1876217400@stjohnscc.org
SUMMARY:Caregiver Coffee Talk
DESCRIPTION:Every Monday\n9 am – 10:30 am \nEvery Friday\n10 am – 11:30 am \n\nAll caregivers are welcome. \nCoffee talk is for Caregivers to come together offering information\, resources\, and strategies specifically for caring for someone who may be disabled or have other health related concerns. \nCome together to share space and life experiences over a nice hot cup of coffee on St. John’s Community Care.
URL:https://stjohnscc.org/event/coffee-talk-2/2029-06-15/
END:VEVENT
BEGIN:VEVENT
DTSTART;TZID=America/Edmonton:20290618T090000
DTEND;TZID=America/Edmonton:20290618T103000
DTSTAMP:20260422T224048
CREATED:20240823T214550Z
LAST-MODIFIED:20251004T161842Z
UID:10000383-1876467600-1876473000@stjohnscc.org
SUMMARY:Caregiver Coffee Talk
DESCRIPTION:Every Monday\n9 am – 10:30 am \nEvery Friday\n10 am – 11:30 am \nAll caregivers are welcome. \nCoffee talk is for Caregivers to come together offering information\, resources\, and strategies specifically for caring for someone who may be disabled or have other health related concerns. \nCome together to share space and life experiences over a nice hot cup of coffee on St. John’s Community Care.
URL:https://stjohnscc.org/event/coffee-talk/2029-06-18/
END:VEVENT
BEGIN:VEVENT
DTSTART;TZID=America/Edmonton:20290618T130000
DTEND;TZID=America/Edmonton:20290618T143000
DTSTAMP:20260422T224048
CREATED:20251004T162416Z
LAST-MODIFIED:20251004T162416Z
UID:10002304-1876482000-1876487400@stjohnscc.org
SUMMARY:Alzheimer's Support Group 3rd Monday
DESCRIPTION:NOW OFFERING \nFirst and third Monday\, 1:00–2:30 p.m.\nGlen Carbon Senior Center\,\n157 N. Main\, Glen Carbon
URL:https://stjohnscc.org/event/alzheimers-support-group-3rd-monday/2029-06-18/
END:VEVENT
BEGIN:VEVENT
DTSTART;TZID=America/Edmonton:20290619T100000
DTEND;TZID=America/Edmonton:20290619T113000
DTSTAMP:20260422T224048
CREATED:20250421T214937Z
LAST-MODIFIED:20260306T195835Z
UID:10002722-1876557600-1876563000@stjohnscc.org
SUMMARY:Memory Cafe Edwardsville
DESCRIPTION:Tuesdays from 10am-11:30am at Edwardsville Library. In-person only.\n \n 
URL:https://stjohnscc.org/event/memory-cafe-at-main-street/2029-06-19/
END:VEVENT
BEGIN:VEVENT
DTSTART;TZID=America/Edmonton:20290620T133000
DTEND;TZID=America/Edmonton:20290620T143000
DTSTAMP:20260422T224048
CREATED:20250515T160600Z
LAST-MODIFIED:20250515T160600Z
UID:10001812-1876656600-1876660200@stjohnscc.org
SUMMARY:Memory Cafe
DESCRIPTION:
URL:https://stjohnscc.org/event/memory-cafe/2029-06-20/
END:VEVENT
BEGIN:VEVENT
DTSTART;TZID=America/Edmonton:20290622T100000
DTEND;TZID=America/Edmonton:20290622T113000
DTSTAMP:20260422T224048
CREATED:20240823T214659Z
LAST-MODIFIED:20250307T232054Z
UID:10000639-1876816800-1876822200@stjohnscc.org
SUMMARY:Caregiver Coffee Talk
DESCRIPTION:Every Monday\n9 am – 10:30 am \nEvery Friday\n10 am – 11:30 am \n\nAll caregivers are welcome. \nCoffee talk is for Caregivers to come together offering information\, resources\, and strategies specifically for caring for someone who may be disabled or have other health related concerns. \nCome together to share space and life experiences over a nice hot cup of coffee on St. John’s Community Care.
URL:https://stjohnscc.org/event/coffee-talk-2/2029-06-22/
END:VEVENT
BEGIN:VEVENT
DTSTART;TZID=America/Edmonton:20290625T090000
DTEND;TZID=America/Edmonton:20290625T103000
DTSTAMP:20260422T224048
CREATED:20240823T214550Z
LAST-MODIFIED:20251004T161842Z
UID:10000384-1877072400-1877077800@stjohnscc.org
SUMMARY:Caregiver Coffee Talk
DESCRIPTION:Every Monday\n9 am – 10:30 am \nEvery Friday\n10 am – 11:30 am \nAll caregivers are welcome. \nCoffee talk is for Caregivers to come together offering information\, resources\, and strategies specifically for caring for someone who may be disabled or have other health related concerns. \nCome together to share space and life experiences over a nice hot cup of coffee on St. John’s Community Care.
URL:https://stjohnscc.org/event/coffee-talk/2029-06-25/
END:VEVENT
BEGIN:VEVENT
DTSTART;TZID=America/Edmonton:20290626T100000
DTEND;TZID=America/Edmonton:20290626T113000
DTSTAMP:20260422T224048
CREATED:20250421T214937Z
LAST-MODIFIED:20260306T195835Z
UID:10002723-1877162400-1877167800@stjohnscc.org
SUMMARY:Memory Cafe Edwardsville
DESCRIPTION:Tuesdays from 10am-11:30am at Edwardsville Library. In-person only.\n \n 
URL:https://stjohnscc.org/event/memory-cafe-at-main-street/2029-06-26/
END:VEVENT
BEGIN:VEVENT
DTSTART;TZID=America/Edmonton:20290627T133000
DTEND;TZID=America/Edmonton:20290627T143000
DTSTAMP:20260422T224048
CREATED:20250515T160600Z
LAST-MODIFIED:20250515T160600Z
UID:10001813-1877261400-1877265000@stjohnscc.org
SUMMARY:Memory Cafe
DESCRIPTION:
URL:https://stjohnscc.org/event/memory-cafe/2029-06-27/
END:VEVENT
BEGIN:VEVENT
DTSTART;TZID=America/Edmonton:20290627T180000
DTEND;TZID=America/Edmonton:20290627T193000
DTSTAMP:20260422T224048
CREATED:20250611T154819Z
LAST-MODIFIED:20250611T155148Z
UID:10001909-1877277600-1877283000@stjohnscc.org
SUMMARY:Evening Zoom Group
DESCRIPTION:
URL:https://stjohnscc.org/event/evening-zoom-group-copy-2/2029-06-27/
END:VEVENT
BEGIN:VEVENT
DTSTART;TZID=America/Edmonton:20290629T100000
DTEND;TZID=America/Edmonton:20290629T113000
DTSTAMP:20260422T224048
CREATED:20240823T214659Z
LAST-MODIFIED:20250307T232054Z
UID:10000640-1877421600-1877427000@stjohnscc.org
SUMMARY:Caregiver Coffee Talk
DESCRIPTION:Every Monday\n9 am – 10:30 am \nEvery Friday\n10 am – 11:30 am \n\nAll caregivers are welcome. \nCoffee talk is for Caregivers to come together offering information\, resources\, and strategies specifically for caring for someone who may be disabled or have other health related concerns. \nCome together to share space and life experiences over a nice hot cup of coffee on St. John’s Community Care.
URL:https://stjohnscc.org/event/coffee-talk-2/2029-06-29/
END:VEVENT
BEGIN:VEVENT
DTSTART;TZID=America/Edmonton:20290702T090000
DTEND;TZID=America/Edmonton:20290702T103000
DTSTAMP:20260422T224048
CREATED:20240823T214550Z
LAST-MODIFIED:20251004T161842Z
UID:10000385-1877677200-1877682600@stjohnscc.org
SUMMARY:Caregiver Coffee Talk
DESCRIPTION:Every Monday\n9 am – 10:30 am \nEvery Friday\n10 am – 11:30 am \nAll caregivers are welcome. \nCoffee talk is for Caregivers to come together offering information\, resources\, and strategies specifically for caring for someone who may be disabled or have other health related concerns. \nCome together to share space and life experiences over a nice hot cup of coffee on St. John’s Community Care.
URL:https://stjohnscc.org/event/coffee-talk/2029-07-02/
END:VEVENT
BEGIN:VEVENT
DTSTART;TZID=America/Edmonton:20290702T130000
DTEND;TZID=America/Edmonton:20290702T143000
DTSTAMP:20260422T224048
CREATED:20251004T162312Z
LAST-MODIFIED:20251004T162312Z
UID:10002245-1877691600-1877697000@stjohnscc.org
SUMMARY:Alzheimer's Support Group Monday
DESCRIPTION:NOW OFFERING \nFirst and third Monday\, 1:00–2:30 p.m.\nGlen Carbon Senior Center\,\n157 N. Main\, Glen Carbon
URL:https://stjohnscc.org/event/alzheimers-support-group-monday/2029-07-02/
END:VEVENT
BEGIN:VEVENT
DTSTART;TZID=America/Edmonton:20290703T100000
DTEND;TZID=America/Edmonton:20290703T113000
DTSTAMP:20260422T224048
CREATED:20250421T214937Z
LAST-MODIFIED:20260306T195835Z
UID:10002724-1877767200-1877772600@stjohnscc.org
SUMMARY:Memory Cafe Edwardsville
DESCRIPTION:Tuesdays from 10am-11:30am at Edwardsville Library. In-person only.\n \n 
URL:https://stjohnscc.org/event/memory-cafe-at-main-street/2029-07-03/
END:VEVENT
BEGIN:VEVENT
DTSTART;TZID=America/Edmonton:20290704T133000
DTEND;TZID=America/Edmonton:20290704T143000
DTSTAMP:20260422T224048
CREATED:20250515T160600Z
LAST-MODIFIED:20250515T160600Z
UID:10001814-1877866200-1877869800@stjohnscc.org
SUMMARY:Memory Cafe
DESCRIPTION:
URL:https://stjohnscc.org/event/memory-cafe/2029-07-04/
END:VEVENT
BEGIN:VEVENT
DTSTART;TZID=America/Edmonton:20290706T100000
DTEND;TZID=America/Edmonton:20290706T113000
DTSTAMP:20260422T224048
CREATED:20240823T214659Z
LAST-MODIFIED:20250307T232054Z
UID:10000641-1878026400-1878031800@stjohnscc.org
SUMMARY:Caregiver Coffee Talk
DESCRIPTION:Every Monday\n9 am – 10:30 am \nEvery Friday\n10 am – 11:30 am \n\nAll caregivers are welcome. \nCoffee talk is for Caregivers to come together offering information\, resources\, and strategies specifically for caring for someone who may be disabled or have other health related concerns. \nCome together to share space and life experiences over a nice hot cup of coffee on St. John’s Community Care.
URL:https://stjohnscc.org/event/coffee-talk-2/2029-07-06/
END:VEVENT
BEGIN:VEVENT
DTSTART;TZID=America/Edmonton:20290709T090000
DTEND;TZID=America/Edmonton:20290709T103000
DTSTAMP:20260422T224048
CREATED:20240823T214550Z
LAST-MODIFIED:20251004T161842Z
UID:10000386-1878282000-1878287400@stjohnscc.org
SUMMARY:Caregiver Coffee Talk
DESCRIPTION:Every Monday\n9 am – 10:30 am \nEvery Friday\n10 am – 11:30 am \nAll caregivers are welcome. \nCoffee talk is for Caregivers to come together offering information\, resources\, and strategies specifically for caring for someone who may be disabled or have other health related concerns. \nCome together to share space and life experiences over a nice hot cup of coffee on St. John’s Community Care.
URL:https://stjohnscc.org/event/coffee-talk/2029-07-09/
END:VEVENT
BEGIN:VEVENT
DTSTART;TZID=America/Edmonton:20290710T100000
DTEND;TZID=America/Edmonton:20290710T113000
DTSTAMP:20260422T224048
CREATED:20250421T214937Z
LAST-MODIFIED:20260306T195835Z
UID:10002725-1878372000-1878377400@stjohnscc.org
SUMMARY:Memory Cafe Edwardsville
DESCRIPTION:Tuesdays from 10am-11:30am at Edwardsville Library. In-person only.\n \n 
URL:https://stjohnscc.org/event/memory-cafe-at-main-street/2029-07-10/
END:VEVENT
END:VCALENDAR