BEGIN:VCALENDAR
VERSION:2.0
PRODID:-//St. John’s Community Care - ECPv6.15.20//NONSGML v1.0//EN
CALSCALE:GREGORIAN
METHOD:PUBLISH
X-WR-CALNAME:St. John’s Community Care
X-ORIGINAL-URL:https://stjohnscc.org
X-WR-CALDESC:Events for St. John’s Community Care
REFRESH-INTERVAL;VALUE=DURATION:PT1H
X-Robots-Tag:noindex
X-PUBLISHED-TTL:PT1H
BEGIN:VTIMEZONE
TZID:America/Edmonton
BEGIN:DAYLIGHT
TZOFFSETFROM:-0700
TZOFFSETTO:-0600
TZNAME:MDT
DTSTART:20280312T090000
END:DAYLIGHT
BEGIN:STANDARD
TZOFFSETFROM:-0600
TZOFFSETTO:-0700
TZNAME:MST
DTSTART:20281105T080000
END:STANDARD
BEGIN:DAYLIGHT
TZOFFSETFROM:-0700
TZOFFSETTO:-0600
TZNAME:MDT
DTSTART:20290311T090000
END:DAYLIGHT
BEGIN:STANDARD
TZOFFSETFROM:-0600
TZOFFSETTO:-0700
TZNAME:MST
DTSTART:20291104T080000
END:STANDARD
BEGIN:DAYLIGHT
TZOFFSETFROM:-0700
TZOFFSETTO:-0600
TZNAME:MDT
DTSTART:20300310T090000
END:DAYLIGHT
BEGIN:STANDARD
TZOFFSETFROM:-0600
TZOFFSETTO:-0700
TZNAME:MST
DTSTART:20301103T080000
END:STANDARD
END:VTIMEZONE
BEGIN:VEVENT
DTSTART;TZID=America/Edmonton:20290502T133000
DTEND;TZID=America/Edmonton:20290502T143000
DTSTAMP:20260422T162856
CREATED:20250515T160600Z
LAST-MODIFIED:20250515T160600Z
UID:10001805-1872423000-1872426600@stjohnscc.org
SUMMARY:Memory Cafe
DESCRIPTION:
URL:https://stjohnscc.org/event/memory-cafe/2029-05-02/
END:VEVENT
BEGIN:VEVENT
DTSTART;TZID=America/Edmonton:20290504T100000
DTEND;TZID=America/Edmonton:20290504T113000
DTSTAMP:20260422T162856
CREATED:20240823T214659Z
LAST-MODIFIED:20250307T232054Z
UID:10000632-1872583200-1872588600@stjohnscc.org
SUMMARY:Caregiver Coffee Talk
DESCRIPTION:Every Monday\n9 am – 10:30 am \nEvery Friday\n10 am – 11:30 am \n\nAll caregivers are welcome. \nCoffee talk is for Caregivers to come together offering information\, resources\, and strategies specifically for caring for someone who may be disabled or have other health related concerns. \nCome together to share space and life experiences over a nice hot cup of coffee on St. John’s Community Care.
URL:https://stjohnscc.org/event/coffee-talk-2/2029-05-04/
END:VEVENT
BEGIN:VEVENT
DTSTART;TZID=America/Edmonton:20290507T090000
DTEND;TZID=America/Edmonton:20290507T103000
DTSTAMP:20260422T162856
CREATED:20240823T214550Z
LAST-MODIFIED:20251004T161842Z
UID:10000377-1872838800-1872844200@stjohnscc.org
SUMMARY:Caregiver Coffee Talk
DESCRIPTION:Every Monday\n9 am – 10:30 am \nEvery Friday\n10 am – 11:30 am \nAll caregivers are welcome. \nCoffee talk is for Caregivers to come together offering information\, resources\, and strategies specifically for caring for someone who may be disabled or have other health related concerns. \nCome together to share space and life experiences over a nice hot cup of coffee on St. John’s Community Care.
URL:https://stjohnscc.org/event/coffee-talk/2029-05-07/
END:VEVENT
BEGIN:VEVENT
DTSTART;TZID=America/Edmonton:20290507T130000
DTEND;TZID=America/Edmonton:20290507T143000
DTSTAMP:20260422T162856
CREATED:20251004T162312Z
LAST-MODIFIED:20251004T162312Z
UID:10002243-1872853200-1872858600@stjohnscc.org
SUMMARY:Alzheimer's Support Group Monday
DESCRIPTION:NOW OFFERING \nFirst and third Monday\, 1:00–2:30 p.m.\nGlen Carbon Senior Center\,\n157 N. Main\, Glen Carbon
URL:https://stjohnscc.org/event/alzheimers-support-group-monday/2029-05-07/
END:VEVENT
BEGIN:VEVENT
DTSTART;TZID=America/Edmonton:20290508T100000
DTEND;TZID=America/Edmonton:20290508T113000
DTSTAMP:20260422T162856
CREATED:20250421T214937Z
LAST-MODIFIED:20260306T195835Z
UID:10002716-1872928800-1872934200@stjohnscc.org
SUMMARY:Memory Cafe Edwardsville
DESCRIPTION:Tuesdays from 10am-11:30am at Edwardsville Library. In-person only.\n \n 
URL:https://stjohnscc.org/event/memory-cafe-at-main-street/2029-05-08/
END:VEVENT
BEGIN:VEVENT
DTSTART;TZID=America/Edmonton:20290508T133000
DTEND;TZID=America/Edmonton:20290508T150000
DTSTAMP:20260422T162856
CREATED:20260306T175347Z
LAST-MODIFIED:20260306T175348Z
UID:10002481-1872941400-1872946800@stjohnscc.org
SUMMARY:Alzheimer's Support Group
DESCRIPTION:
URL:https://stjohnscc.org/event/alzheimers-support-group-2-2-2/2029-05-08/
END:VEVENT
BEGIN:VEVENT
DTSTART;TZID=America/Edmonton:20290509T133000
DTEND;TZID=America/Edmonton:20290509T143000
DTSTAMP:20260422T162856
CREATED:20250515T160600Z
LAST-MODIFIED:20250515T160600Z
UID:10001806-1873027800-1873031400@stjohnscc.org
SUMMARY:Memory Cafe
DESCRIPTION:
URL:https://stjohnscc.org/event/memory-cafe/2029-05-09/
END:VEVENT
BEGIN:VEVENT
DTSTART;TZID=America/Edmonton:20290509T180000
DTEND;TZID=America/Edmonton:20290509T193000
DTSTAMP:20260422T162856
CREATED:20250611T155121Z
LAST-MODIFIED:20250611T155121Z
UID:10001526-1873044000-1873049400@stjohnscc.org
SUMMARY:Evening Zoom Group
DESCRIPTION: 
URL:https://stjohnscc.org/event/evening-zoom-group-wednesday-2/2029-05-09/
END:VEVENT
BEGIN:VEVENT
DTSTART;TZID=America/Edmonton:20290510T103000
DTEND;TZID=America/Edmonton:20290510T113000
DTSTAMP:20260422T162856
CREATED:20251004T162548Z
LAST-MODIFIED:20251006T161823Z
UID:10002363-1873103400-1873107000@stjohnscc.org
SUMMARY:Alzheimer's Support Group Thursday
DESCRIPTION:NOW OFFERING \nSecond Thursday of every month\, 10:30–11:30 a.m.\nEdwardsville YMCA\,\n1200 Esic Drive\, Edwardsville
URL:https://stjohnscc.org/event/alzheimers-support-group-thursday/2029-05-10/
END:VEVENT
BEGIN:VEVENT
DTSTART;TZID=America/Edmonton:20290511T100000
DTEND;TZID=America/Edmonton:20290511T113000
DTSTAMP:20260422T162856
CREATED:20240823T214659Z
LAST-MODIFIED:20250307T232054Z
UID:10000633-1873188000-1873193400@stjohnscc.org
SUMMARY:Caregiver Coffee Talk
DESCRIPTION:Every Monday\n9 am – 10:30 am \nEvery Friday\n10 am – 11:30 am \n\nAll caregivers are welcome. \nCoffee talk is for Caregivers to come together offering information\, resources\, and strategies specifically for caring for someone who may be disabled or have other health related concerns. \nCome together to share space and life experiences over a nice hot cup of coffee on St. John’s Community Care.
URL:https://stjohnscc.org/event/coffee-talk-2/2029-05-11/
END:VEVENT
BEGIN:VEVENT
DTSTART;TZID=America/Edmonton:20290514T090000
DTEND;TZID=America/Edmonton:20290514T103000
DTSTAMP:20260422T162856
CREATED:20240823T214550Z
LAST-MODIFIED:20251004T161842Z
UID:10000378-1873443600-1873449000@stjohnscc.org
SUMMARY:Caregiver Coffee Talk
DESCRIPTION:Every Monday\n9 am – 10:30 am \nEvery Friday\n10 am – 11:30 am \nAll caregivers are welcome. \nCoffee talk is for Caregivers to come together offering information\, resources\, and strategies specifically for caring for someone who may be disabled or have other health related concerns. \nCome together to share space and life experiences over a nice hot cup of coffee on St. John’s Community Care.
URL:https://stjohnscc.org/event/coffee-talk/2029-05-14/
END:VEVENT
BEGIN:VEVENT
DTSTART;TZID=America/Edmonton:20290515T100000
DTEND;TZID=America/Edmonton:20290515T113000
DTSTAMP:20260422T162856
CREATED:20250421T214937Z
LAST-MODIFIED:20260306T195835Z
UID:10002717-1873533600-1873539000@stjohnscc.org
SUMMARY:Memory Cafe Edwardsville
DESCRIPTION:Tuesdays from 10am-11:30am at Edwardsville Library. In-person only.\n \n 
URL:https://stjohnscc.org/event/memory-cafe-at-main-street/2029-05-15/
END:VEVENT
BEGIN:VEVENT
DTSTART;TZID=America/Edmonton:20290516T133000
DTEND;TZID=America/Edmonton:20290516T143000
DTSTAMP:20260422T162856
CREATED:20250515T160600Z
LAST-MODIFIED:20250515T160600Z
UID:10001807-1873632600-1873636200@stjohnscc.org
SUMMARY:Memory Cafe
DESCRIPTION:
URL:https://stjohnscc.org/event/memory-cafe/2029-05-16/
END:VEVENT
BEGIN:VEVENT
DTSTART;TZID=America/Edmonton:20290518T100000
DTEND;TZID=America/Edmonton:20290518T113000
DTSTAMP:20260422T162856
CREATED:20240823T214659Z
LAST-MODIFIED:20250307T232054Z
UID:10000634-1873792800-1873798200@stjohnscc.org
SUMMARY:Caregiver Coffee Talk
DESCRIPTION:Every Monday\n9 am – 10:30 am \nEvery Friday\n10 am – 11:30 am \n\nAll caregivers are welcome. \nCoffee talk is for Caregivers to come together offering information\, resources\, and strategies specifically for caring for someone who may be disabled or have other health related concerns. \nCome together to share space and life experiences over a nice hot cup of coffee on St. John’s Community Care.
URL:https://stjohnscc.org/event/coffee-talk-2/2029-05-18/
END:VEVENT
BEGIN:VEVENT
DTSTART;TZID=America/Edmonton:20290521T090000
DTEND;TZID=America/Edmonton:20290521T103000
DTSTAMP:20260422T162856
CREATED:20240823T214550Z
LAST-MODIFIED:20251004T161842Z
UID:10000379-1874048400-1874053800@stjohnscc.org
SUMMARY:Caregiver Coffee Talk
DESCRIPTION:Every Monday\n9 am – 10:30 am \nEvery Friday\n10 am – 11:30 am \nAll caregivers are welcome. \nCoffee talk is for Caregivers to come together offering information\, resources\, and strategies specifically for caring for someone who may be disabled or have other health related concerns. \nCome together to share space and life experiences over a nice hot cup of coffee on St. John’s Community Care.
URL:https://stjohnscc.org/event/coffee-talk/2029-05-21/
END:VEVENT
BEGIN:VEVENT
DTSTART;TZID=America/Edmonton:20290521T130000
DTEND;TZID=America/Edmonton:20290521T143000
DTSTAMP:20260422T162856
CREATED:20251004T162416Z
LAST-MODIFIED:20251004T162416Z
UID:10002303-1874062800-1874068200@stjohnscc.org
SUMMARY:Alzheimer's Support Group 3rd Monday
DESCRIPTION:NOW OFFERING \nFirst and third Monday\, 1:00–2:30 p.m.\nGlen Carbon Senior Center\,\n157 N. Main\, Glen Carbon
URL:https://stjohnscc.org/event/alzheimers-support-group-3rd-monday/2029-05-21/
END:VEVENT
BEGIN:VEVENT
DTSTART;TZID=America/Edmonton:20290522T100000
DTEND;TZID=America/Edmonton:20290522T113000
DTSTAMP:20260422T162856
CREATED:20250421T214937Z
LAST-MODIFIED:20260306T195835Z
UID:10002718-1874138400-1874143800@stjohnscc.org
SUMMARY:Memory Cafe Edwardsville
DESCRIPTION:Tuesdays from 10am-11:30am at Edwardsville Library. In-person only.\n \n 
URL:https://stjohnscc.org/event/memory-cafe-at-main-street/2029-05-22/
END:VEVENT
BEGIN:VEVENT
DTSTART;TZID=America/Edmonton:20290523T133000
DTEND;TZID=America/Edmonton:20290523T143000
DTSTAMP:20260422T162856
CREATED:20250515T160600Z
LAST-MODIFIED:20250515T160600Z
UID:10001808-1874237400-1874241000@stjohnscc.org
SUMMARY:Memory Cafe
DESCRIPTION:
URL:https://stjohnscc.org/event/memory-cafe/2029-05-23/
END:VEVENT
BEGIN:VEVENT
DTSTART;TZID=America/Edmonton:20290523T180000
DTEND;TZID=America/Edmonton:20290523T193000
DTSTAMP:20260422T162856
CREATED:20250611T154819Z
LAST-MODIFIED:20250611T155148Z
UID:10001908-1874253600-1874259000@stjohnscc.org
SUMMARY:Evening Zoom Group
DESCRIPTION:
URL:https://stjohnscc.org/event/evening-zoom-group-copy-2/2029-05-23/
END:VEVENT
BEGIN:VEVENT
DTSTART;TZID=America/Edmonton:20290525T100000
DTEND;TZID=America/Edmonton:20290525T113000
DTSTAMP:20260422T162856
CREATED:20240823T214659Z
LAST-MODIFIED:20250307T232054Z
UID:10000635-1874397600-1874403000@stjohnscc.org
SUMMARY:Caregiver Coffee Talk
DESCRIPTION:Every Monday\n9 am – 10:30 am \nEvery Friday\n10 am – 11:30 am \n\nAll caregivers are welcome. \nCoffee talk is for Caregivers to come together offering information\, resources\, and strategies specifically for caring for someone who may be disabled or have other health related concerns. \nCome together to share space and life experiences over a nice hot cup of coffee on St. John’s Community Care.
URL:https://stjohnscc.org/event/coffee-talk-2/2029-05-25/
END:VEVENT
BEGIN:VEVENT
DTSTART;TZID=America/Edmonton:20290528T090000
DTEND;TZID=America/Edmonton:20290528T103000
DTSTAMP:20260422T162856
CREATED:20240823T214550Z
LAST-MODIFIED:20251004T161842Z
UID:10000380-1874653200-1874658600@stjohnscc.org
SUMMARY:Caregiver Coffee Talk
DESCRIPTION:Every Monday\n9 am – 10:30 am \nEvery Friday\n10 am – 11:30 am \nAll caregivers are welcome. \nCoffee talk is for Caregivers to come together offering information\, resources\, and strategies specifically for caring for someone who may be disabled or have other health related concerns. \nCome together to share space and life experiences over a nice hot cup of coffee on St. John’s Community Care.
URL:https://stjohnscc.org/event/coffee-talk/2029-05-28/
END:VEVENT
BEGIN:VEVENT
DTSTART;TZID=America/Edmonton:20290529T100000
DTEND;TZID=America/Edmonton:20290529T113000
DTSTAMP:20260422T162856
CREATED:20250421T214937Z
LAST-MODIFIED:20260306T195835Z
UID:10002719-1874743200-1874748600@stjohnscc.org
SUMMARY:Memory Cafe Edwardsville
DESCRIPTION:Tuesdays from 10am-11:30am at Edwardsville Library. In-person only.\n \n 
URL:https://stjohnscc.org/event/memory-cafe-at-main-street/2029-05-29/
END:VEVENT
BEGIN:VEVENT
DTSTART;TZID=America/Edmonton:20290530T133000
DTEND;TZID=America/Edmonton:20290530T143000
DTSTAMP:20260422T162856
CREATED:20250515T160600Z
LAST-MODIFIED:20250515T160600Z
UID:10001809-1874842200-1874845800@stjohnscc.org
SUMMARY:Memory Cafe
DESCRIPTION:
URL:https://stjohnscc.org/event/memory-cafe/2029-05-30/
END:VEVENT
BEGIN:VEVENT
DTSTART;TZID=America/Edmonton:20290601T100000
DTEND;TZID=America/Edmonton:20290601T113000
DTSTAMP:20260422T162856
CREATED:20240823T214659Z
LAST-MODIFIED:20250307T232054Z
UID:10000636-1875002400-1875007800@stjohnscc.org
SUMMARY:Caregiver Coffee Talk
DESCRIPTION:Every Monday\n9 am – 10:30 am \nEvery Friday\n10 am – 11:30 am \n\nAll caregivers are welcome. \nCoffee talk is for Caregivers to come together offering information\, resources\, and strategies specifically for caring for someone who may be disabled or have other health related concerns. \nCome together to share space and life experiences over a nice hot cup of coffee on St. John’s Community Care.
URL:https://stjohnscc.org/event/coffee-talk-2/2029-06-01/
END:VEVENT
BEGIN:VEVENT
DTSTART;TZID=America/Edmonton:20290604T090000
DTEND;TZID=America/Edmonton:20290604T103000
DTSTAMP:20260422T162856
CREATED:20240823T214550Z
LAST-MODIFIED:20251004T161842Z
UID:10000381-1875258000-1875263400@stjohnscc.org
SUMMARY:Caregiver Coffee Talk
DESCRIPTION:Every Monday\n9 am – 10:30 am \nEvery Friday\n10 am – 11:30 am \nAll caregivers are welcome. \nCoffee talk is for Caregivers to come together offering information\, resources\, and strategies specifically for caring for someone who may be disabled or have other health related concerns. \nCome together to share space and life experiences over a nice hot cup of coffee on St. John’s Community Care.
URL:https://stjohnscc.org/event/coffee-talk/2029-06-04/
END:VEVENT
BEGIN:VEVENT
DTSTART;TZID=America/Edmonton:20290604T130000
DTEND;TZID=America/Edmonton:20290604T143000
DTSTAMP:20260422T162856
CREATED:20251004T162312Z
LAST-MODIFIED:20251004T162312Z
UID:10002244-1875272400-1875277800@stjohnscc.org
SUMMARY:Alzheimer's Support Group Monday
DESCRIPTION:NOW OFFERING \nFirst and third Monday\, 1:00–2:30 p.m.\nGlen Carbon Senior Center\,\n157 N. Main\, Glen Carbon
URL:https://stjohnscc.org/event/alzheimers-support-group-monday/2029-06-04/
END:VEVENT
BEGIN:VEVENT
DTSTART;TZID=America/Edmonton:20290605T100000
DTEND;TZID=America/Edmonton:20290605T113000
DTSTAMP:20260422T162856
CREATED:20250421T214937Z
LAST-MODIFIED:20260306T195835Z
UID:10002720-1875348000-1875353400@stjohnscc.org
SUMMARY:Memory Cafe Edwardsville
DESCRIPTION:Tuesdays from 10am-11:30am at Edwardsville Library. In-person only.\n \n 
URL:https://stjohnscc.org/event/memory-cafe-at-main-street/2029-06-05/
END:VEVENT
BEGIN:VEVENT
DTSTART;TZID=America/Edmonton:20290606T133000
DTEND;TZID=America/Edmonton:20290606T143000
DTSTAMP:20260422T162856
CREATED:20250515T160600Z
LAST-MODIFIED:20250515T160600Z
UID:10001810-1875447000-1875450600@stjohnscc.org
SUMMARY:Memory Cafe
DESCRIPTION:
URL:https://stjohnscc.org/event/memory-cafe/2029-06-06/
END:VEVENT
BEGIN:VEVENT
DTSTART;TZID=America/Edmonton:20290608T100000
DTEND;TZID=America/Edmonton:20290608T113000
DTSTAMP:20260422T162856
CREATED:20240823T214659Z
LAST-MODIFIED:20250307T232054Z
UID:10000637-1875607200-1875612600@stjohnscc.org
SUMMARY:Caregiver Coffee Talk
DESCRIPTION:Every Monday\n9 am – 10:30 am \nEvery Friday\n10 am – 11:30 am \n\nAll caregivers are welcome. \nCoffee talk is for Caregivers to come together offering information\, resources\, and strategies specifically for caring for someone who may be disabled or have other health related concerns. \nCome together to share space and life experiences over a nice hot cup of coffee on St. John’s Community Care.
URL:https://stjohnscc.org/event/coffee-talk-2/2029-06-08/
END:VEVENT
BEGIN:VEVENT
DTSTART;TZID=America/Edmonton:20290611T090000
DTEND;TZID=America/Edmonton:20290611T103000
DTSTAMP:20260422T162856
CREATED:20240823T214550Z
LAST-MODIFIED:20251004T161842Z
UID:10000382-1875862800-1875868200@stjohnscc.org
SUMMARY:Caregiver Coffee Talk
DESCRIPTION:Every Monday\n9 am – 10:30 am \nEvery Friday\n10 am – 11:30 am \nAll caregivers are welcome. \nCoffee talk is for Caregivers to come together offering information\, resources\, and strategies specifically for caring for someone who may be disabled or have other health related concerns. \nCome together to share space and life experiences over a nice hot cup of coffee on St. John’s Community Care.
URL:https://stjohnscc.org/event/coffee-talk/2029-06-11/
END:VEVENT
END:VCALENDAR