BEGIN:VCALENDAR
VERSION:2.0
PRODID:-//St. John’s Community Care - ECPv6.15.20//NONSGML v1.0//EN
CALSCALE:GREGORIAN
METHOD:PUBLISH
X-WR-CALNAME:St. John’s Community Care
X-ORIGINAL-URL:https://stjohnscc.org
X-WR-CALDESC:Events for St. John’s Community Care
REFRESH-INTERVAL;VALUE=DURATION:PT1H
X-Robots-Tag:noindex
X-PUBLISHED-TTL:PT1H
BEGIN:VTIMEZONE
TZID:America/Edmonton
BEGIN:DAYLIGHT
TZOFFSETFROM:-0700
TZOFFSETTO:-0600
TZNAME:MDT
DTSTART:20270314T090000
END:DAYLIGHT
BEGIN:STANDARD
TZOFFSETFROM:-0600
TZOFFSETTO:-0700
TZNAME:MST
DTSTART:20271107T080000
END:STANDARD
BEGIN:DAYLIGHT
TZOFFSETFROM:-0700
TZOFFSETTO:-0600
TZNAME:MDT
DTSTART:20280312T090000
END:DAYLIGHT
BEGIN:STANDARD
TZOFFSETFROM:-0600
TZOFFSETTO:-0700
TZNAME:MST
DTSTART:20281105T080000
END:STANDARD
BEGIN:DAYLIGHT
TZOFFSETFROM:-0700
TZOFFSETTO:-0600
TZNAME:MDT
DTSTART:20290311T090000
END:DAYLIGHT
BEGIN:STANDARD
TZOFFSETFROM:-0600
TZOFFSETTO:-0700
TZNAME:MST
DTSTART:20291104T080000
END:STANDARD
END:VTIMEZONE
BEGIN:VEVENT
DTSTART;TZID=America/Edmonton:20280725T100000
DTEND;TZID=America/Edmonton:20280725T113000
DTSTAMP:20260421T204205
CREATED:20250421T214937Z
LAST-MODIFIED:20260306T195835Z
UID:10002675-1848132000-1848137400@stjohnscc.org
SUMMARY:Memory Cafe Edwardsville
DESCRIPTION:Tuesdays from 10am-11:30am at Edwardsville Library. In-person only.\n \n 
URL:https://stjohnscc.org/event/memory-cafe-at-main-street/2028-07-25/
END:VEVENT
BEGIN:VEVENT
DTSTART;TZID=America/Edmonton:20280726T133000
DTEND;TZID=America/Edmonton:20280726T143000
DTSTAMP:20260421T204205
CREATED:20250515T160600Z
LAST-MODIFIED:20250515T160600Z
UID:10001765-1848231000-1848234600@stjohnscc.org
SUMMARY:Memory Cafe
DESCRIPTION:
URL:https://stjohnscc.org/event/memory-cafe/2028-07-26/
END:VEVENT
BEGIN:VEVENT
DTSTART;TZID=America/Edmonton:20280726T180000
DTEND;TZID=America/Edmonton:20280726T193000
DTSTAMP:20260421T204205
CREATED:20250611T154819Z
LAST-MODIFIED:20250611T155148Z
UID:10001898-1848247200-1848252600@stjohnscc.org
SUMMARY:Evening Zoom Group
DESCRIPTION:
URL:https://stjohnscc.org/event/evening-zoom-group-copy-2/2028-07-26/
END:VEVENT
BEGIN:VEVENT
DTSTART;TZID=America/Edmonton:20280728T100000
DTEND;TZID=America/Edmonton:20280728T113000
DTSTAMP:20260421T204205
CREATED:20240823T214659Z
LAST-MODIFIED:20250307T232054Z
UID:10000592-1848391200-1848396600@stjohnscc.org
SUMMARY:Caregiver Coffee Talk
DESCRIPTION:Every Monday\n9 am – 10:30 am \nEvery Friday\n10 am – 11:30 am \n\nAll caregivers are welcome. \nCoffee talk is for Caregivers to come together offering information\, resources\, and strategies specifically for caring for someone who may be disabled or have other health related concerns. \nCome together to share space and life experiences over a nice hot cup of coffee on St. John’s Community Care.
URL:https://stjohnscc.org/event/coffee-talk-2/2028-07-28/
END:VEVENT
BEGIN:VEVENT
DTSTART;TZID=America/Edmonton:20280731T090000
DTEND;TZID=America/Edmonton:20280731T103000
DTSTAMP:20260421T204205
CREATED:20240823T214550Z
LAST-MODIFIED:20251004T161842Z
UID:10000337-1848646800-1848652200@stjohnscc.org
SUMMARY:Caregiver Coffee Talk
DESCRIPTION:Every Monday\n9 am – 10:30 am \nEvery Friday\n10 am – 11:30 am \nAll caregivers are welcome. \nCoffee talk is for Caregivers to come together offering information\, resources\, and strategies specifically for caring for someone who may be disabled or have other health related concerns. \nCome together to share space and life experiences over a nice hot cup of coffee on St. John’s Community Care.
URL:https://stjohnscc.org/event/coffee-talk/2028-07-31/
END:VEVENT
BEGIN:VEVENT
DTSTART;TZID=America/Edmonton:20280801T100000
DTEND;TZID=America/Edmonton:20280801T113000
DTSTAMP:20260421T204205
CREATED:20250421T214937Z
LAST-MODIFIED:20260306T195835Z
UID:10002676-1848736800-1848742200@stjohnscc.org
SUMMARY:Memory Cafe Edwardsville
DESCRIPTION:Tuesdays from 10am-11:30am at Edwardsville Library. In-person only.\n \n 
URL:https://stjohnscc.org/event/memory-cafe-at-main-street/2028-08-01/
END:VEVENT
BEGIN:VEVENT
DTSTART;TZID=America/Edmonton:20280802T133000
DTEND;TZID=America/Edmonton:20280802T143000
DTSTAMP:20260421T204205
CREATED:20250515T160600Z
LAST-MODIFIED:20250515T160600Z
UID:10001766-1848835800-1848839400@stjohnscc.org
SUMMARY:Memory Cafe
DESCRIPTION:
URL:https://stjohnscc.org/event/memory-cafe/2028-08-02/
END:VEVENT
BEGIN:VEVENT
DTSTART;TZID=America/Edmonton:20280804T100000
DTEND;TZID=America/Edmonton:20280804T113000
DTSTAMP:20260421T204205
CREATED:20240823T214659Z
LAST-MODIFIED:20250307T232054Z
UID:10000593-1848996000-1849001400@stjohnscc.org
SUMMARY:Caregiver Coffee Talk
DESCRIPTION:Every Monday\n9 am – 10:30 am \nEvery Friday\n10 am – 11:30 am \n\nAll caregivers are welcome. \nCoffee talk is for Caregivers to come together offering information\, resources\, and strategies specifically for caring for someone who may be disabled or have other health related concerns. \nCome together to share space and life experiences over a nice hot cup of coffee on St. John’s Community Care.
URL:https://stjohnscc.org/event/coffee-talk-2/2028-08-04/
END:VEVENT
BEGIN:VEVENT
DTSTART;TZID=America/Edmonton:20280807T090000
DTEND;TZID=America/Edmonton:20280807T103000
DTSTAMP:20260421T204205
CREATED:20240823T214550Z
LAST-MODIFIED:20251004T161842Z
UID:10000338-1849251600-1849257000@stjohnscc.org
SUMMARY:Caregiver Coffee Talk
DESCRIPTION:Every Monday\n9 am – 10:30 am \nEvery Friday\n10 am – 11:30 am \nAll caregivers are welcome. \nCoffee talk is for Caregivers to come together offering information\, resources\, and strategies specifically for caring for someone who may be disabled or have other health related concerns. \nCome together to share space and life experiences over a nice hot cup of coffee on St. John’s Community Care.
URL:https://stjohnscc.org/event/coffee-talk/2028-08-07/
END:VEVENT
BEGIN:VEVENT
DTSTART;TZID=America/Edmonton:20280807T130000
DTEND;TZID=America/Edmonton:20280807T143000
DTSTAMP:20260421T204205
CREATED:20251004T162312Z
LAST-MODIFIED:20251004T162312Z
UID:10002234-1849266000-1849271400@stjohnscc.org
SUMMARY:Alzheimer's Support Group Monday
DESCRIPTION:NOW OFFERING \nFirst and third Monday\, 1:00–2:30 p.m.\nGlen Carbon Senior Center\,\n157 N. Main\, Glen Carbon
URL:https://stjohnscc.org/event/alzheimers-support-group-monday/2028-08-07/
END:VEVENT
BEGIN:VEVENT
DTSTART;TZID=America/Edmonton:20280808T100000
DTEND;TZID=America/Edmonton:20280808T113000
DTSTAMP:20260421T204205
CREATED:20250421T214937Z
LAST-MODIFIED:20260306T195835Z
UID:10002677-1849341600-1849347000@stjohnscc.org
SUMMARY:Memory Cafe Edwardsville
DESCRIPTION:Tuesdays from 10am-11:30am at Edwardsville Library. In-person only.\n \n 
URL:https://stjohnscc.org/event/memory-cafe-at-main-street/2028-08-08/
END:VEVENT
BEGIN:VEVENT
DTSTART;TZID=America/Edmonton:20280808T133000
DTEND;TZID=America/Edmonton:20280808T150000
DTSTAMP:20260421T204205
CREATED:20260306T175347Z
LAST-MODIFIED:20260306T175348Z
UID:10002472-1849354200-1849359600@stjohnscc.org
SUMMARY:Alzheimer's Support Group
DESCRIPTION:
URL:https://stjohnscc.org/event/alzheimers-support-group-2-2-2/2028-08-08/
END:VEVENT
BEGIN:VEVENT
DTSTART;TZID=America/Edmonton:20280809T133000
DTEND;TZID=America/Edmonton:20280809T143000
DTSTAMP:20260421T204205
CREATED:20250515T160600Z
LAST-MODIFIED:20250515T160600Z
UID:10001767-1849440600-1849444200@stjohnscc.org
SUMMARY:Memory Cafe
DESCRIPTION:
URL:https://stjohnscc.org/event/memory-cafe/2028-08-09/
END:VEVENT
BEGIN:VEVENT
DTSTART;TZID=America/Edmonton:20280809T180000
DTEND;TZID=America/Edmonton:20280809T193000
DTSTAMP:20260421T204205
CREATED:20250611T155121Z
LAST-MODIFIED:20250611T155121Z
UID:10001517-1849456800-1849462200@stjohnscc.org
SUMMARY:Evening Zoom Group
DESCRIPTION: 
URL:https://stjohnscc.org/event/evening-zoom-group-wednesday-2/2028-08-09/
END:VEVENT
BEGIN:VEVENT
DTSTART;TZID=America/Edmonton:20280810T103000
DTEND;TZID=America/Edmonton:20280810T113000
DTSTAMP:20260421T204205
CREATED:20251004T162548Z
LAST-MODIFIED:20251006T161823Z
UID:10002354-1849516200-1849519800@stjohnscc.org
SUMMARY:Alzheimer's Support Group Thursday
DESCRIPTION:NOW OFFERING \nSecond Thursday of every month\, 10:30–11:30 a.m.\nEdwardsville YMCA\,\n1200 Esic Drive\, Edwardsville
URL:https://stjohnscc.org/event/alzheimers-support-group-thursday/2028-08-10/
END:VEVENT
BEGIN:VEVENT
DTSTART;TZID=America/Edmonton:20280811T100000
DTEND;TZID=America/Edmonton:20280811T113000
DTSTAMP:20260421T204205
CREATED:20240823T214659Z
LAST-MODIFIED:20250307T232054Z
UID:10000594-1849600800-1849606200@stjohnscc.org
SUMMARY:Caregiver Coffee Talk
DESCRIPTION:Every Monday\n9 am – 10:30 am \nEvery Friday\n10 am – 11:30 am \n\nAll caregivers are welcome. \nCoffee talk is for Caregivers to come together offering information\, resources\, and strategies specifically for caring for someone who may be disabled or have other health related concerns. \nCome together to share space and life experiences over a nice hot cup of coffee on St. John’s Community Care.
URL:https://stjohnscc.org/event/coffee-talk-2/2028-08-11/
END:VEVENT
BEGIN:VEVENT
DTSTART;TZID=America/Edmonton:20280814T090000
DTEND;TZID=America/Edmonton:20280814T103000
DTSTAMP:20260421T204205
CREATED:20240823T214550Z
LAST-MODIFIED:20251004T161842Z
UID:10000339-1849856400-1849861800@stjohnscc.org
SUMMARY:Caregiver Coffee Talk
DESCRIPTION:Every Monday\n9 am – 10:30 am \nEvery Friday\n10 am – 11:30 am \nAll caregivers are welcome. \nCoffee talk is for Caregivers to come together offering information\, resources\, and strategies specifically for caring for someone who may be disabled or have other health related concerns. \nCome together to share space and life experiences over a nice hot cup of coffee on St. John’s Community Care.
URL:https://stjohnscc.org/event/coffee-talk/2028-08-14/
END:VEVENT
BEGIN:VEVENT
DTSTART;TZID=America/Edmonton:20280815T100000
DTEND;TZID=America/Edmonton:20280815T113000
DTSTAMP:20260421T204205
CREATED:20250421T214937Z
LAST-MODIFIED:20260306T195835Z
UID:10002678-1849946400-1849951800@stjohnscc.org
SUMMARY:Memory Cafe Edwardsville
DESCRIPTION:Tuesdays from 10am-11:30am at Edwardsville Library. In-person only.\n \n 
URL:https://stjohnscc.org/event/memory-cafe-at-main-street/2028-08-15/
END:VEVENT
BEGIN:VEVENT
DTSTART;TZID=America/Edmonton:20280816T133000
DTEND;TZID=America/Edmonton:20280816T143000
DTSTAMP:20260421T204205
CREATED:20250515T160600Z
LAST-MODIFIED:20250515T160600Z
UID:10001768-1850045400-1850049000@stjohnscc.org
SUMMARY:Memory Cafe
DESCRIPTION:
URL:https://stjohnscc.org/event/memory-cafe/2028-08-16/
END:VEVENT
BEGIN:VEVENT
DTSTART;TZID=America/Edmonton:20280818T100000
DTEND;TZID=America/Edmonton:20280818T113000
DTSTAMP:20260421T204205
CREATED:20240823T214659Z
LAST-MODIFIED:20250307T232054Z
UID:10000595-1850205600-1850211000@stjohnscc.org
SUMMARY:Caregiver Coffee Talk
DESCRIPTION:Every Monday\n9 am – 10:30 am \nEvery Friday\n10 am – 11:30 am \n\nAll caregivers are welcome. \nCoffee talk is for Caregivers to come together offering information\, resources\, and strategies specifically for caring for someone who may be disabled or have other health related concerns. \nCome together to share space and life experiences over a nice hot cup of coffee on St. John’s Community Care.
URL:https://stjohnscc.org/event/coffee-talk-2/2028-08-18/
END:VEVENT
BEGIN:VEVENT
DTSTART;TZID=America/Edmonton:20280821T090000
DTEND;TZID=America/Edmonton:20280821T103000
DTSTAMP:20260421T204205
CREATED:20240823T214550Z
LAST-MODIFIED:20251004T161842Z
UID:10000340-1850461200-1850466600@stjohnscc.org
SUMMARY:Caregiver Coffee Talk
DESCRIPTION:Every Monday\n9 am – 10:30 am \nEvery Friday\n10 am – 11:30 am \nAll caregivers are welcome. \nCoffee talk is for Caregivers to come together offering information\, resources\, and strategies specifically for caring for someone who may be disabled or have other health related concerns. \nCome together to share space and life experiences over a nice hot cup of coffee on St. John’s Community Care.
URL:https://stjohnscc.org/event/coffee-talk/2028-08-21/
END:VEVENT
BEGIN:VEVENT
DTSTART;TZID=America/Edmonton:20280821T130000
DTEND;TZID=America/Edmonton:20280821T143000
DTSTAMP:20260421T204205
CREATED:20251004T162416Z
LAST-MODIFIED:20251004T162416Z
UID:10002294-1850475600-1850481000@stjohnscc.org
SUMMARY:Alzheimer's Support Group 3rd Monday
DESCRIPTION:NOW OFFERING \nFirst and third Monday\, 1:00–2:30 p.m.\nGlen Carbon Senior Center\,\n157 N. Main\, Glen Carbon
URL:https://stjohnscc.org/event/alzheimers-support-group-3rd-monday/2028-08-21/
END:VEVENT
BEGIN:VEVENT
DTSTART;TZID=America/Edmonton:20280822T100000
DTEND;TZID=America/Edmonton:20280822T113000
DTSTAMP:20260421T204205
CREATED:20250421T214937Z
LAST-MODIFIED:20260306T195835Z
UID:10002679-1850551200-1850556600@stjohnscc.org
SUMMARY:Memory Cafe Edwardsville
DESCRIPTION:Tuesdays from 10am-11:30am at Edwardsville Library. In-person only.\n \n 
URL:https://stjohnscc.org/event/memory-cafe-at-main-street/2028-08-22/
END:VEVENT
BEGIN:VEVENT
DTSTART;TZID=America/Edmonton:20280823T133000
DTEND;TZID=America/Edmonton:20280823T143000
DTSTAMP:20260421T204205
CREATED:20250515T160600Z
LAST-MODIFIED:20250515T160600Z
UID:10001769-1850650200-1850653800@stjohnscc.org
SUMMARY:Memory Cafe
DESCRIPTION:
URL:https://stjohnscc.org/event/memory-cafe/2028-08-23/
END:VEVENT
BEGIN:VEVENT
DTSTART;TZID=America/Edmonton:20280823T180000
DTEND;TZID=America/Edmonton:20280823T193000
DTSTAMP:20260421T204205
CREATED:20250611T154819Z
LAST-MODIFIED:20250611T155148Z
UID:10001899-1850666400-1850671800@stjohnscc.org
SUMMARY:Evening Zoom Group
DESCRIPTION:
URL:https://stjohnscc.org/event/evening-zoom-group-copy-2/2028-08-23/
END:VEVENT
BEGIN:VEVENT
DTSTART;TZID=America/Edmonton:20280825T100000
DTEND;TZID=America/Edmonton:20280825T113000
DTSTAMP:20260421T204205
CREATED:20240823T214659Z
LAST-MODIFIED:20250307T232054Z
UID:10000596-1850810400-1850815800@stjohnscc.org
SUMMARY:Caregiver Coffee Talk
DESCRIPTION:Every Monday\n9 am – 10:30 am \nEvery Friday\n10 am – 11:30 am \n\nAll caregivers are welcome. \nCoffee talk is for Caregivers to come together offering information\, resources\, and strategies specifically for caring for someone who may be disabled or have other health related concerns. \nCome together to share space and life experiences over a nice hot cup of coffee on St. John’s Community Care.
URL:https://stjohnscc.org/event/coffee-talk-2/2028-08-25/
END:VEVENT
BEGIN:VEVENT
DTSTART;TZID=America/Edmonton:20280828T090000
DTEND;TZID=America/Edmonton:20280828T103000
DTSTAMP:20260421T204205
CREATED:20240823T214550Z
LAST-MODIFIED:20251004T161842Z
UID:10000341-1851066000-1851071400@stjohnscc.org
SUMMARY:Caregiver Coffee Talk
DESCRIPTION:Every Monday\n9 am – 10:30 am \nEvery Friday\n10 am – 11:30 am \nAll caregivers are welcome. \nCoffee talk is for Caregivers to come together offering information\, resources\, and strategies specifically for caring for someone who may be disabled or have other health related concerns. \nCome together to share space and life experiences over a nice hot cup of coffee on St. John’s Community Care.
URL:https://stjohnscc.org/event/coffee-talk/2028-08-28/
END:VEVENT
BEGIN:VEVENT
DTSTART;TZID=America/Edmonton:20280829T100000
DTEND;TZID=America/Edmonton:20280829T113000
DTSTAMP:20260421T204205
CREATED:20250421T214937Z
LAST-MODIFIED:20260306T195835Z
UID:10002680-1851156000-1851161400@stjohnscc.org
SUMMARY:Memory Cafe Edwardsville
DESCRIPTION:Tuesdays from 10am-11:30am at Edwardsville Library. In-person only.\n \n 
URL:https://stjohnscc.org/event/memory-cafe-at-main-street/2028-08-29/
END:VEVENT
BEGIN:VEVENT
DTSTART;TZID=America/Edmonton:20280830T133000
DTEND;TZID=America/Edmonton:20280830T143000
DTSTAMP:20260421T204205
CREATED:20250515T160600Z
LAST-MODIFIED:20250515T160600Z
UID:10001770-1851255000-1851258600@stjohnscc.org
SUMMARY:Memory Cafe
DESCRIPTION:
URL:https://stjohnscc.org/event/memory-cafe/2028-08-30/
END:VEVENT
BEGIN:VEVENT
DTSTART;TZID=America/Edmonton:20280901T100000
DTEND;TZID=America/Edmonton:20280901T113000
DTSTAMP:20260421T204205
CREATED:20240823T214659Z
LAST-MODIFIED:20250307T232054Z
UID:10000597-1851415200-1851420600@stjohnscc.org
SUMMARY:Caregiver Coffee Talk
DESCRIPTION:Every Monday\n9 am – 10:30 am \nEvery Friday\n10 am – 11:30 am \n\nAll caregivers are welcome. \nCoffee talk is for Caregivers to come together offering information\, resources\, and strategies specifically for caring for someone who may be disabled or have other health related concerns. \nCome together to share space and life experiences over a nice hot cup of coffee on St. John’s Community Care.
URL:https://stjohnscc.org/event/coffee-talk-2/2028-09-01/
END:VEVENT
END:VCALENDAR