BEGIN:VCALENDAR
VERSION:2.0
PRODID:-//St. John’s Community Care - ECPv6.15.20//NONSGML v1.0//EN
CALSCALE:GREGORIAN
METHOD:PUBLISH
X-ORIGINAL-URL:https://stjohnscc.org
X-WR-CALDESC:Events for St. John’s Community Care
REFRESH-INTERVAL;VALUE=DURATION:PT1H
X-Robots-Tag:noindex
X-PUBLISHED-TTL:PT1H
BEGIN:VTIMEZONE
TZID:America/Edmonton
BEGIN:DAYLIGHT
TZOFFSETFROM:-0700
TZOFFSETTO:-0600
TZNAME:MDT
DTSTART:20270314T090000
END:DAYLIGHT
BEGIN:STANDARD
TZOFFSETFROM:-0600
TZOFFSETTO:-0700
TZNAME:MST
DTSTART:20271107T080000
END:STANDARD
BEGIN:DAYLIGHT
TZOFFSETFROM:-0700
TZOFFSETTO:-0600
TZNAME:MDT
DTSTART:20280312T090000
END:DAYLIGHT
BEGIN:STANDARD
TZOFFSETFROM:-0600
TZOFFSETTO:-0700
TZNAME:MST
DTSTART:20281105T080000
END:STANDARD
BEGIN:DAYLIGHT
TZOFFSETFROM:-0700
TZOFFSETTO:-0600
TZNAME:MDT
DTSTART:20290311T090000
END:DAYLIGHT
BEGIN:STANDARD
TZOFFSETFROM:-0600
TZOFFSETTO:-0700
TZNAME:MST
DTSTART:20291104T080000
END:STANDARD
END:VTIMEZONE
BEGIN:VEVENT
DTSTART;TZID=America/Edmonton:20280523T100000
DTEND;TZID=America/Edmonton:20280523T113000
DTSTAMP:20260421T124953
CREATED:20250421T214937Z
LAST-MODIFIED:20260306T195835Z
UID:10002666-1842688800-1842694200@stjohnscc.org
SUMMARY:Memory Cafe Edwardsville
DESCRIPTION:Tuesdays from 10am-11:30am at Edwardsville Library. In-person only.\n \n 
URL:https://stjohnscc.org/event/memory-cafe-at-main-street/2028-05-23/
END:VEVENT
BEGIN:VEVENT
DTSTART;TZID=America/Edmonton:20280524T133000
DTEND;TZID=America/Edmonton:20280524T143000
DTSTAMP:20260421T124953
CREATED:20250515T160600Z
LAST-MODIFIED:20250515T160600Z
UID:10001756-1842787800-1842791400@stjohnscc.org
SUMMARY:Memory Cafe
DESCRIPTION:
URL:https://stjohnscc.org/event/memory-cafe/2028-05-24/
END:VEVENT
BEGIN:VEVENT
DTSTART;TZID=America/Edmonton:20280524T180000
DTEND;TZID=America/Edmonton:20280524T193000
DTSTAMP:20260421T124953
CREATED:20250611T154819Z
LAST-MODIFIED:20250611T155148Z
UID:10001896-1842804000-1842809400@stjohnscc.org
SUMMARY:Evening Zoom Group
DESCRIPTION:
URL:https://stjohnscc.org/event/evening-zoom-group-copy-2/2028-05-24/
END:VEVENT
BEGIN:VEVENT
DTSTART;TZID=America/Edmonton:20280526T100000
DTEND;TZID=America/Edmonton:20280526T113000
DTSTAMP:20260421T124953
CREATED:20240823T214659Z
LAST-MODIFIED:20250307T232054Z
UID:10000583-1842948000-1842953400@stjohnscc.org
SUMMARY:Caregiver Coffee Talk
DESCRIPTION:Every Monday\n9 am – 10:30 am \nEvery Friday\n10 am – 11:30 am \n\nAll caregivers are welcome. \nCoffee talk is for Caregivers to come together offering information\, resources\, and strategies specifically for caring for someone who may be disabled or have other health related concerns. \nCome together to share space and life experiences over a nice hot cup of coffee on St. John’s Community Care.
URL:https://stjohnscc.org/event/coffee-talk-2/2028-05-26/
END:VEVENT
BEGIN:VEVENT
DTSTART;TZID=America/Edmonton:20280529T090000
DTEND;TZID=America/Edmonton:20280529T103000
DTSTAMP:20260421T124953
CREATED:20240823T214550Z
LAST-MODIFIED:20251004T161842Z
UID:10000328-1843203600-1843209000@stjohnscc.org
SUMMARY:Caregiver Coffee Talk
DESCRIPTION:Every Monday\n9 am – 10:30 am \nEvery Friday\n10 am – 11:30 am \nAll caregivers are welcome. \nCoffee talk is for Caregivers to come together offering information\, resources\, and strategies specifically for caring for someone who may be disabled or have other health related concerns. \nCome together to share space and life experiences over a nice hot cup of coffee on St. John’s Community Care.
URL:https://stjohnscc.org/event/coffee-talk/2028-05-29/
END:VEVENT
BEGIN:VEVENT
DTSTART;TZID=America/Edmonton:20280530T100000
DTEND;TZID=America/Edmonton:20280530T113000
DTSTAMP:20260421T124953
CREATED:20250421T214937Z
LAST-MODIFIED:20260306T195835Z
UID:10002667-1843293600-1843299000@stjohnscc.org
SUMMARY:Memory Cafe Edwardsville
DESCRIPTION:Tuesdays from 10am-11:30am at Edwardsville Library. In-person only.\n \n 
URL:https://stjohnscc.org/event/memory-cafe-at-main-street/2028-05-30/
END:VEVENT
BEGIN:VEVENT
DTSTART;TZID=America/Edmonton:20280531T133000
DTEND;TZID=America/Edmonton:20280531T143000
DTSTAMP:20260421T124953
CREATED:20250515T160600Z
LAST-MODIFIED:20250515T160600Z
UID:10001757-1843392600-1843396200@stjohnscc.org
SUMMARY:Memory Cafe
DESCRIPTION:
URL:https://stjohnscc.org/event/memory-cafe/2028-05-31/
END:VEVENT
BEGIN:VEVENT
DTSTART;TZID=America/Edmonton:20280602T100000
DTEND;TZID=America/Edmonton:20280602T113000
DTSTAMP:20260421T124953
CREATED:20240823T214659Z
LAST-MODIFIED:20250307T232054Z
UID:10000584-1843552800-1843558200@stjohnscc.org
SUMMARY:Caregiver Coffee Talk
DESCRIPTION:Every Monday\n9 am – 10:30 am \nEvery Friday\n10 am – 11:30 am \n\nAll caregivers are welcome. \nCoffee talk is for Caregivers to come together offering information\, resources\, and strategies specifically for caring for someone who may be disabled or have other health related concerns. \nCome together to share space and life experiences over a nice hot cup of coffee on St. John’s Community Care.
URL:https://stjohnscc.org/event/coffee-talk-2/2028-06-02/
END:VEVENT
BEGIN:VEVENT
DTSTART;TZID=America/Edmonton:20280605T090000
DTEND;TZID=America/Edmonton:20280605T103000
DTSTAMP:20260421T124953
CREATED:20240823T214550Z
LAST-MODIFIED:20251004T161842Z
UID:10000329-1843808400-1843813800@stjohnscc.org
SUMMARY:Caregiver Coffee Talk
DESCRIPTION:Every Monday\n9 am – 10:30 am \nEvery Friday\n10 am – 11:30 am \nAll caregivers are welcome. \nCoffee talk is for Caregivers to come together offering information\, resources\, and strategies specifically for caring for someone who may be disabled or have other health related concerns. \nCome together to share space and life experiences over a nice hot cup of coffee on St. John’s Community Care.
URL:https://stjohnscc.org/event/coffee-talk/2028-06-05/
END:VEVENT
BEGIN:VEVENT
DTSTART;TZID=America/Edmonton:20280605T130000
DTEND;TZID=America/Edmonton:20280605T143000
DTSTAMP:20260421T124953
CREATED:20251004T162312Z
LAST-MODIFIED:20251004T162312Z
UID:10002232-1843822800-1843828200@stjohnscc.org
SUMMARY:Alzheimer's Support Group Monday
DESCRIPTION:NOW OFFERING \nFirst and third Monday\, 1:00–2:30 p.m.\nGlen Carbon Senior Center\,\n157 N. Main\, Glen Carbon
URL:https://stjohnscc.org/event/alzheimers-support-group-monday/2028-06-05/
END:VEVENT
BEGIN:VEVENT
DTSTART;TZID=America/Edmonton:20280606T100000
DTEND;TZID=America/Edmonton:20280606T113000
DTSTAMP:20260421T124953
CREATED:20250421T214937Z
LAST-MODIFIED:20260306T195835Z
UID:10002668-1843898400-1843903800@stjohnscc.org
SUMMARY:Memory Cafe Edwardsville
DESCRIPTION:Tuesdays from 10am-11:30am at Edwardsville Library. In-person only.\n \n 
URL:https://stjohnscc.org/event/memory-cafe-at-main-street/2028-06-06/
END:VEVENT
BEGIN:VEVENT
DTSTART;TZID=America/Edmonton:20280607T133000
DTEND;TZID=America/Edmonton:20280607T143000
DTSTAMP:20260421T124953
CREATED:20250515T160600Z
LAST-MODIFIED:20250515T160600Z
UID:10001758-1843997400-1844001000@stjohnscc.org
SUMMARY:Memory Cafe
DESCRIPTION:
URL:https://stjohnscc.org/event/memory-cafe/2028-06-07/
END:VEVENT
BEGIN:VEVENT
DTSTART;TZID=America/Edmonton:20280608T103000
DTEND;TZID=America/Edmonton:20280608T113000
DTSTAMP:20260421T124953
CREATED:20251004T162548Z
LAST-MODIFIED:20251006T161823Z
UID:10002352-1844073000-1844076600@stjohnscc.org
SUMMARY:Alzheimer's Support Group Thursday
DESCRIPTION:NOW OFFERING \nSecond Thursday of every month\, 10:30–11:30 a.m.\nEdwardsville YMCA\,\n1200 Esic Drive\, Edwardsville
URL:https://stjohnscc.org/event/alzheimers-support-group-thursday/2028-06-08/
END:VEVENT
BEGIN:VEVENT
DTSTART;TZID=America/Edmonton:20280609T100000
DTEND;TZID=America/Edmonton:20280609T113000
DTSTAMP:20260421T124953
CREATED:20240823T214659Z
LAST-MODIFIED:20250307T232054Z
UID:10000585-1844157600-1844163000@stjohnscc.org
SUMMARY:Caregiver Coffee Talk
DESCRIPTION:Every Monday\n9 am – 10:30 am \nEvery Friday\n10 am – 11:30 am \n\nAll caregivers are welcome. \nCoffee talk is for Caregivers to come together offering information\, resources\, and strategies specifically for caring for someone who may be disabled or have other health related concerns. \nCome together to share space and life experiences over a nice hot cup of coffee on St. John’s Community Care.
URL:https://stjohnscc.org/event/coffee-talk-2/2028-06-09/
END:VEVENT
BEGIN:VEVENT
DTSTART;TZID=America/Edmonton:20280612T090000
DTEND;TZID=America/Edmonton:20280612T103000
DTSTAMP:20260421T124953
CREATED:20240823T214550Z
LAST-MODIFIED:20251004T161842Z
UID:10000330-1844413200-1844418600@stjohnscc.org
SUMMARY:Caregiver Coffee Talk
DESCRIPTION:Every Monday\n9 am – 10:30 am \nEvery Friday\n10 am – 11:30 am \nAll caregivers are welcome. \nCoffee talk is for Caregivers to come together offering information\, resources\, and strategies specifically for caring for someone who may be disabled or have other health related concerns. \nCome together to share space and life experiences over a nice hot cup of coffee on St. John’s Community Care.
URL:https://stjohnscc.org/event/coffee-talk/2028-06-12/
END:VEVENT
BEGIN:VEVENT
DTSTART;TZID=America/Edmonton:20280613T100000
DTEND;TZID=America/Edmonton:20280613T113000
DTSTAMP:20260421T124953
CREATED:20250421T214937Z
LAST-MODIFIED:20260306T195835Z
UID:10002669-1844503200-1844508600@stjohnscc.org
SUMMARY:Memory Cafe Edwardsville
DESCRIPTION:Tuesdays from 10am-11:30am at Edwardsville Library. In-person only.\n \n 
URL:https://stjohnscc.org/event/memory-cafe-at-main-street/2028-06-13/
END:VEVENT
BEGIN:VEVENT
DTSTART;TZID=America/Edmonton:20280613T133000
DTEND;TZID=America/Edmonton:20280613T150000
DTSTAMP:20260421T124953
CREATED:20260306T175347Z
LAST-MODIFIED:20260306T175348Z
UID:10002470-1844515800-1844521200@stjohnscc.org
SUMMARY:Alzheimer's Support Group
DESCRIPTION:
URL:https://stjohnscc.org/event/alzheimers-support-group-2-2-2/2028-06-13/
END:VEVENT
BEGIN:VEVENT
DTSTART;TZID=America/Edmonton:20280614T133000
DTEND;TZID=America/Edmonton:20280614T143000
DTSTAMP:20260421T124953
CREATED:20250515T160600Z
LAST-MODIFIED:20250515T160600Z
UID:10001759-1844602200-1844605800@stjohnscc.org
SUMMARY:Memory Cafe
DESCRIPTION:
URL:https://stjohnscc.org/event/memory-cafe/2028-06-14/
END:VEVENT
BEGIN:VEVENT
DTSTART;TZID=America/Edmonton:20280614T180000
DTEND;TZID=America/Edmonton:20280614T193000
DTSTAMP:20260421T124953
CREATED:20250611T155121Z
LAST-MODIFIED:20250611T155121Z
UID:10001515-1844618400-1844623800@stjohnscc.org
SUMMARY:Evening Zoom Group
DESCRIPTION: 
URL:https://stjohnscc.org/event/evening-zoom-group-wednesday-2/2028-06-14/
END:VEVENT
BEGIN:VEVENT
DTSTART;TZID=America/Edmonton:20280616T100000
DTEND;TZID=America/Edmonton:20280616T113000
DTSTAMP:20260421T124953
CREATED:20240823T214659Z
LAST-MODIFIED:20250307T232054Z
UID:10000586-1844762400-1844767800@stjohnscc.org
SUMMARY:Caregiver Coffee Talk
DESCRIPTION:Every Monday\n9 am – 10:30 am \nEvery Friday\n10 am – 11:30 am \n\nAll caregivers are welcome. \nCoffee talk is for Caregivers to come together offering information\, resources\, and strategies specifically for caring for someone who may be disabled or have other health related concerns. \nCome together to share space and life experiences over a nice hot cup of coffee on St. John’s Community Care.
URL:https://stjohnscc.org/event/coffee-talk-2/2028-06-16/
END:VEVENT
BEGIN:VEVENT
DTSTART;TZID=America/Edmonton:20280619T090000
DTEND;TZID=America/Edmonton:20280619T103000
DTSTAMP:20260421T124953
CREATED:20240823T214550Z
LAST-MODIFIED:20251004T161842Z
UID:10000331-1845018000-1845023400@stjohnscc.org
SUMMARY:Caregiver Coffee Talk
DESCRIPTION:Every Monday\n9 am – 10:30 am \nEvery Friday\n10 am – 11:30 am \nAll caregivers are welcome. \nCoffee talk is for Caregivers to come together offering information\, resources\, and strategies specifically for caring for someone who may be disabled or have other health related concerns. \nCome together to share space and life experiences over a nice hot cup of coffee on St. John’s Community Care.
URL:https://stjohnscc.org/event/coffee-talk/2028-06-19/
END:VEVENT
BEGIN:VEVENT
DTSTART;TZID=America/Edmonton:20280619T130000
DTEND;TZID=America/Edmonton:20280619T143000
DTSTAMP:20260421T124953
CREATED:20251004T162416Z
LAST-MODIFIED:20251004T162416Z
UID:10002292-1845032400-1845037800@stjohnscc.org
SUMMARY:Alzheimer's Support Group 3rd Monday
DESCRIPTION:NOW OFFERING \nFirst and third Monday\, 1:00–2:30 p.m.\nGlen Carbon Senior Center\,\n157 N. Main\, Glen Carbon
URL:https://stjohnscc.org/event/alzheimers-support-group-3rd-monday/2028-06-19/
END:VEVENT
BEGIN:VEVENT
DTSTART;TZID=America/Edmonton:20280620T100000
DTEND;TZID=America/Edmonton:20280620T113000
DTSTAMP:20260421T124953
CREATED:20250421T214937Z
LAST-MODIFIED:20260306T195835Z
UID:10002670-1845108000-1845113400@stjohnscc.org
SUMMARY:Memory Cafe Edwardsville
DESCRIPTION:Tuesdays from 10am-11:30am at Edwardsville Library. In-person only.\n \n 
URL:https://stjohnscc.org/event/memory-cafe-at-main-street/2028-06-20/
END:VEVENT
BEGIN:VEVENT
DTSTART;TZID=America/Edmonton:20280621T133000
DTEND;TZID=America/Edmonton:20280621T143000
DTSTAMP:20260421T124953
CREATED:20250515T160600Z
LAST-MODIFIED:20250515T160600Z
UID:10001760-1845207000-1845210600@stjohnscc.org
SUMMARY:Memory Cafe
DESCRIPTION:
URL:https://stjohnscc.org/event/memory-cafe/2028-06-21/
END:VEVENT
BEGIN:VEVENT
DTSTART;TZID=America/Edmonton:20280623T100000
DTEND;TZID=America/Edmonton:20280623T113000
DTSTAMP:20260421T124953
CREATED:20240823T214659Z
LAST-MODIFIED:20250307T232054Z
UID:10000587-1845367200-1845372600@stjohnscc.org
SUMMARY:Caregiver Coffee Talk
DESCRIPTION:Every Monday\n9 am – 10:30 am \nEvery Friday\n10 am – 11:30 am \n\nAll caregivers are welcome. \nCoffee talk is for Caregivers to come together offering information\, resources\, and strategies specifically for caring for someone who may be disabled or have other health related concerns. \nCome together to share space and life experiences over a nice hot cup of coffee on St. John’s Community Care.
URL:https://stjohnscc.org/event/coffee-talk-2/2028-06-23/
END:VEVENT
BEGIN:VEVENT
DTSTART;TZID=America/Edmonton:20280626T090000
DTEND;TZID=America/Edmonton:20280626T103000
DTSTAMP:20260421T124953
CREATED:20240823T214550Z
LAST-MODIFIED:20251004T161842Z
UID:10000332-1845622800-1845628200@stjohnscc.org
SUMMARY:Caregiver Coffee Talk
DESCRIPTION:Every Monday\n9 am – 10:30 am \nEvery Friday\n10 am – 11:30 am \nAll caregivers are welcome. \nCoffee talk is for Caregivers to come together offering information\, resources\, and strategies specifically for caring for someone who may be disabled or have other health related concerns. \nCome together to share space and life experiences over a nice hot cup of coffee on St. John’s Community Care.
URL:https://stjohnscc.org/event/coffee-talk/2028-06-26/
END:VEVENT
BEGIN:VEVENT
DTSTART;TZID=America/Edmonton:20280627T100000
DTEND;TZID=America/Edmonton:20280627T113000
DTSTAMP:20260421T124953
CREATED:20250421T214937Z
LAST-MODIFIED:20260306T195835Z
UID:10002671-1845712800-1845718200@stjohnscc.org
SUMMARY:Memory Cafe Edwardsville
DESCRIPTION:Tuesdays from 10am-11:30am at Edwardsville Library. In-person only.\n \n 
URL:https://stjohnscc.org/event/memory-cafe-at-main-street/2028-06-27/
END:VEVENT
BEGIN:VEVENT
DTSTART;TZID=America/Edmonton:20280628T133000
DTEND;TZID=America/Edmonton:20280628T143000
DTSTAMP:20260421T124953
CREATED:20250515T160600Z
LAST-MODIFIED:20250515T160600Z
UID:10001761-1845811800-1845815400@stjohnscc.org
SUMMARY:Memory Cafe
DESCRIPTION:
URL:https://stjohnscc.org/event/memory-cafe/2028-06-28/
END:VEVENT
BEGIN:VEVENT
DTSTART;TZID=America/Edmonton:20280628T180000
DTEND;TZID=America/Edmonton:20280628T193000
DTSTAMP:20260421T124953
CREATED:20250611T154819Z
LAST-MODIFIED:20250611T155148Z
UID:10001897-1845828000-1845833400@stjohnscc.org
SUMMARY:Evening Zoom Group
DESCRIPTION:
URL:https://stjohnscc.org/event/evening-zoom-group-copy-2/2028-06-28/
END:VEVENT
BEGIN:VEVENT
DTSTART;TZID=America/Edmonton:20280630T100000
DTEND;TZID=America/Edmonton:20280630T113000
DTSTAMP:20260421T124953
CREATED:20240823T214659Z
LAST-MODIFIED:20250307T232054Z
UID:10000588-1845972000-1845977400@stjohnscc.org
SUMMARY:Caregiver Coffee Talk
DESCRIPTION:Every Monday\n9 am – 10:30 am \nEvery Friday\n10 am – 11:30 am \n\nAll caregivers are welcome. \nCoffee talk is for Caregivers to come together offering information\, resources\, and strategies specifically for caring for someone who may be disabled or have other health related concerns. \nCome together to share space and life experiences over a nice hot cup of coffee on St. John’s Community Care.
URL:https://stjohnscc.org/event/coffee-talk-2/2028-06-30/
END:VEVENT
END:VCALENDAR