BEGIN:VCALENDAR
VERSION:2.0
PRODID:-//St. John’s Community Care - ECPv6.15.20//NONSGML v1.0//EN
CALSCALE:GREGORIAN
METHOD:PUBLISH
X-ORIGINAL-URL:https://stjohnscc.org
X-WR-CALDESC:Events for St. John’s Community Care
REFRESH-INTERVAL;VALUE=DURATION:PT1H
X-Robots-Tag:noindex
X-PUBLISHED-TTL:PT1H
BEGIN:VTIMEZONE
TZID:America/Edmonton
BEGIN:DAYLIGHT
TZOFFSETFROM:-0700
TZOFFSETTO:-0600
TZNAME:MDT
DTSTART:20270314T090000
END:DAYLIGHT
BEGIN:STANDARD
TZOFFSETFROM:-0600
TZOFFSETTO:-0700
TZNAME:MST
DTSTART:20271107T080000
END:STANDARD
BEGIN:DAYLIGHT
TZOFFSETFROM:-0700
TZOFFSETTO:-0600
TZNAME:MDT
DTSTART:20280312T090000
END:DAYLIGHT
BEGIN:STANDARD
TZOFFSETFROM:-0600
TZOFFSETTO:-0700
TZNAME:MST
DTSTART:20281105T080000
END:STANDARD
BEGIN:DAYLIGHT
TZOFFSETFROM:-0700
TZOFFSETTO:-0600
TZNAME:MDT
DTSTART:20290311T090000
END:DAYLIGHT
BEGIN:STANDARD
TZOFFSETFROM:-0600
TZOFFSETTO:-0700
TZNAME:MST
DTSTART:20291104T080000
END:STANDARD
END:VTIMEZONE
BEGIN:VEVENT
DTSTART;TZID=America/Edmonton:20280222T100000
DTEND;TZID=America/Edmonton:20280222T113000
DTSTAMP:20260421T101256
CREATED:20250421T214937Z
LAST-MODIFIED:20260306T195835Z
UID:10002653-1834826400-1834831800@stjohnscc.org
SUMMARY:Memory Cafe Edwardsville
DESCRIPTION:Tuesdays from 10am-11:30am at Edwardsville Library. In-person only.\n \n 
URL:https://stjohnscc.org/event/memory-cafe-at-main-street/2028-02-22/
END:VEVENT
BEGIN:VEVENT
DTSTART;TZID=America/Edmonton:20280223T133000
DTEND;TZID=America/Edmonton:20280223T143000
DTSTAMP:20260421T101256
CREATED:20250515T160600Z
LAST-MODIFIED:20250515T160600Z
UID:10001743-1834925400-1834929000@stjohnscc.org
SUMMARY:Memory Cafe
DESCRIPTION:
URL:https://stjohnscc.org/event/memory-cafe/2028-02-23/
END:VEVENT
BEGIN:VEVENT
DTSTART;TZID=America/Edmonton:20280223T180000
DTEND;TZID=America/Edmonton:20280223T193000
DTSTAMP:20260421T101256
CREATED:20250611T154819Z
LAST-MODIFIED:20250611T155148Z
UID:10001893-1834941600-1834947000@stjohnscc.org
SUMMARY:Evening Zoom Group
DESCRIPTION:
URL:https://stjohnscc.org/event/evening-zoom-group-copy-2/2028-02-23/
END:VEVENT
BEGIN:VEVENT
DTSTART;TZID=America/Edmonton:20280225T100000
DTEND;TZID=America/Edmonton:20280225T113000
DTSTAMP:20260421T101256
CREATED:20240823T214659Z
LAST-MODIFIED:20250307T232054Z
UID:10000570-1835085600-1835091000@stjohnscc.org
SUMMARY:Caregiver Coffee Talk
DESCRIPTION:Every Monday\n9 am – 10:30 am \nEvery Friday\n10 am – 11:30 am \n\nAll caregivers are welcome. \nCoffee talk is for Caregivers to come together offering information\, resources\, and strategies specifically for caring for someone who may be disabled or have other health related concerns. \nCome together to share space and life experiences over a nice hot cup of coffee on St. John’s Community Care.
URL:https://stjohnscc.org/event/coffee-talk-2/2028-02-25/
END:VEVENT
BEGIN:VEVENT
DTSTART;TZID=America/Edmonton:20280228T090000
DTEND;TZID=America/Edmonton:20280228T103000
DTSTAMP:20260421T101256
CREATED:20240823T214550Z
LAST-MODIFIED:20251004T161842Z
UID:10000315-1835341200-1835346600@stjohnscc.org
SUMMARY:Caregiver Coffee Talk
DESCRIPTION:Every Monday\n9 am – 10:30 am \nEvery Friday\n10 am – 11:30 am \nAll caregivers are welcome. \nCoffee talk is for Caregivers to come together offering information\, resources\, and strategies specifically for caring for someone who may be disabled or have other health related concerns. \nCome together to share space and life experiences over a nice hot cup of coffee on St. John’s Community Care.
URL:https://stjohnscc.org/event/coffee-talk/2028-02-28/
END:VEVENT
BEGIN:VEVENT
DTSTART;TZID=America/Edmonton:20280229T100000
DTEND;TZID=America/Edmonton:20280229T113000
DTSTAMP:20260421T101256
CREATED:20250421T214937Z
LAST-MODIFIED:20260306T195835Z
UID:10002654-1835431200-1835436600@stjohnscc.org
SUMMARY:Memory Cafe Edwardsville
DESCRIPTION:Tuesdays from 10am-11:30am at Edwardsville Library. In-person only.\n \n 
URL:https://stjohnscc.org/event/memory-cafe-at-main-street/2028-02-29/
END:VEVENT
BEGIN:VEVENT
DTSTART;TZID=America/Edmonton:20280301T133000
DTEND;TZID=America/Edmonton:20280301T143000
DTSTAMP:20260421T101256
CREATED:20250515T160600Z
LAST-MODIFIED:20250515T160600Z
UID:10001744-1835530200-1835533800@stjohnscc.org
SUMMARY:Memory Cafe
DESCRIPTION:
URL:https://stjohnscc.org/event/memory-cafe/2028-03-01/
END:VEVENT
BEGIN:VEVENT
DTSTART;TZID=America/Edmonton:20280303T100000
DTEND;TZID=America/Edmonton:20280303T113000
DTSTAMP:20260421T101256
CREATED:20240823T214659Z
LAST-MODIFIED:20250307T232054Z
UID:10000571-1835690400-1835695800@stjohnscc.org
SUMMARY:Caregiver Coffee Talk
DESCRIPTION:Every Monday\n9 am – 10:30 am \nEvery Friday\n10 am – 11:30 am \n\nAll caregivers are welcome. \nCoffee talk is for Caregivers to come together offering information\, resources\, and strategies specifically for caring for someone who may be disabled or have other health related concerns. \nCome together to share space and life experiences over a nice hot cup of coffee on St. John’s Community Care.
URL:https://stjohnscc.org/event/coffee-talk-2/2028-03-03/
END:VEVENT
BEGIN:VEVENT
DTSTART;TZID=America/Edmonton:20280306T090000
DTEND;TZID=America/Edmonton:20280306T103000
DTSTAMP:20260421T101256
CREATED:20240823T214550Z
LAST-MODIFIED:20251004T161842Z
UID:10000316-1835946000-1835951400@stjohnscc.org
SUMMARY:Caregiver Coffee Talk
DESCRIPTION:Every Monday\n9 am – 10:30 am \nEvery Friday\n10 am – 11:30 am \nAll caregivers are welcome. \nCoffee talk is for Caregivers to come together offering information\, resources\, and strategies specifically for caring for someone who may be disabled or have other health related concerns. \nCome together to share space and life experiences over a nice hot cup of coffee on St. John’s Community Care.
URL:https://stjohnscc.org/event/coffee-talk/2028-03-06/
END:VEVENT
BEGIN:VEVENT
DTSTART;TZID=America/Edmonton:20280306T130000
DTEND;TZID=America/Edmonton:20280306T143000
DTSTAMP:20260421T101256
CREATED:20251004T162312Z
LAST-MODIFIED:20251004T162312Z
UID:10002229-1835960400-1835965800@stjohnscc.org
SUMMARY:Alzheimer's Support Group Monday
DESCRIPTION:NOW OFFERING \nFirst and third Monday\, 1:00–2:30 p.m.\nGlen Carbon Senior Center\,\n157 N. Main\, Glen Carbon
URL:https://stjohnscc.org/event/alzheimers-support-group-monday/2028-03-06/
END:VEVENT
BEGIN:VEVENT
DTSTART;TZID=America/Edmonton:20280307T100000
DTEND;TZID=America/Edmonton:20280307T113000
DTSTAMP:20260421T101256
CREATED:20250421T214937Z
LAST-MODIFIED:20260306T195835Z
UID:10002655-1836036000-1836041400@stjohnscc.org
SUMMARY:Memory Cafe Edwardsville
DESCRIPTION:Tuesdays from 10am-11:30am at Edwardsville Library. In-person only.\n \n 
URL:https://stjohnscc.org/event/memory-cafe-at-main-street/2028-03-07/
END:VEVENT
BEGIN:VEVENT
DTSTART;TZID=America/Edmonton:20280308T133000
DTEND;TZID=America/Edmonton:20280308T143000
DTSTAMP:20260421T101256
CREATED:20250515T160600Z
LAST-MODIFIED:20250515T160600Z
UID:10001745-1836135000-1836138600@stjohnscc.org
SUMMARY:Memory Cafe
DESCRIPTION:
URL:https://stjohnscc.org/event/memory-cafe/2028-03-08/
END:VEVENT
BEGIN:VEVENT
DTSTART;TZID=America/Edmonton:20280308T180000
DTEND;TZID=America/Edmonton:20280308T193000
DTSTAMP:20260421T101256
CREATED:20250611T155121Z
LAST-MODIFIED:20250611T155121Z
UID:10001512-1836151200-1836156600@stjohnscc.org
SUMMARY:Evening Zoom Group
DESCRIPTION: 
URL:https://stjohnscc.org/event/evening-zoom-group-wednesday-2/2028-03-08/
END:VEVENT
BEGIN:VEVENT
DTSTART;TZID=America/Edmonton:20280309T103000
DTEND;TZID=America/Edmonton:20280309T113000
DTSTAMP:20260421T101256
CREATED:20251004T162548Z
LAST-MODIFIED:20251006T161823Z
UID:10002349-1836210600-1836214200@stjohnscc.org
SUMMARY:Alzheimer's Support Group Thursday
DESCRIPTION:NOW OFFERING \nSecond Thursday of every month\, 10:30–11:30 a.m.\nEdwardsville YMCA\,\n1200 Esic Drive\, Edwardsville
URL:https://stjohnscc.org/event/alzheimers-support-group-thursday/2028-03-09/
END:VEVENT
BEGIN:VEVENT
DTSTART;TZID=America/Edmonton:20280310T100000
DTEND;TZID=America/Edmonton:20280310T113000
DTSTAMP:20260421T101256
CREATED:20240823T214659Z
LAST-MODIFIED:20250307T232054Z
UID:10000572-1836295200-1836300600@stjohnscc.org
SUMMARY:Caregiver Coffee Talk
DESCRIPTION:Every Monday\n9 am – 10:30 am \nEvery Friday\n10 am – 11:30 am \n\nAll caregivers are welcome. \nCoffee talk is for Caregivers to come together offering information\, resources\, and strategies specifically for caring for someone who may be disabled or have other health related concerns. \nCome together to share space and life experiences over a nice hot cup of coffee on St. John’s Community Care.
URL:https://stjohnscc.org/event/coffee-talk-2/2028-03-10/
END:VEVENT
BEGIN:VEVENT
DTSTART;TZID=America/Edmonton:20280313T090000
DTEND;TZID=America/Edmonton:20280313T103000
DTSTAMP:20260421T101256
CREATED:20240823T214550Z
LAST-MODIFIED:20251004T161842Z
UID:10000317-1836550800-1836556200@stjohnscc.org
SUMMARY:Caregiver Coffee Talk
DESCRIPTION:Every Monday\n9 am – 10:30 am \nEvery Friday\n10 am – 11:30 am \nAll caregivers are welcome. \nCoffee talk is for Caregivers to come together offering information\, resources\, and strategies specifically for caring for someone who may be disabled or have other health related concerns. \nCome together to share space and life experiences over a nice hot cup of coffee on St. John’s Community Care.
URL:https://stjohnscc.org/event/coffee-talk/2028-03-13/
END:VEVENT
BEGIN:VEVENT
DTSTART;TZID=America/Edmonton:20280314T100000
DTEND;TZID=America/Edmonton:20280314T113000
DTSTAMP:20260421T101256
CREATED:20250421T214937Z
LAST-MODIFIED:20260306T195835Z
UID:10002656-1836640800-1836646200@stjohnscc.org
SUMMARY:Memory Cafe Edwardsville
DESCRIPTION:Tuesdays from 10am-11:30am at Edwardsville Library. In-person only.\n \n 
URL:https://stjohnscc.org/event/memory-cafe-at-main-street/2028-03-14/
END:VEVENT
BEGIN:VEVENT
DTSTART;TZID=America/Edmonton:20280314T133000
DTEND;TZID=America/Edmonton:20280314T150000
DTSTAMP:20260421T101256
CREATED:20260306T175347Z
LAST-MODIFIED:20260306T175348Z
UID:10002467-1836653400-1836658800@stjohnscc.org
SUMMARY:Alzheimer's Support Group
DESCRIPTION:
URL:https://stjohnscc.org/event/alzheimers-support-group-2-2-2/2028-03-14/
END:VEVENT
BEGIN:VEVENT
DTSTART;TZID=America/Edmonton:20280315T133000
DTEND;TZID=America/Edmonton:20280315T143000
DTSTAMP:20260421T101256
CREATED:20250515T160600Z
LAST-MODIFIED:20250515T160600Z
UID:10001746-1836739800-1836743400@stjohnscc.org
SUMMARY:Memory Cafe
DESCRIPTION:
URL:https://stjohnscc.org/event/memory-cafe/2028-03-15/
END:VEVENT
BEGIN:VEVENT
DTSTART;TZID=America/Edmonton:20280317T100000
DTEND;TZID=America/Edmonton:20280317T113000
DTSTAMP:20260421T101256
CREATED:20240823T214659Z
LAST-MODIFIED:20250307T232054Z
UID:10000573-1836900000-1836905400@stjohnscc.org
SUMMARY:Caregiver Coffee Talk
DESCRIPTION:Every Monday\n9 am – 10:30 am \nEvery Friday\n10 am – 11:30 am \n\nAll caregivers are welcome. \nCoffee talk is for Caregivers to come together offering information\, resources\, and strategies specifically for caring for someone who may be disabled or have other health related concerns. \nCome together to share space and life experiences over a nice hot cup of coffee on St. John’s Community Care.
URL:https://stjohnscc.org/event/coffee-talk-2/2028-03-17/
END:VEVENT
BEGIN:VEVENT
DTSTART;TZID=America/Edmonton:20280320T090000
DTEND;TZID=America/Edmonton:20280320T103000
DTSTAMP:20260421T101256
CREATED:20240823T214550Z
LAST-MODIFIED:20251004T161842Z
UID:10000318-1837155600-1837161000@stjohnscc.org
SUMMARY:Caregiver Coffee Talk
DESCRIPTION:Every Monday\n9 am – 10:30 am \nEvery Friday\n10 am – 11:30 am \nAll caregivers are welcome. \nCoffee talk is for Caregivers to come together offering information\, resources\, and strategies specifically for caring for someone who may be disabled or have other health related concerns. \nCome together to share space and life experiences over a nice hot cup of coffee on St. John’s Community Care.
URL:https://stjohnscc.org/event/coffee-talk/2028-03-20/
END:VEVENT
BEGIN:VEVENT
DTSTART;TZID=America/Edmonton:20280320T130000
DTEND;TZID=America/Edmonton:20280320T143000
DTSTAMP:20260421T101256
CREATED:20251004T162416Z
LAST-MODIFIED:20251004T162416Z
UID:10002289-1837170000-1837175400@stjohnscc.org
SUMMARY:Alzheimer's Support Group 3rd Monday
DESCRIPTION:NOW OFFERING \nFirst and third Monday\, 1:00–2:30 p.m.\nGlen Carbon Senior Center\,\n157 N. Main\, Glen Carbon
URL:https://stjohnscc.org/event/alzheimers-support-group-3rd-monday/2028-03-20/
END:VEVENT
BEGIN:VEVENT
DTSTART;TZID=America/Edmonton:20280321T100000
DTEND;TZID=America/Edmonton:20280321T113000
DTSTAMP:20260421T101256
CREATED:20250421T214937Z
LAST-MODIFIED:20260306T195835Z
UID:10002657-1837245600-1837251000@stjohnscc.org
SUMMARY:Memory Cafe Edwardsville
DESCRIPTION:Tuesdays from 10am-11:30am at Edwardsville Library. In-person only.\n \n 
URL:https://stjohnscc.org/event/memory-cafe-at-main-street/2028-03-21/
END:VEVENT
BEGIN:VEVENT
DTSTART;TZID=America/Edmonton:20280322T133000
DTEND;TZID=America/Edmonton:20280322T143000
DTSTAMP:20260421T101256
CREATED:20250515T160600Z
LAST-MODIFIED:20250515T160600Z
UID:10001747-1837344600-1837348200@stjohnscc.org
SUMMARY:Memory Cafe
DESCRIPTION:
URL:https://stjohnscc.org/event/memory-cafe/2028-03-22/
END:VEVENT
BEGIN:VEVENT
DTSTART;TZID=America/Edmonton:20280322T180000
DTEND;TZID=America/Edmonton:20280322T193000
DTSTAMP:20260421T101256
CREATED:20250611T154819Z
LAST-MODIFIED:20250611T155148Z
UID:10001894-1837360800-1837366200@stjohnscc.org
SUMMARY:Evening Zoom Group
DESCRIPTION:
URL:https://stjohnscc.org/event/evening-zoom-group-copy-2/2028-03-22/
END:VEVENT
BEGIN:VEVENT
DTSTART;TZID=America/Edmonton:20280324T100000
DTEND;TZID=America/Edmonton:20280324T113000
DTSTAMP:20260421T101256
CREATED:20240823T214659Z
LAST-MODIFIED:20250307T232054Z
UID:10000574-1837504800-1837510200@stjohnscc.org
SUMMARY:Caregiver Coffee Talk
DESCRIPTION:Every Monday\n9 am – 10:30 am \nEvery Friday\n10 am – 11:30 am \n\nAll caregivers are welcome. \nCoffee talk is for Caregivers to come together offering information\, resources\, and strategies specifically for caring for someone who may be disabled or have other health related concerns. \nCome together to share space and life experiences over a nice hot cup of coffee on St. John’s Community Care.
URL:https://stjohnscc.org/event/coffee-talk-2/2028-03-24/
END:VEVENT
BEGIN:VEVENT
DTSTART;TZID=America/Edmonton:20280327T090000
DTEND;TZID=America/Edmonton:20280327T103000
DTSTAMP:20260421T101256
CREATED:20240823T214550Z
LAST-MODIFIED:20251004T161842Z
UID:10000319-1837760400-1837765800@stjohnscc.org
SUMMARY:Caregiver Coffee Talk
DESCRIPTION:Every Monday\n9 am – 10:30 am \nEvery Friday\n10 am – 11:30 am \nAll caregivers are welcome. \nCoffee talk is for Caregivers to come together offering information\, resources\, and strategies specifically for caring for someone who may be disabled or have other health related concerns. \nCome together to share space and life experiences over a nice hot cup of coffee on St. John’s Community Care.
URL:https://stjohnscc.org/event/coffee-talk/2028-03-27/
END:VEVENT
BEGIN:VEVENT
DTSTART;TZID=America/Edmonton:20280328T100000
DTEND;TZID=America/Edmonton:20280328T113000
DTSTAMP:20260421T101256
CREATED:20250421T214937Z
LAST-MODIFIED:20260306T195835Z
UID:10002658-1837850400-1837855800@stjohnscc.org
SUMMARY:Memory Cafe Edwardsville
DESCRIPTION:Tuesdays from 10am-11:30am at Edwardsville Library. In-person only.\n \n 
URL:https://stjohnscc.org/event/memory-cafe-at-main-street/2028-03-28/
END:VEVENT
BEGIN:VEVENT
DTSTART;TZID=America/Edmonton:20280329T133000
DTEND;TZID=America/Edmonton:20280329T143000
DTSTAMP:20260421T101256
CREATED:20250515T160600Z
LAST-MODIFIED:20250515T160600Z
UID:10001748-1837949400-1837953000@stjohnscc.org
SUMMARY:Memory Cafe
DESCRIPTION:
URL:https://stjohnscc.org/event/memory-cafe/2028-03-29/
END:VEVENT
BEGIN:VEVENT
DTSTART;TZID=America/Edmonton:20280331T100000
DTEND;TZID=America/Edmonton:20280331T113000
DTSTAMP:20260421T101256
CREATED:20240823T214659Z
LAST-MODIFIED:20250307T232054Z
UID:10000575-1838109600-1838115000@stjohnscc.org
SUMMARY:Caregiver Coffee Talk
DESCRIPTION:Every Monday\n9 am – 10:30 am \nEvery Friday\n10 am – 11:30 am \n\nAll caregivers are welcome. \nCoffee talk is for Caregivers to come together offering information\, resources\, and strategies specifically for caring for someone who may be disabled or have other health related concerns. \nCome together to share space and life experiences over a nice hot cup of coffee on St. John’s Community Care.
URL:https://stjohnscc.org/event/coffee-talk-2/2028-03-31/
END:VEVENT
END:VCALENDAR