BEGIN:VCALENDAR
VERSION:2.0
PRODID:-//St. John’s Community Care - ECPv6.15.20//NONSGML v1.0//EN
CALSCALE:GREGORIAN
METHOD:PUBLISH
X-WR-CALNAME:St. John’s Community Care
X-ORIGINAL-URL:https://stjohnscc.org
X-WR-CALDESC:Events for St. John’s Community Care
REFRESH-INTERVAL;VALUE=DURATION:PT1H
X-Robots-Tag:noindex
X-PUBLISHED-TTL:PT1H
BEGIN:VTIMEZONE
TZID:America/Edmonton
BEGIN:DAYLIGHT
TZOFFSETFROM:-0700
TZOFFSETTO:-0600
TZNAME:MDT
DTSTART:20270314T090000
END:DAYLIGHT
BEGIN:STANDARD
TZOFFSETFROM:-0600
TZOFFSETTO:-0700
TZNAME:MST
DTSTART:20271107T080000
END:STANDARD
BEGIN:DAYLIGHT
TZOFFSETFROM:-0700
TZOFFSETTO:-0600
TZNAME:MDT
DTSTART:20280312T090000
END:DAYLIGHT
BEGIN:STANDARD
TZOFFSETFROM:-0600
TZOFFSETTO:-0700
TZNAME:MST
DTSTART:20281105T080000
END:STANDARD
BEGIN:DAYLIGHT
TZOFFSETFROM:-0700
TZOFFSETTO:-0600
TZNAME:MDT
DTSTART:20290311T090000
END:DAYLIGHT
BEGIN:STANDARD
TZOFFSETFROM:-0600
TZOFFSETTO:-0700
TZNAME:MST
DTSTART:20291104T080000
END:STANDARD
END:VTIMEZONE
BEGIN:VEVENT
DTSTART;TZID=America/Edmonton:20280413T103000
DTEND;TZID=America/Edmonton:20280413T113000
DTSTAMP:20260421T085736
CREATED:20251004T162548Z
LAST-MODIFIED:20251006T161823Z
UID:10002350-1839234600-1839238200@stjohnscc.org
SUMMARY:Alzheimer's Support Group Thursday
DESCRIPTION:NOW OFFERING \nSecond Thursday of every month\, 10:30–11:30 a.m.\nEdwardsville YMCA\,\n1200 Esic Drive\, Edwardsville
URL:https://stjohnscc.org/event/alzheimers-support-group-thursday/2028-04-13/
END:VEVENT
BEGIN:VEVENT
DTSTART;TZID=America/Edmonton:20280414T100000
DTEND;TZID=America/Edmonton:20280414T113000
DTSTAMP:20260421T085736
CREATED:20240823T214659Z
LAST-MODIFIED:20250307T232054Z
UID:10000577-1839319200-1839324600@stjohnscc.org
SUMMARY:Caregiver Coffee Talk
DESCRIPTION:Every Monday\n9 am – 10:30 am \nEvery Friday\n10 am – 11:30 am \n\nAll caregivers are welcome. \nCoffee talk is for Caregivers to come together offering information\, resources\, and strategies specifically for caring for someone who may be disabled or have other health related concerns. \nCome together to share space and life experiences over a nice hot cup of coffee on St. John’s Community Care.
URL:https://stjohnscc.org/event/coffee-talk-2/2028-04-14/
END:VEVENT
BEGIN:VEVENT
DTSTART;TZID=America/Edmonton:20280417T090000
DTEND;TZID=America/Edmonton:20280417T103000
DTSTAMP:20260421T085736
CREATED:20240823T214550Z
LAST-MODIFIED:20251004T161842Z
UID:10000322-1839574800-1839580200@stjohnscc.org
SUMMARY:Caregiver Coffee Talk
DESCRIPTION:Every Monday\n9 am – 10:30 am \nEvery Friday\n10 am – 11:30 am \nAll caregivers are welcome. \nCoffee talk is for Caregivers to come together offering information\, resources\, and strategies specifically for caring for someone who may be disabled or have other health related concerns. \nCome together to share space and life experiences over a nice hot cup of coffee on St. John’s Community Care.
URL:https://stjohnscc.org/event/coffee-talk/2028-04-17/
END:VEVENT
BEGIN:VEVENT
DTSTART;TZID=America/Edmonton:20280417T130000
DTEND;TZID=America/Edmonton:20280417T143000
DTSTAMP:20260421T085736
CREATED:20251004T162416Z
LAST-MODIFIED:20251004T162416Z
UID:10002290-1839589200-1839594600@stjohnscc.org
SUMMARY:Alzheimer's Support Group 3rd Monday
DESCRIPTION:NOW OFFERING \nFirst and third Monday\, 1:00–2:30 p.m.\nGlen Carbon Senior Center\,\n157 N. Main\, Glen Carbon
URL:https://stjohnscc.org/event/alzheimers-support-group-3rd-monday/2028-04-17/
END:VEVENT
BEGIN:VEVENT
DTSTART;TZID=America/Edmonton:20280418T100000
DTEND;TZID=America/Edmonton:20280418T113000
DTSTAMP:20260421T085736
CREATED:20250421T214937Z
LAST-MODIFIED:20260306T195835Z
UID:10002661-1839664800-1839670200@stjohnscc.org
SUMMARY:Memory Cafe Edwardsville
DESCRIPTION:Tuesdays from 10am-11:30am at Edwardsville Library. In-person only.\n \n 
URL:https://stjohnscc.org/event/memory-cafe-at-main-street/2028-04-18/
END:VEVENT
BEGIN:VEVENT
DTSTART;TZID=America/Edmonton:20280419T133000
DTEND;TZID=America/Edmonton:20280419T143000
DTSTAMP:20260421T085736
CREATED:20250515T160600Z
LAST-MODIFIED:20250515T160600Z
UID:10001751-1839763800-1839767400@stjohnscc.org
SUMMARY:Memory Cafe
DESCRIPTION:
URL:https://stjohnscc.org/event/memory-cafe/2028-04-19/
END:VEVENT
BEGIN:VEVENT
DTSTART;TZID=America/Edmonton:20280421T100000
DTEND;TZID=America/Edmonton:20280421T113000
DTSTAMP:20260421T085736
CREATED:20240823T214659Z
LAST-MODIFIED:20250307T232054Z
UID:10000578-1839924000-1839929400@stjohnscc.org
SUMMARY:Caregiver Coffee Talk
DESCRIPTION:Every Monday\n9 am – 10:30 am \nEvery Friday\n10 am – 11:30 am \n\nAll caregivers are welcome. \nCoffee talk is for Caregivers to come together offering information\, resources\, and strategies specifically for caring for someone who may be disabled or have other health related concerns. \nCome together to share space and life experiences over a nice hot cup of coffee on St. John’s Community Care.
URL:https://stjohnscc.org/event/coffee-talk-2/2028-04-21/
END:VEVENT
BEGIN:VEVENT
DTSTART;TZID=America/Edmonton:20280424T090000
DTEND;TZID=America/Edmonton:20280424T103000
DTSTAMP:20260421T085736
CREATED:20240823T214550Z
LAST-MODIFIED:20251004T161842Z
UID:10000323-1840179600-1840185000@stjohnscc.org
SUMMARY:Caregiver Coffee Talk
DESCRIPTION:Every Monday\n9 am – 10:30 am \nEvery Friday\n10 am – 11:30 am \nAll caregivers are welcome. \nCoffee talk is for Caregivers to come together offering information\, resources\, and strategies specifically for caring for someone who may be disabled or have other health related concerns. \nCome together to share space and life experiences over a nice hot cup of coffee on St. John’s Community Care.
URL:https://stjohnscc.org/event/coffee-talk/2028-04-24/
END:VEVENT
BEGIN:VEVENT
DTSTART;TZID=America/Edmonton:20280425T100000
DTEND;TZID=America/Edmonton:20280425T113000
DTSTAMP:20260421T085736
CREATED:20250421T214937Z
LAST-MODIFIED:20260306T195835Z
UID:10002662-1840269600-1840275000@stjohnscc.org
SUMMARY:Memory Cafe Edwardsville
DESCRIPTION:Tuesdays from 10am-11:30am at Edwardsville Library. In-person only.\n \n 
URL:https://stjohnscc.org/event/memory-cafe-at-main-street/2028-04-25/
END:VEVENT
BEGIN:VEVENT
DTSTART;TZID=America/Edmonton:20280426T133000
DTEND;TZID=America/Edmonton:20280426T143000
DTSTAMP:20260421T085736
CREATED:20250515T160600Z
LAST-MODIFIED:20250515T160600Z
UID:10001752-1840368600-1840372200@stjohnscc.org
SUMMARY:Memory Cafe
DESCRIPTION:
URL:https://stjohnscc.org/event/memory-cafe/2028-04-26/
END:VEVENT
BEGIN:VEVENT
DTSTART;TZID=America/Edmonton:20280426T180000
DTEND;TZID=America/Edmonton:20280426T193000
DTSTAMP:20260421T085736
CREATED:20250611T154819Z
LAST-MODIFIED:20250611T155148Z
UID:10001895-1840384800-1840390200@stjohnscc.org
SUMMARY:Evening Zoom Group
DESCRIPTION:
URL:https://stjohnscc.org/event/evening-zoom-group-copy-2/2028-04-26/
END:VEVENT
BEGIN:VEVENT
DTSTART;TZID=America/Edmonton:20280428T100000
DTEND;TZID=America/Edmonton:20280428T113000
DTSTAMP:20260421T085736
CREATED:20240823T214659Z
LAST-MODIFIED:20250307T232054Z
UID:10000579-1840528800-1840534200@stjohnscc.org
SUMMARY:Caregiver Coffee Talk
DESCRIPTION:Every Monday\n9 am – 10:30 am \nEvery Friday\n10 am – 11:30 am \n\nAll caregivers are welcome. \nCoffee talk is for Caregivers to come together offering information\, resources\, and strategies specifically for caring for someone who may be disabled or have other health related concerns. \nCome together to share space and life experiences over a nice hot cup of coffee on St. John’s Community Care.
URL:https://stjohnscc.org/event/coffee-talk-2/2028-04-28/
END:VEVENT
BEGIN:VEVENT
DTSTART;TZID=America/Edmonton:20280501T090000
DTEND;TZID=America/Edmonton:20280501T103000
DTSTAMP:20260421T085736
CREATED:20240823T214550Z
LAST-MODIFIED:20251004T161842Z
UID:10000324-1840784400-1840789800@stjohnscc.org
SUMMARY:Caregiver Coffee Talk
DESCRIPTION:Every Monday\n9 am – 10:30 am \nEvery Friday\n10 am – 11:30 am \nAll caregivers are welcome. \nCoffee talk is for Caregivers to come together offering information\, resources\, and strategies specifically for caring for someone who may be disabled or have other health related concerns. \nCome together to share space and life experiences over a nice hot cup of coffee on St. John’s Community Care.
URL:https://stjohnscc.org/event/coffee-talk/2028-05-01/
END:VEVENT
BEGIN:VEVENT
DTSTART;TZID=America/Edmonton:20280501T130000
DTEND;TZID=America/Edmonton:20280501T143000
DTSTAMP:20260421T085736
CREATED:20251004T162312Z
LAST-MODIFIED:20251004T162312Z
UID:10002231-1840798800-1840804200@stjohnscc.org
SUMMARY:Alzheimer's Support Group Monday
DESCRIPTION:NOW OFFERING \nFirst and third Monday\, 1:00–2:30 p.m.\nGlen Carbon Senior Center\,\n157 N. Main\, Glen Carbon
URL:https://stjohnscc.org/event/alzheimers-support-group-monday/2028-05-01/
END:VEVENT
BEGIN:VEVENT
DTSTART;TZID=America/Edmonton:20280502T100000
DTEND;TZID=America/Edmonton:20280502T113000
DTSTAMP:20260421T085736
CREATED:20250421T214937Z
LAST-MODIFIED:20260306T195835Z
UID:10002663-1840874400-1840879800@stjohnscc.org
SUMMARY:Memory Cafe Edwardsville
DESCRIPTION:Tuesdays from 10am-11:30am at Edwardsville Library. In-person only.\n \n 
URL:https://stjohnscc.org/event/memory-cafe-at-main-street/2028-05-02/
END:VEVENT
BEGIN:VEVENT
DTSTART;TZID=America/Edmonton:20280503T133000
DTEND;TZID=America/Edmonton:20280503T143000
DTSTAMP:20260421T085736
CREATED:20250515T160600Z
LAST-MODIFIED:20250515T160600Z
UID:10001753-1840973400-1840977000@stjohnscc.org
SUMMARY:Memory Cafe
DESCRIPTION:
URL:https://stjohnscc.org/event/memory-cafe/2028-05-03/
END:VEVENT
BEGIN:VEVENT
DTSTART;TZID=America/Edmonton:20280505T100000
DTEND;TZID=America/Edmonton:20280505T113000
DTSTAMP:20260421T085736
CREATED:20240823T214659Z
LAST-MODIFIED:20250307T232054Z
UID:10000580-1841133600-1841139000@stjohnscc.org
SUMMARY:Caregiver Coffee Talk
DESCRIPTION:Every Monday\n9 am – 10:30 am \nEvery Friday\n10 am – 11:30 am \n\nAll caregivers are welcome. \nCoffee talk is for Caregivers to come together offering information\, resources\, and strategies specifically for caring for someone who may be disabled or have other health related concerns. \nCome together to share space and life experiences over a nice hot cup of coffee on St. John’s Community Care.
URL:https://stjohnscc.org/event/coffee-talk-2/2028-05-05/
END:VEVENT
BEGIN:VEVENT
DTSTART;TZID=America/Edmonton:20280508T090000
DTEND;TZID=America/Edmonton:20280508T103000
DTSTAMP:20260421T085736
CREATED:20240823T214550Z
LAST-MODIFIED:20251004T161842Z
UID:10000325-1841389200-1841394600@stjohnscc.org
SUMMARY:Caregiver Coffee Talk
DESCRIPTION:Every Monday\n9 am – 10:30 am \nEvery Friday\n10 am – 11:30 am \nAll caregivers are welcome. \nCoffee talk is for Caregivers to come together offering information\, resources\, and strategies specifically for caring for someone who may be disabled or have other health related concerns. \nCome together to share space and life experiences over a nice hot cup of coffee on St. John’s Community Care.
URL:https://stjohnscc.org/event/coffee-talk/2028-05-08/
END:VEVENT
BEGIN:VEVENT
DTSTART;TZID=America/Edmonton:20280509T100000
DTEND;TZID=America/Edmonton:20280509T113000
DTSTAMP:20260421T085736
CREATED:20250421T214937Z
LAST-MODIFIED:20260306T195835Z
UID:10002664-1841479200-1841484600@stjohnscc.org
SUMMARY:Memory Cafe Edwardsville
DESCRIPTION:Tuesdays from 10am-11:30am at Edwardsville Library. In-person only.\n \n 
URL:https://stjohnscc.org/event/memory-cafe-at-main-street/2028-05-09/
END:VEVENT
BEGIN:VEVENT
DTSTART;TZID=America/Edmonton:20280509T133000
DTEND;TZID=America/Edmonton:20280509T150000
DTSTAMP:20260421T085736
CREATED:20260306T175347Z
LAST-MODIFIED:20260306T175348Z
UID:10002469-1841491800-1841497200@stjohnscc.org
SUMMARY:Alzheimer's Support Group
DESCRIPTION:
URL:https://stjohnscc.org/event/alzheimers-support-group-2-2-2/2028-05-09/
END:VEVENT
BEGIN:VEVENT
DTSTART;TZID=America/Edmonton:20280510T133000
DTEND;TZID=America/Edmonton:20280510T143000
DTSTAMP:20260421T085736
CREATED:20250515T160600Z
LAST-MODIFIED:20250515T160600Z
UID:10001754-1841578200-1841581800@stjohnscc.org
SUMMARY:Memory Cafe
DESCRIPTION:
URL:https://stjohnscc.org/event/memory-cafe/2028-05-10/
END:VEVENT
BEGIN:VEVENT
DTSTART;TZID=America/Edmonton:20280510T180000
DTEND;TZID=America/Edmonton:20280510T193000
DTSTAMP:20260421T085736
CREATED:20250611T155121Z
LAST-MODIFIED:20250611T155121Z
UID:10001514-1841594400-1841599800@stjohnscc.org
SUMMARY:Evening Zoom Group
DESCRIPTION: 
URL:https://stjohnscc.org/event/evening-zoom-group-wednesday-2/2028-05-10/
END:VEVENT
BEGIN:VEVENT
DTSTART;TZID=America/Edmonton:20280511T103000
DTEND;TZID=America/Edmonton:20280511T113000
DTSTAMP:20260421T085736
CREATED:20251004T162548Z
LAST-MODIFIED:20251006T161823Z
UID:10002351-1841653800-1841657400@stjohnscc.org
SUMMARY:Alzheimer's Support Group Thursday
DESCRIPTION:NOW OFFERING \nSecond Thursday of every month\, 10:30–11:30 a.m.\nEdwardsville YMCA\,\n1200 Esic Drive\, Edwardsville
URL:https://stjohnscc.org/event/alzheimers-support-group-thursday/2028-05-11/
END:VEVENT
BEGIN:VEVENT
DTSTART;TZID=America/Edmonton:20280512T100000
DTEND;TZID=America/Edmonton:20280512T113000
DTSTAMP:20260421T085736
CREATED:20240823T214659Z
LAST-MODIFIED:20250307T232054Z
UID:10000581-1841738400-1841743800@stjohnscc.org
SUMMARY:Caregiver Coffee Talk
DESCRIPTION:Every Monday\n9 am – 10:30 am \nEvery Friday\n10 am – 11:30 am \n\nAll caregivers are welcome. \nCoffee talk is for Caregivers to come together offering information\, resources\, and strategies specifically for caring for someone who may be disabled or have other health related concerns. \nCome together to share space and life experiences over a nice hot cup of coffee on St. John’s Community Care.
URL:https://stjohnscc.org/event/coffee-talk-2/2028-05-12/
END:VEVENT
BEGIN:VEVENT
DTSTART;TZID=America/Edmonton:20280515T090000
DTEND;TZID=America/Edmonton:20280515T103000
DTSTAMP:20260421T085736
CREATED:20240823T214550Z
LAST-MODIFIED:20251004T161842Z
UID:10000326-1841994000-1841999400@stjohnscc.org
SUMMARY:Caregiver Coffee Talk
DESCRIPTION:Every Monday\n9 am – 10:30 am \nEvery Friday\n10 am – 11:30 am \nAll caregivers are welcome. \nCoffee talk is for Caregivers to come together offering information\, resources\, and strategies specifically for caring for someone who may be disabled or have other health related concerns. \nCome together to share space and life experiences over a nice hot cup of coffee on St. John’s Community Care.
URL:https://stjohnscc.org/event/coffee-talk/2028-05-15/
END:VEVENT
BEGIN:VEVENT
DTSTART;TZID=America/Edmonton:20280515T130000
DTEND;TZID=America/Edmonton:20280515T143000
DTSTAMP:20260421T085736
CREATED:20251004T162416Z
LAST-MODIFIED:20251004T162416Z
UID:10002291-1842008400-1842013800@stjohnscc.org
SUMMARY:Alzheimer's Support Group 3rd Monday
DESCRIPTION:NOW OFFERING \nFirst and third Monday\, 1:00–2:30 p.m.\nGlen Carbon Senior Center\,\n157 N. Main\, Glen Carbon
URL:https://stjohnscc.org/event/alzheimers-support-group-3rd-monday/2028-05-15/
END:VEVENT
BEGIN:VEVENT
DTSTART;TZID=America/Edmonton:20280516T100000
DTEND;TZID=America/Edmonton:20280516T113000
DTSTAMP:20260421T085736
CREATED:20250421T214937Z
LAST-MODIFIED:20260306T195835Z
UID:10002665-1842084000-1842089400@stjohnscc.org
SUMMARY:Memory Cafe Edwardsville
DESCRIPTION:Tuesdays from 10am-11:30am at Edwardsville Library. In-person only.\n \n 
URL:https://stjohnscc.org/event/memory-cafe-at-main-street/2028-05-16/
END:VEVENT
BEGIN:VEVENT
DTSTART;TZID=America/Edmonton:20280517T133000
DTEND;TZID=America/Edmonton:20280517T143000
DTSTAMP:20260421T085736
CREATED:20250515T160600Z
LAST-MODIFIED:20250515T160600Z
UID:10001755-1842183000-1842186600@stjohnscc.org
SUMMARY:Memory Cafe
DESCRIPTION:
URL:https://stjohnscc.org/event/memory-cafe/2028-05-17/
END:VEVENT
BEGIN:VEVENT
DTSTART;TZID=America/Edmonton:20280519T100000
DTEND;TZID=America/Edmonton:20280519T113000
DTSTAMP:20260421T085736
CREATED:20240823T214659Z
LAST-MODIFIED:20250307T232054Z
UID:10000582-1842343200-1842348600@stjohnscc.org
SUMMARY:Caregiver Coffee Talk
DESCRIPTION:Every Monday\n9 am – 10:30 am \nEvery Friday\n10 am – 11:30 am \n\nAll caregivers are welcome. \nCoffee talk is for Caregivers to come together offering information\, resources\, and strategies specifically for caring for someone who may be disabled or have other health related concerns. \nCome together to share space and life experiences over a nice hot cup of coffee on St. John’s Community Care.
URL:https://stjohnscc.org/event/coffee-talk-2/2028-05-19/
END:VEVENT
BEGIN:VEVENT
DTSTART;TZID=America/Edmonton:20280522T090000
DTEND;TZID=America/Edmonton:20280522T103000
DTSTAMP:20260421T085736
CREATED:20240823T214550Z
LAST-MODIFIED:20251004T161842Z
UID:10000327-1842598800-1842604200@stjohnscc.org
SUMMARY:Caregiver Coffee Talk
DESCRIPTION:Every Monday\n9 am – 10:30 am \nEvery Friday\n10 am – 11:30 am \nAll caregivers are welcome. \nCoffee talk is for Caregivers to come together offering information\, resources\, and strategies specifically for caring for someone who may be disabled or have other health related concerns. \nCome together to share space and life experiences over a nice hot cup of coffee on St. John’s Community Care.
URL:https://stjohnscc.org/event/coffee-talk/2028-05-22/
END:VEVENT
END:VCALENDAR