BEGIN:VCALENDAR
VERSION:2.0
PRODID:-//St. John’s Community Care - ECPv6.15.20//NONSGML v1.0//EN
CALSCALE:GREGORIAN
METHOD:PUBLISH
X-WR-CALNAME:St. John’s Community Care
X-ORIGINAL-URL:https://stjohnscc.org
X-WR-CALDESC:Events for St. John’s Community Care
REFRESH-INTERVAL;VALUE=DURATION:PT1H
X-Robots-Tag:noindex
X-PUBLISHED-TTL:PT1H
BEGIN:VTIMEZONE
TZID:America/Edmonton
BEGIN:DAYLIGHT
TZOFFSETFROM:-0700
TZOFFSETTO:-0600
TZNAME:MDT
DTSTART:20260308T090000
END:DAYLIGHT
BEGIN:STANDARD
TZOFFSETFROM:-0600
TZOFFSETTO:-0700
TZNAME:MST
DTSTART:20261101T080000
END:STANDARD
BEGIN:DAYLIGHT
TZOFFSETFROM:-0700
TZOFFSETTO:-0600
TZNAME:MDT
DTSTART:20270314T090000
END:DAYLIGHT
BEGIN:STANDARD
TZOFFSETFROM:-0600
TZOFFSETTO:-0700
TZNAME:MST
DTSTART:20271107T080000
END:STANDARD
BEGIN:DAYLIGHT
TZOFFSETFROM:-0700
TZOFFSETTO:-0600
TZNAME:MDT
DTSTART:20280312T090000
END:DAYLIGHT
BEGIN:STANDARD
TZOFFSETFROM:-0600
TZOFFSETTO:-0700
TZNAME:MST
DTSTART:20281105T080000
END:STANDARD
BEGIN:DAYLIGHT
TZOFFSETFROM:-0700
TZOFFSETTO:-0600
TZNAME:MDT
DTSTART:20290311T090000
END:DAYLIGHT
BEGIN:STANDARD
TZOFFSETFROM:-0600
TZOFFSETTO:-0700
TZNAME:MST
DTSTART:20291104T080000
END:STANDARD
END:VTIMEZONE
BEGIN:VEVENT
DTSTART;TZID=America/Edmonton:20271227T090000
DTEND;TZID=America/Edmonton:20271227T103000
DTSTAMP:20260420T233124
CREATED:20240823T214550Z
LAST-MODIFIED:20251004T161842Z
UID:10000306-1829898000-1829903400@stjohnscc.org
SUMMARY:Caregiver Coffee Talk
DESCRIPTION:Every Monday\n9 am – 10:30 am \nEvery Friday\n10 am – 11:30 am \nAll caregivers are welcome. \nCoffee talk is for Caregivers to come together offering information\, resources\, and strategies specifically for caring for someone who may be disabled or have other health related concerns. \nCome together to share space and life experiences over a nice hot cup of coffee on St. John’s Community Care.
URL:https://stjohnscc.org/event/coffee-talk/2027-12-27/
END:VEVENT
BEGIN:VEVENT
DTSTART;TZID=America/Edmonton:20271228T100000
DTEND;TZID=America/Edmonton:20271228T113000
DTSTAMP:20260420T233124
CREATED:20250421T214937Z
LAST-MODIFIED:20260306T195835Z
UID:10002645-1829988000-1829993400@stjohnscc.org
SUMMARY:Memory Cafe Edwardsville
DESCRIPTION:Tuesdays from 10am-11:30am at Edwardsville Library. In-person only.\n \n 
URL:https://stjohnscc.org/event/memory-cafe-at-main-street/2027-12-28/
END:VEVENT
BEGIN:VEVENT
DTSTART;TZID=America/Edmonton:20271229T133000
DTEND;TZID=America/Edmonton:20271229T143000
DTSTAMP:20260420T233124
CREATED:20250515T160600Z
LAST-MODIFIED:20250515T160600Z
UID:10001735-1830087000-1830090600@stjohnscc.org
SUMMARY:Memory Cafe
DESCRIPTION:
URL:https://stjohnscc.org/event/memory-cafe/2027-12-29/
END:VEVENT
BEGIN:VEVENT
DTSTART;TZID=America/Edmonton:20271231T100000
DTEND;TZID=America/Edmonton:20271231T113000
DTSTAMP:20260420T233124
CREATED:20240823T214659Z
LAST-MODIFIED:20250307T232054Z
UID:10000562-1830247200-1830252600@stjohnscc.org
SUMMARY:Caregiver Coffee Talk
DESCRIPTION:Every Monday\n9 am – 10:30 am \nEvery Friday\n10 am – 11:30 am \n\nAll caregivers are welcome. \nCoffee talk is for Caregivers to come together offering information\, resources\, and strategies specifically for caring for someone who may be disabled or have other health related concerns. \nCome together to share space and life experiences over a nice hot cup of coffee on St. John’s Community Care.
URL:https://stjohnscc.org/event/coffee-talk-2/2027-12-31/
END:VEVENT
BEGIN:VEVENT
DTSTART;TZID=America/Edmonton:20280103T090000
DTEND;TZID=America/Edmonton:20280103T103000
DTSTAMP:20260420T233124
CREATED:20240823T214550Z
LAST-MODIFIED:20251004T161842Z
UID:10000307-1830502800-1830508200@stjohnscc.org
SUMMARY:Caregiver Coffee Talk
DESCRIPTION:Every Monday\n9 am – 10:30 am \nEvery Friday\n10 am – 11:30 am \nAll caregivers are welcome. \nCoffee talk is for Caregivers to come together offering information\, resources\, and strategies specifically for caring for someone who may be disabled or have other health related concerns. \nCome together to share space and life experiences over a nice hot cup of coffee on St. John’s Community Care.
URL:https://stjohnscc.org/event/coffee-talk/2028-01-03/
END:VEVENT
BEGIN:VEVENT
DTSTART;TZID=America/Edmonton:20280103T130000
DTEND;TZID=America/Edmonton:20280103T143000
DTSTAMP:20260420T233124
CREATED:20251004T162312Z
LAST-MODIFIED:20251004T162312Z
UID:10002227-1830517200-1830522600@stjohnscc.org
SUMMARY:Alzheimer's Support Group Monday
DESCRIPTION:NOW OFFERING \nFirst and third Monday\, 1:00–2:30 p.m.\nGlen Carbon Senior Center\,\n157 N. Main\, Glen Carbon
URL:https://stjohnscc.org/event/alzheimers-support-group-monday/2028-01-03/
END:VEVENT
BEGIN:VEVENT
DTSTART;TZID=America/Edmonton:20280104T100000
DTEND;TZID=America/Edmonton:20280104T113000
DTSTAMP:20260420T233124
CREATED:20250421T214937Z
LAST-MODIFIED:20260306T195835Z
UID:10002646-1830592800-1830598200@stjohnscc.org
SUMMARY:Memory Cafe Edwardsville
DESCRIPTION:Tuesdays from 10am-11:30am at Edwardsville Library. In-person only.\n \n 
URL:https://stjohnscc.org/event/memory-cafe-at-main-street/2028-01-04/
END:VEVENT
BEGIN:VEVENT
DTSTART;TZID=America/Edmonton:20280105T133000
DTEND;TZID=America/Edmonton:20280105T143000
DTSTAMP:20260420T233124
CREATED:20250515T160600Z
LAST-MODIFIED:20250515T160600Z
UID:10001736-1830691800-1830695400@stjohnscc.org
SUMMARY:Memory Cafe
DESCRIPTION:
URL:https://stjohnscc.org/event/memory-cafe/2028-01-05/
END:VEVENT
BEGIN:VEVENT
DTSTART;TZID=America/Edmonton:20280107T100000
DTEND;TZID=America/Edmonton:20280107T113000
DTSTAMP:20260420T233124
CREATED:20240823T214659Z
LAST-MODIFIED:20250307T232054Z
UID:10000563-1830852000-1830857400@stjohnscc.org
SUMMARY:Caregiver Coffee Talk
DESCRIPTION:Every Monday\n9 am – 10:30 am \nEvery Friday\n10 am – 11:30 am \n\nAll caregivers are welcome. \nCoffee talk is for Caregivers to come together offering information\, resources\, and strategies specifically for caring for someone who may be disabled or have other health related concerns. \nCome together to share space and life experiences over a nice hot cup of coffee on St. John’s Community Care.
URL:https://stjohnscc.org/event/coffee-talk-2/2028-01-07/
END:VEVENT
BEGIN:VEVENT
DTSTART;TZID=America/Edmonton:20280110T090000
DTEND;TZID=America/Edmonton:20280110T103000
DTSTAMP:20260420T233124
CREATED:20240823T214550Z
LAST-MODIFIED:20251004T161842Z
UID:10000308-1831107600-1831113000@stjohnscc.org
SUMMARY:Caregiver Coffee Talk
DESCRIPTION:Every Monday\n9 am – 10:30 am \nEvery Friday\n10 am – 11:30 am \nAll caregivers are welcome. \nCoffee talk is for Caregivers to come together offering information\, resources\, and strategies specifically for caring for someone who may be disabled or have other health related concerns. \nCome together to share space and life experiences over a nice hot cup of coffee on St. John’s Community Care.
URL:https://stjohnscc.org/event/coffee-talk/2028-01-10/
END:VEVENT
BEGIN:VEVENT
DTSTART;TZID=America/Edmonton:20280111T100000
DTEND;TZID=America/Edmonton:20280111T113000
DTSTAMP:20260420T233124
CREATED:20250421T214937Z
LAST-MODIFIED:20260306T195835Z
UID:10002647-1831197600-1831203000@stjohnscc.org
SUMMARY:Memory Cafe Edwardsville
DESCRIPTION:Tuesdays from 10am-11:30am at Edwardsville Library. In-person only.\n \n 
URL:https://stjohnscc.org/event/memory-cafe-at-main-street/2028-01-11/
END:VEVENT
BEGIN:VEVENT
DTSTART;TZID=America/Edmonton:20280111T133000
DTEND;TZID=America/Edmonton:20280111T150000
DTSTAMP:20260420T233124
CREATED:20260306T175347Z
LAST-MODIFIED:20260306T175348Z
UID:10002465-1831210200-1831215600@stjohnscc.org
SUMMARY:Alzheimer's Support Group
DESCRIPTION:
URL:https://stjohnscc.org/event/alzheimers-support-group-2-2-2/2028-01-11/
END:VEVENT
BEGIN:VEVENT
DTSTART;TZID=America/Edmonton:20280112T133000
DTEND;TZID=America/Edmonton:20280112T143000
DTSTAMP:20260420T233124
CREATED:20250515T160600Z
LAST-MODIFIED:20250515T160600Z
UID:10001737-1831296600-1831300200@stjohnscc.org
SUMMARY:Memory Cafe
DESCRIPTION:
URL:https://stjohnscc.org/event/memory-cafe/2028-01-12/
END:VEVENT
BEGIN:VEVENT
DTSTART;TZID=America/Edmonton:20280112T180000
DTEND;TZID=America/Edmonton:20280112T193000
DTSTAMP:20260420T233124
CREATED:20250611T155121Z
LAST-MODIFIED:20250611T155121Z
UID:10001510-1831312800-1831318200@stjohnscc.org
SUMMARY:Evening Zoom Group
DESCRIPTION: 
URL:https://stjohnscc.org/event/evening-zoom-group-wednesday-2/2028-01-12/
END:VEVENT
BEGIN:VEVENT
DTSTART;TZID=America/Edmonton:20280113T103000
DTEND;TZID=America/Edmonton:20280113T113000
DTSTAMP:20260420T233124
CREATED:20251004T162548Z
LAST-MODIFIED:20251006T161823Z
UID:10002347-1831372200-1831375800@stjohnscc.org
SUMMARY:Alzheimer's Support Group Thursday
DESCRIPTION:NOW OFFERING \nSecond Thursday of every month\, 10:30–11:30 a.m.\nEdwardsville YMCA\,\n1200 Esic Drive\, Edwardsville
URL:https://stjohnscc.org/event/alzheimers-support-group-thursday/2028-01-13/
END:VEVENT
BEGIN:VEVENT
DTSTART;TZID=America/Edmonton:20280114T100000
DTEND;TZID=America/Edmonton:20280114T113000
DTSTAMP:20260420T233124
CREATED:20240823T214659Z
LAST-MODIFIED:20250307T232054Z
UID:10000564-1831456800-1831462200@stjohnscc.org
SUMMARY:Caregiver Coffee Talk
DESCRIPTION:Every Monday\n9 am – 10:30 am \nEvery Friday\n10 am – 11:30 am \n\nAll caregivers are welcome. \nCoffee talk is for Caregivers to come together offering information\, resources\, and strategies specifically for caring for someone who may be disabled or have other health related concerns. \nCome together to share space and life experiences over a nice hot cup of coffee on St. John’s Community Care.
URL:https://stjohnscc.org/event/coffee-talk-2/2028-01-14/
END:VEVENT
BEGIN:VEVENT
DTSTART;TZID=America/Edmonton:20280117T090000
DTEND;TZID=America/Edmonton:20280117T103000
DTSTAMP:20260420T233124
CREATED:20240823T214550Z
LAST-MODIFIED:20251004T161842Z
UID:10000309-1831712400-1831717800@stjohnscc.org
SUMMARY:Caregiver Coffee Talk
DESCRIPTION:Every Monday\n9 am – 10:30 am \nEvery Friday\n10 am – 11:30 am \nAll caregivers are welcome. \nCoffee talk is for Caregivers to come together offering information\, resources\, and strategies specifically for caring for someone who may be disabled or have other health related concerns. \nCome together to share space and life experiences over a nice hot cup of coffee on St. John’s Community Care.
URL:https://stjohnscc.org/event/coffee-talk/2028-01-17/
END:VEVENT
BEGIN:VEVENT
DTSTART;TZID=America/Edmonton:20280117T130000
DTEND;TZID=America/Edmonton:20280117T143000
DTSTAMP:20260420T233124
CREATED:20251004T162416Z
LAST-MODIFIED:20251004T162416Z
UID:10002287-1831726800-1831732200@stjohnscc.org
SUMMARY:Alzheimer's Support Group 3rd Monday
DESCRIPTION:NOW OFFERING \nFirst and third Monday\, 1:00–2:30 p.m.\nGlen Carbon Senior Center\,\n157 N. Main\, Glen Carbon
URL:https://stjohnscc.org/event/alzheimers-support-group-3rd-monday/2028-01-17/
END:VEVENT
BEGIN:VEVENT
DTSTART;TZID=America/Edmonton:20280118T100000
DTEND;TZID=America/Edmonton:20280118T113000
DTSTAMP:20260420T233124
CREATED:20250421T214937Z
LAST-MODIFIED:20260306T195835Z
UID:10002648-1831802400-1831807800@stjohnscc.org
SUMMARY:Memory Cafe Edwardsville
DESCRIPTION:Tuesdays from 10am-11:30am at Edwardsville Library. In-person only.\n \n 
URL:https://stjohnscc.org/event/memory-cafe-at-main-street/2028-01-18/
END:VEVENT
BEGIN:VEVENT
DTSTART;TZID=America/Edmonton:20280119T133000
DTEND;TZID=America/Edmonton:20280119T143000
DTSTAMP:20260420T233124
CREATED:20250515T160600Z
LAST-MODIFIED:20250515T160600Z
UID:10001738-1831901400-1831905000@stjohnscc.org
SUMMARY:Memory Cafe
DESCRIPTION:
URL:https://stjohnscc.org/event/memory-cafe/2028-01-19/
END:VEVENT
BEGIN:VEVENT
DTSTART;TZID=America/Edmonton:20280121T100000
DTEND;TZID=America/Edmonton:20280121T113000
DTSTAMP:20260420T233124
CREATED:20240823T214659Z
LAST-MODIFIED:20250307T232054Z
UID:10000565-1832061600-1832067000@stjohnscc.org
SUMMARY:Caregiver Coffee Talk
DESCRIPTION:Every Monday\n9 am – 10:30 am \nEvery Friday\n10 am – 11:30 am \n\nAll caregivers are welcome. \nCoffee talk is for Caregivers to come together offering information\, resources\, and strategies specifically for caring for someone who may be disabled or have other health related concerns. \nCome together to share space and life experiences over a nice hot cup of coffee on St. John’s Community Care.
URL:https://stjohnscc.org/event/coffee-talk-2/2028-01-21/
END:VEVENT
BEGIN:VEVENT
DTSTART;TZID=America/Edmonton:20280124T090000
DTEND;TZID=America/Edmonton:20280124T103000
DTSTAMP:20260420T233124
CREATED:20240823T214550Z
LAST-MODIFIED:20251004T161842Z
UID:10000310-1832317200-1832322600@stjohnscc.org
SUMMARY:Caregiver Coffee Talk
DESCRIPTION:Every Monday\n9 am – 10:30 am \nEvery Friday\n10 am – 11:30 am \nAll caregivers are welcome. \nCoffee talk is for Caregivers to come together offering information\, resources\, and strategies specifically for caring for someone who may be disabled or have other health related concerns. \nCome together to share space and life experiences over a nice hot cup of coffee on St. John’s Community Care.
URL:https://stjohnscc.org/event/coffee-talk/2028-01-24/
END:VEVENT
BEGIN:VEVENT
DTSTART;TZID=America/Edmonton:20280125T100000
DTEND;TZID=America/Edmonton:20280125T113000
DTSTAMP:20260420T233124
CREATED:20250421T214937Z
LAST-MODIFIED:20260306T195835Z
UID:10002649-1832407200-1832412600@stjohnscc.org
SUMMARY:Memory Cafe Edwardsville
DESCRIPTION:Tuesdays from 10am-11:30am at Edwardsville Library. In-person only.\n \n 
URL:https://stjohnscc.org/event/memory-cafe-at-main-street/2028-01-25/
END:VEVENT
BEGIN:VEVENT
DTSTART;TZID=America/Edmonton:20280126T133000
DTEND;TZID=America/Edmonton:20280126T143000
DTSTAMP:20260420T233124
CREATED:20250515T160600Z
LAST-MODIFIED:20250515T160600Z
UID:10001739-1832506200-1832509800@stjohnscc.org
SUMMARY:Memory Cafe
DESCRIPTION:
URL:https://stjohnscc.org/event/memory-cafe/2028-01-26/
END:VEVENT
BEGIN:VEVENT
DTSTART;TZID=America/Edmonton:20280126T180000
DTEND;TZID=America/Edmonton:20280126T193000
DTSTAMP:20260420T233124
CREATED:20250611T154819Z
LAST-MODIFIED:20250611T155148Z
UID:10001892-1832522400-1832527800@stjohnscc.org
SUMMARY:Evening Zoom Group
DESCRIPTION:
URL:https://stjohnscc.org/event/evening-zoom-group-copy-2/2028-01-26/
END:VEVENT
BEGIN:VEVENT
DTSTART;TZID=America/Edmonton:20280128T100000
DTEND;TZID=America/Edmonton:20280128T113000
DTSTAMP:20260420T233124
CREATED:20240823T214659Z
LAST-MODIFIED:20250307T232054Z
UID:10000566-1832666400-1832671800@stjohnscc.org
SUMMARY:Caregiver Coffee Talk
DESCRIPTION:Every Monday\n9 am – 10:30 am \nEvery Friday\n10 am – 11:30 am \n\nAll caregivers are welcome. \nCoffee talk is for Caregivers to come together offering information\, resources\, and strategies specifically for caring for someone who may be disabled or have other health related concerns. \nCome together to share space and life experiences over a nice hot cup of coffee on St. John’s Community Care.
URL:https://stjohnscc.org/event/coffee-talk-2/2028-01-28/
END:VEVENT
BEGIN:VEVENT
DTSTART;TZID=America/Edmonton:20280131T090000
DTEND;TZID=America/Edmonton:20280131T103000
DTSTAMP:20260420T233124
CREATED:20240823T214550Z
LAST-MODIFIED:20251004T161842Z
UID:10000311-1832922000-1832927400@stjohnscc.org
SUMMARY:Caregiver Coffee Talk
DESCRIPTION:Every Monday\n9 am – 10:30 am \nEvery Friday\n10 am – 11:30 am \nAll caregivers are welcome. \nCoffee talk is for Caregivers to come together offering information\, resources\, and strategies specifically for caring for someone who may be disabled or have other health related concerns. \nCome together to share space and life experiences over a nice hot cup of coffee on St. John’s Community Care.
URL:https://stjohnscc.org/event/coffee-talk/2028-01-31/
END:VEVENT
BEGIN:VEVENT
DTSTART;TZID=America/Edmonton:20280201T100000
DTEND;TZID=America/Edmonton:20280201T113000
DTSTAMP:20260420T233124
CREATED:20250421T214937Z
LAST-MODIFIED:20260306T195835Z
UID:10002650-1833012000-1833017400@stjohnscc.org
SUMMARY:Memory Cafe Edwardsville
DESCRIPTION:Tuesdays from 10am-11:30am at Edwardsville Library. In-person only.\n \n 
URL:https://stjohnscc.org/event/memory-cafe-at-main-street/2028-02-01/
END:VEVENT
BEGIN:VEVENT
DTSTART;TZID=America/Edmonton:20280202T133000
DTEND;TZID=America/Edmonton:20280202T143000
DTSTAMP:20260420T233124
CREATED:20250515T160600Z
LAST-MODIFIED:20250515T160600Z
UID:10001740-1833111000-1833114600@stjohnscc.org
SUMMARY:Memory Cafe
DESCRIPTION:
URL:https://stjohnscc.org/event/memory-cafe/2028-02-02/
END:VEVENT
BEGIN:VEVENT
DTSTART;TZID=America/Edmonton:20280204T100000
DTEND;TZID=America/Edmonton:20280204T113000
DTSTAMP:20260420T233124
CREATED:20240823T214659Z
LAST-MODIFIED:20250307T232054Z
UID:10000567-1833271200-1833276600@stjohnscc.org
SUMMARY:Caregiver Coffee Talk
DESCRIPTION:Every Monday\n9 am – 10:30 am \nEvery Friday\n10 am – 11:30 am \n\nAll caregivers are welcome. \nCoffee talk is for Caregivers to come together offering information\, resources\, and strategies specifically for caring for someone who may be disabled or have other health related concerns. \nCome together to share space and life experiences over a nice hot cup of coffee on St. John’s Community Care.
URL:https://stjohnscc.org/event/coffee-talk-2/2028-02-04/
END:VEVENT
END:VCALENDAR