BEGIN:VCALENDAR
VERSION:2.0
PRODID:-//St. John’s Community Care - ECPv6.15.20//NONSGML v1.0//EN
CALSCALE:GREGORIAN
METHOD:PUBLISH
X-WR-CALNAME:St. John’s Community Care
X-ORIGINAL-URL:https://stjohnscc.org
X-WR-CALDESC:Events for St. John’s Community Care
REFRESH-INTERVAL;VALUE=DURATION:PT1H
X-Robots-Tag:noindex
X-PUBLISHED-TTL:PT1H
BEGIN:VTIMEZONE
TZID:America/Edmonton
BEGIN:DAYLIGHT
TZOFFSETFROM:-0700
TZOFFSETTO:-0600
TZNAME:MDT
DTSTART:20230312T090000
END:DAYLIGHT
BEGIN:STANDARD
TZOFFSETFROM:-0600
TZOFFSETTO:-0700
TZNAME:MST
DTSTART:20231105T080000
END:STANDARD
BEGIN:DAYLIGHT
TZOFFSETFROM:-0700
TZOFFSETTO:-0600
TZNAME:MDT
DTSTART:20240310T090000
END:DAYLIGHT
BEGIN:STANDARD
TZOFFSETFROM:-0600
TZOFFSETTO:-0700
TZNAME:MST
DTSTART:20241103T080000
END:STANDARD
BEGIN:DAYLIGHT
TZOFFSETFROM:-0700
TZOFFSETTO:-0600
TZNAME:MDT
DTSTART:20250309T090000
END:DAYLIGHT
BEGIN:STANDARD
TZOFFSETFROM:-0600
TZOFFSETTO:-0700
TZNAME:MST
DTSTART:20251102T080000
END:STANDARD
END:VTIMEZONE
BEGIN:VEVENT
DTSTART;TZID=America/Edmonton:20240812T090000
DTEND;TZID=America/Edmonton:20240812T103000
DTSTAMP:20260421T064133
CREATED:20240507T160456Z
LAST-MODIFIED:20240507T160456Z
UID:10000085-1723453200-1723458600@stjohnscc.org
SUMMARY:Caregiver Coffee Talk at Verona Coffee Company
DESCRIPTION:Verona Coffee Company\n101 East Main Street\nCollinsville\, IL \nEvery Monday\n9 am – 10:30 am \nEvery Friday\n10 am – 11 am \n  \nAll caregivers are welcome. \nCoffee talk is for Caregivers to come together offering information\, resources\, and strategies specifically for caring for someone who may be disabled or have other health related concerns. \nCome together to share space and life experiences over a nice hot cup of coffee on St. John’s Community Care.
URL:https://stjohnscc.org/event/caregiver-coffee-talk-12/
LOCATION:Verona Coffee Company\, 101 East Main Street\, Collinsville\, IL\, United States
ORGANIZER;CN="St. John's Community Care":MAILTO:info@stjohnscc.org
END:VEVENT
BEGIN:VEVENT
DTSTART;TZID=America/Edmonton:20240809T100000
DTEND;TZID=America/Edmonton:20240809T110000
DTSTAMP:20260421T064133
CREATED:20240507T160642Z
LAST-MODIFIED:20240507T160642Z
UID:10000089-1723197600-1723201200@stjohnscc.org
SUMMARY:Caregiver Coffee Talk at Verona Coffee Company
DESCRIPTION:Verona Coffee Company\n101 East Main Street\nCollinsville\, IL \nEvery Monday\n9 am – 10:30 am \nEvery Friday\n10 am – 11 am \n  \nAll caregivers are welcome. \nCoffee talk is for Caregivers to come together offering information\, resources\, and strategies specifically for caring for someone who may be disabled or have other health related concerns. \nCome together to share space and life experiences over a nice hot cup of coffee on St. John’s Community Care.
URL:https://stjohnscc.org/event/caregiver-coffee-talk-9/
LOCATION:Verona Coffee Company\, 101 East Main Street\, Collinsville\, IL\, United States
ORGANIZER;CN="St. John's Community Care":MAILTO:info@stjohnscc.org
END:VEVENT
BEGIN:VEVENT
DTSTART;TZID=America/Edmonton:20240806T130000
DTEND;TZID=America/Edmonton:20240806T143000
DTSTAMP:20260421T064133
CREATED:20240604T223915Z
LAST-MODIFIED:20240604T223915Z
UID:10000113-1722949200-1722954600@stjohnscc.org
SUMMARY:Stress Busting Program for Family Caregivers
DESCRIPTION:
URL:https://stjohnscc.org/event/stress-busting-program-for-family-caregivers-6/
END:VEVENT
BEGIN:VEVENT
DTSTART;TZID=America/Edmonton:20240805T090000
DTEND;TZID=America/Edmonton:20240805T103000
DTSTAMP:20260421T064133
CREATED:20240507T160440Z
LAST-MODIFIED:20240507T160440Z
UID:10000084-1722848400-1722853800@stjohnscc.org
SUMMARY:Caregiver Coffee Talk at Verona Coffee Company
DESCRIPTION:Verona Coffee Company\n101 East Main Street\nCollinsville\, IL \nEvery Monday\n9 am – 10:30 am \nEvery Friday\n10 am – 11 am \n  \nAll caregivers are welcome. \nCoffee talk is for Caregivers to come together offering information\, resources\, and strategies specifically for caring for someone who may be disabled or have other health related concerns. \nCome together to share space and life experiences over a nice hot cup of coffee on St. John’s Community Care.
URL:https://stjohnscc.org/event/caregiver-coffee-talk-5/
LOCATION:Verona Coffee Company\, 101 East Main Street\, Collinsville\, IL\, United States
ORGANIZER;CN="St. John's Community Care":MAILTO:info@stjohnscc.org
END:VEVENT
BEGIN:VEVENT
DTSTART;TZID=America/Edmonton:20240802T100000
DTEND;TZID=America/Edmonton:20240802T110000
DTSTAMP:20260421T064133
CREATED:20240507T160625Z
LAST-MODIFIED:20240507T160625Z
UID:10000088-1722592800-1722596400@stjohnscc.org
SUMMARY:Caregiver Coffee Talk at Verona Coffee Company
DESCRIPTION:Verona Coffee Company\n101 East Main Street\nCollinsville\, IL \nEvery Monday\n9 am – 10:30 am \nEvery Friday\n10 am – 11 am \n  \nAll caregivers are welcome. \nCoffee talk is for Caregivers to come together offering information\, resources\, and strategies specifically for caring for someone who may be disabled or have other health related concerns. \nCome together to share space and life experiences over a nice hot cup of coffee on St. John’s Community Care.
URL:https://stjohnscc.org/event/caregiver-coffee-talk-2/
LOCATION:Verona Coffee Company\, 101 East Main Street\, Collinsville\, IL\, United States
ORGANIZER;CN="St. John's Community Care":MAILTO:info@stjohnscc.org
END:VEVENT
BEGIN:VEVENT
DTSTART;TZID=America/Edmonton:20240731T160000
DTEND;TZID=America/Edmonton:20240731T170000
DTSTAMP:20260421T064133
CREATED:20240604T225120Z
LAST-MODIFIED:20240604T225120Z
UID:10000127-1722441600-1722445200@stjohnscc.org
SUMMARY:Caregiver Support Group
DESCRIPTION:
URL:https://stjohnscc.org/event/caregiver-support-group-4/
END:VEVENT
END:VCALENDAR