BEGIN:VCALENDAR
VERSION:2.0
PRODID:-//St. John’s Community Care - ECPv6.15.20//NONSGML v1.0//EN
CALSCALE:GREGORIAN
METHOD:PUBLISH
X-WR-CALNAME:St. John’s Community Care
X-ORIGINAL-URL:https://stjohnscc.org
X-WR-CALDESC:Events for St. John’s Community Care
REFRESH-INTERVAL;VALUE=DURATION:PT1H
X-Robots-Tag:noindex
X-PUBLISHED-TTL:PT1H
BEGIN:VTIMEZONE
TZID:America/Edmonton
BEGIN:DAYLIGHT
TZOFFSETFROM:-0700
TZOFFSETTO:-0600
TZNAME:MDT
DTSTART:20230312T090000
END:DAYLIGHT
BEGIN:STANDARD
TZOFFSETFROM:-0600
TZOFFSETTO:-0700
TZNAME:MST
DTSTART:20231105T080000
END:STANDARD
BEGIN:DAYLIGHT
TZOFFSETFROM:-0700
TZOFFSETTO:-0600
TZNAME:MDT
DTSTART:20240310T090000
END:DAYLIGHT
BEGIN:STANDARD
TZOFFSETFROM:-0600
TZOFFSETTO:-0700
TZNAME:MST
DTSTART:20241103T080000
END:STANDARD
BEGIN:DAYLIGHT
TZOFFSETFROM:-0700
TZOFFSETTO:-0600
TZNAME:MDT
DTSTART:20250309T090000
END:DAYLIGHT
BEGIN:STANDARD
TZOFFSETFROM:-0600
TZOFFSETTO:-0700
TZNAME:MST
DTSTART:20251102T080000
END:STANDARD
END:VTIMEZONE
BEGIN:VEVENT
DTSTART;TZID=America/Edmonton:20241008T133000
DTEND;TZID=America/Edmonton:20241008T150000
DTSTAMP:20260421T025805
CREATED:20240604T224752Z
LAST-MODIFIED:20240604T224752Z
UID:10000121-1728394200-1728399600@stjohnscc.org
SUMMARY:Alzheimer's Support Group
DESCRIPTION:
URL:https://stjohnscc.org/event/alzheimers-support-group-5/
END:VEVENT
BEGIN:VEVENT
DTSTART;TZID=America/Edmonton:20241007T090000
DTEND;TZID=America/Edmonton:20241007T103000
DTSTAMP:20260421T025805
CREATED:20240823T214550Z
LAST-MODIFIED:20251004T161842Z
UID:10000138-1728291600-1728297000@stjohnscc.org
SUMMARY:Caregiver Coffee Talk
DESCRIPTION:Every Monday\n9 am – 10:30 am \nEvery Friday\n10 am – 11:30 am \nAll caregivers are welcome. \nCoffee talk is for Caregivers to come together offering information\, resources\, and strategies specifically for caring for someone who may be disabled or have other health related concerns. \nCome together to share space and life experiences over a nice hot cup of coffee on St. John’s Community Care.
URL:https://stjohnscc.org/event/coffee-talk/2024-10-07/
END:VEVENT
BEGIN:VEVENT
DTSTART;TZID=America/Edmonton:20241004T100000
DTEND;TZID=America/Edmonton:20241004T113000
DTSTAMP:20260421T025805
CREATED:20240823T214659Z
LAST-MODIFIED:20250307T232054Z
UID:10000393-1728036000-1728041400@stjohnscc.org
SUMMARY:Caregiver Coffee Talk
DESCRIPTION:Every Monday\n9 am – 10:30 am \nEvery Friday\n10 am – 11:30 am \n\nAll caregivers are welcome. \nCoffee talk is for Caregivers to come together offering information\, resources\, and strategies specifically for caring for someone who may be disabled or have other health related concerns. \nCome together to share space and life experiences over a nice hot cup of coffee on St. John’s Community Care.
URL:https://stjohnscc.org/event/coffee-talk-2/2024-10-04/
END:VEVENT
BEGIN:VEVENT
DTSTART;TZID=America/Edmonton:20241001T180000
DTEND;TZID=America/Edmonton:20241001T190000
DTSTAMP:20260421T025805
CREATED:20240823T215645Z
LAST-MODIFIED:20240823T215645Z
UID:10000819-1727805600-1727809200@stjohnscc.org
SUMMARY:Chair Yoga
DESCRIPTION:
URL:https://stjohnscc.org/event/chair-yoga/2024-10-01/
END:VEVENT
BEGIN:VEVENT
DTSTART;TZID=America/Edmonton:20240930T090000
DTEND;TZID=America/Edmonton:20240930T103000
DTSTAMP:20260421T025805
CREATED:20240507T160956Z
LAST-MODIFIED:20240823T212312Z
UID:10000097-1727686800-1727692200@stjohnscc.org
SUMMARY:Caregiver Coffee Talk
DESCRIPTION:Verona Coffee Company\n101 East Main Street\nCollinsville\, IL \nEvery Monday\n9 am – 10:30 am \nEvery Friday\n10 am – 11 am \n  \nAll caregivers are welcome. \nCoffee talk is for Caregivers to come together offering information\, resources\, and strategies specifically for caring for someone who may be disabled or have other health related concerns. \nCome together to share space and life experiences over a nice hot cup of coffee on St. John’s Community Care.
URL:https://stjohnscc.org/event/caregiver-coffee-30/
LOCATION:Verona Coffee Company\, 101 East Main Street\, Collinsville\, IL\, United States
ORGANIZER;CN="St. John's Community Care":MAILTO:info@stjohnscc.org
END:VEVENT
BEGIN:VEVENT
DTSTART;TZID=America/Edmonton:20240927T100000
DTEND;TZID=America/Edmonton:20240927T110000
DTSTAMP:20260421T025805
CREATED:20240507T161121Z
LAST-MODIFIED:20240823T212231Z
UID:10000101-1727431200-1727434800@stjohnscc.org
SUMMARY:Caregiver Coffee Talk
DESCRIPTION:Verona Coffee Company\n101 East Main Street\nCollinsville\, IL \nEvery Monday\n9 am – 10:30 am \nEvery Friday\n10 am – 11 am \n  \nAll caregivers are welcome. \nCoffee talk is for Caregivers to come together offering information\, resources\, and strategies specifically for caring for someone who may be disabled or have other health related concerns. \nCome together to share space and life experiences over a nice hot cup of coffee on St. John’s Community Care.
URL:https://stjohnscc.org/event/caregiver-coffee-talk-27/
ORGANIZER;CN="St. John's Community Care":MAILTO:info@stjohnscc.org
END:VEVENT
BEGIN:VEVENT
DTSTART;TZID=America/Edmonton:20240925T160000
DTEND;TZID=America/Edmonton:20240925T170000
DTSTAMP:20260421T025805
CREATED:20240604T225233Z
LAST-MODIFIED:20240604T225233Z
UID:10000131-1727280000-1727283600@stjohnscc.org
SUMMARY:Caregiver Support Group
DESCRIPTION:
URL:https://stjohnscc.org/event/caregiver-support-group-8/
END:VEVENT
BEGIN:VEVENT
DTSTART;TZID=America/Edmonton:20240924T180000
DTEND;TZID=America/Edmonton:20240924T190000
DTSTAMP:20260421T025805
CREATED:20240823T215645Z
LAST-MODIFIED:20240823T215645Z
UID:10000818-1727200800-1727204400@stjohnscc.org
SUMMARY:Chair Yoga
DESCRIPTION:
URL:https://stjohnscc.org/event/chair-yoga/2024-09-24/
END:VEVENT
BEGIN:VEVENT
DTSTART;TZID=America/Edmonton:20240923T090000
DTEND;TZID=America/Edmonton:20240923T103000
DTSTAMP:20260421T025805
CREATED:20240507T160937Z
LAST-MODIFIED:20240823T212129Z
UID:10000096-1727082000-1727087400@stjohnscc.org
SUMMARY:Caregiver Coffee Talk
DESCRIPTION:Verona Coffee Company\n101 East Main Street\nCollinsville\, IL \nEvery Monday\n9 am – 10:30 am \nEvery Friday\n10 am – 11 am \n  \nAll caregivers are welcome. \nCoffee talk is for Caregivers to come together offering information\, resources\, and strategies specifically for caring for someone who may be disabled or have other health related concerns. \nCome together to share space and life experiences over a nice hot cup of coffee on St. John’s Community Care.
URL:https://stjohnscc.org/event/caregiver-coffee-23/
LOCATION:Verona Coffee Company\, 101 East Main Street\, Collinsville\, IL\, United States
ORGANIZER;CN="St. John's Community Care":MAILTO:info@stjohnscc.org
END:VEVENT
BEGIN:VEVENT
DTSTART;TZID=America/Edmonton:20240921T083000
DTEND;TZID=America/Edmonton:20240921T123000
DTSTAMP:20260421T025806
CREATED:20240823T215931Z
LAST-MODIFIED:20240827T150134Z
UID:10001076-1726907400-1726921800@stjohnscc.org
SUMMARY:Caregiver Connection
DESCRIPTION:
URL:https://stjohnscc.org/event/caregiver-connection/
END:VEVENT
BEGIN:VEVENT
DTSTART;TZID=America/Edmonton:20240920T100000
DTEND;TZID=America/Edmonton:20240920T110000
DTSTAMP:20260421T025806
CREATED:20240507T161108Z
LAST-MODIFIED:20240823T212332Z
UID:10000100-1726826400-1726830000@stjohnscc.org
SUMMARY:Caregiver Coffee Talk
DESCRIPTION:Verona Coffee Company\n101 East Main Street\nCollinsville\, IL \nEvery Monday\n9 am – 10:30 am \nEvery Friday\n10 am – 11 am \n  \nAll caregivers are welcome. \nCoffee talk is for Caregivers to come together offering information\, resources\, and strategies specifically for caring for someone who may be disabled or have other health related concerns. \nCome together to share space and life experiences over a nice hot cup of coffee on St. John’s Community Care.
URL:https://stjohnscc.org/event/caregiver-coffee-talk-20/
ORGANIZER;CN="St. John's Community Care":MAILTO:info@stjohnscc.org
END:VEVENT
BEGIN:VEVENT
DTSTART;TZID=America/Edmonton:20240917T180000
DTEND;TZID=America/Edmonton:20240917T190000
DTSTAMP:20260421T025806
CREATED:20240823T215645Z
LAST-MODIFIED:20240823T215645Z
UID:10000817-1726596000-1726599600@stjohnscc.org
SUMMARY:Chair Yoga
DESCRIPTION:
URL:https://stjohnscc.org/event/chair-yoga/2024-09-17/
END:VEVENT
BEGIN:VEVENT
DTSTART;TZID=America/Edmonton:20240916T160000
DTEND;TZID=America/Edmonton:20240916T180000
DTSTAMP:20260421T025806
CREATED:20240823T220155Z
LAST-MODIFIED:20240823T220155Z
UID:10001079-1726502400-1726509600@stjohnscc.org
SUMMARY:Open House
DESCRIPTION:
URL:https://stjohnscc.org/event/open-house/
END:VEVENT
BEGIN:VEVENT
DTSTART;TZID=America/Edmonton:20240916T090000
DTEND;TZID=America/Edmonton:20240916T103000
DTSTAMP:20260421T025806
CREATED:20240507T160922Z
LAST-MODIFIED:20240823T212132Z
UID:10000095-1726477200-1726482600@stjohnscc.org
SUMMARY:Caregiver Coffee Talk
DESCRIPTION:Verona Coffee Company\n101 East Main Street\nCollinsville\, IL \nEvery Monday\n9 am – 10:30 am \nEvery Friday\n10 am – 11 am \n  \nAll caregivers are welcome. \nCoffee talk is for Caregivers to come together offering information\, resources\, and strategies specifically for caring for someone who may be disabled or have other health related concerns. \nCome together to share space and life experiences over a nice hot cup of coffee on St. John’s Community Care.
URL:https://stjohnscc.org/event/caregiver-coffee-16/
LOCATION:Verona Coffee Company\, 101 East Main Street\, Collinsville\, IL\, United States
ORGANIZER;CN="St. John's Community Care":MAILTO:info@stjohnscc.org
END:VEVENT
BEGIN:VEVENT
DTSTART;TZID=America/Edmonton:20240913T100000
DTEND;TZID=America/Edmonton:20240913T110000
DTSTAMP:20260421T025806
CREATED:20240507T161054Z
LAST-MODIFIED:20240823T212211Z
UID:10000099-1726221600-1726225200@stjohnscc.org
SUMMARY:Caregiver Coffee Talk
DESCRIPTION:Verona Coffee Company\n101 East Main Street\nCollinsville\, IL \nEvery Monday\n9 am – 10:30 am \nEvery Friday\n10 am – 11 am \n  \nAll caregivers are welcome. \nCoffee talk is for Caregivers to come together offering information\, resources\, and strategies specifically for caring for someone who may be disabled or have other health related concerns. \nCome together to share space and life experiences over a nice hot cup of coffee on St. John’s Community Care.
URL:https://stjohnscc.org/event/caregiver-coffee-talk-13/
ORGANIZER;CN="St. John's Community Care":MAILTO:info@stjohnscc.org
END:VEVENT
BEGIN:VEVENT
DTSTART;TZID=America/Edmonton:20240911T160000
DTEND;TZID=America/Edmonton:20240911T170000
DTSTAMP:20260421T025806
CREATED:20240604T225213Z
LAST-MODIFIED:20240604T225213Z
UID:10000130-1726070400-1726074000@stjohnscc.org
SUMMARY:Caregiver Support Group
DESCRIPTION:
URL:https://stjohnscc.org/event/caregiver-support-group-7/
END:VEVENT
BEGIN:VEVENT
DTSTART;TZID=America/Edmonton:20240910T180000
DTEND;TZID=America/Edmonton:20240910T190000
DTSTAMP:20260421T025806
CREATED:20240823T215645Z
LAST-MODIFIED:20240823T215645Z
UID:10000816-1725991200-1725994800@stjohnscc.org
SUMMARY:Chair Yoga
DESCRIPTION:
URL:https://stjohnscc.org/event/chair-yoga/2024-09-10/
END:VEVENT
BEGIN:VEVENT
DTSTART;TZID=America/Edmonton:20240910T133000
DTEND;TZID=America/Edmonton:20240910T150000
DTSTAMP:20260421T025806
CREATED:20240604T224721Z
LAST-MODIFIED:20240604T224721Z
UID:10000120-1725975000-1725980400@stjohnscc.org
SUMMARY:Alzheimer's Support Group
DESCRIPTION:
URL:https://stjohnscc.org/event/alzheimers-support-group-4/
END:VEVENT
BEGIN:VEVENT
DTSTART;TZID=America/Edmonton:20240909T090000
DTEND;TZID=America/Edmonton:20240909T103000
DTSTAMP:20260421T025806
CREATED:20240507T160912Z
LAST-MODIFIED:20240823T212139Z
UID:10000094-1725872400-1725877800@stjohnscc.org
SUMMARY:Caregiver Coffee Talk
DESCRIPTION:Verona Coffee Company\n101 East Main Street\nCollinsville\, IL \nEvery Monday\n9 am – 10:30 am \nEvery Friday\n10 am – 11 am \n  \nAll caregivers are welcome. \nCoffee talk is for Caregivers to come together offering information\, resources\, and strategies specifically for caring for someone who may be disabled or have other health related concerns. \nCome together to share space and life experiences over a nice hot cup of coffee on St. John’s Community Care.
URL:https://stjohnscc.org/event/caregiver-coffee-9/
LOCATION:Verona Coffee Company\, 101 East Main Street\, Collinsville\, IL\, United States
ORGANIZER;CN="St. John's Community Care":MAILTO:info@stjohnscc.org
END:VEVENT
BEGIN:VEVENT
DTSTART;TZID=America/Edmonton:20240906T100000
DTEND;TZID=America/Edmonton:20240906T110000
DTSTAMP:20260421T025806
CREATED:20240507T161041Z
LAST-MODIFIED:20240823T212051Z
UID:10000098-1725616800-1725620400@stjohnscc.org
SUMMARY:Caregiver Coffee Talk
DESCRIPTION:Verona Coffee Company\n101 East Main Street\nCollinsville\, IL \nEvery Monday\n9 am – 10:30 am \nEvery Friday\n10 am – 11 am \n  \nAll caregivers are welcome. \nCoffee talk is for Caregivers to come together offering information\, resources\, and strategies specifically for caring for someone who may be disabled or have other health related concerns. \nCome together to share space and life experiences over a nice hot cup of coffee on St. John’s Community Care.
URL:https://stjohnscc.org/event/caregiver-coffee-talk-6/
ORGANIZER;CN="St. John's Community Care":MAILTO:info@stjohnscc.org
END:VEVENT
BEGIN:VEVENT
DTSTART;TZID=America/Edmonton:20240905T130000
DTEND;TZID=America/Edmonton:20240905T150000
DTSTAMP:20260421T025806
CREATED:20240823T220105Z
LAST-MODIFIED:20240823T220105Z
UID:10001078-1725541200-1725548400@stjohnscc.org
SUMMARY:Living With Memory Loss
DESCRIPTION:
URL:https://stjohnscc.org/event/living-with-memory-loss-2/
END:VEVENT
BEGIN:VEVENT
DTSTART;TZID=America/Edmonton:20240903T180000
DTEND;TZID=America/Edmonton:20240903T190000
DTSTAMP:20260421T025806
CREATED:20240823T215645Z
LAST-MODIFIED:20240823T215645Z
UID:10000815-1725386400-1725390000@stjohnscc.org
SUMMARY:Chair Yoga
DESCRIPTION:
URL:https://stjohnscc.org/event/chair-yoga/2024-09-03/
END:VEVENT
BEGIN:VEVENT
DTSTART;TZID=America/Edmonton:20240902T090000
DTEND;TZID=America/Edmonton:20240902T103000
DTSTAMP:20260421T025806
CREATED:20240507T160840Z
LAST-MODIFIED:20240823T212037Z
UID:10000093-1725267600-1725273000@stjohnscc.org
SUMMARY:Caregiver Coffee Talk
DESCRIPTION:Verona Coffee Company\n101 East Main Street\nCollinsville\, IL \nEvery Monday\n9 am – 10:30 am \nEvery Friday\n10 am – 11 am \n  \nAll caregivers are welcome. \nCoffee talk is for Caregivers to come together offering information\, resources\, and strategies specifically for caring for someone who may be disabled or have other health related concerns. \nCome together to share space and life experiences over a nice hot cup of coffee on St. John’s Community Care.
URL:https://stjohnscc.org/event/caregiver-coffee-2/
LOCATION:Verona Coffee Company\, 101 East Main Street\, Collinsville\, IL\, United States
ORGANIZER;CN="St. John's Community Care":MAILTO:info@stjohnscc.org
END:VEVENT
BEGIN:VEVENT
DTSTART;TZID=America/Edmonton:20240830T100000
DTEND;TZID=America/Edmonton:20240830T110000
DTSTAMP:20260421T025806
CREATED:20240507T160731Z
LAST-MODIFIED:20240823T212034Z
UID:10000092-1725012000-1725015600@stjohnscc.org
SUMMARY:Caregiver Coffee Talk
DESCRIPTION:Verona Coffee Company\n101 East Main Street\nCollinsville\, IL \nEvery Monday\n9 am – 10:30 am \nEvery Friday\n10 am – 11 am \n  \nAll caregivers are welcome. \nCoffee talk is for Caregivers to come together offering information\, resources\, and strategies specifically for caring for someone who may be disabled or have other health related concerns. \nCome together to share space and life experiences over a nice hot cup of coffee on St. John’s Community Care.
URL:https://stjohnscc.org/event/caregiver-coffee-talk-30/
ORGANIZER;CN="St. John's Community Care":MAILTO:info@stjohnscc.org
END:VEVENT
BEGIN:VEVENT
DTSTART;TZID=America/Edmonton:20240829T130000
DTEND;TZID=America/Edmonton:20240829T150000
DTSTAMP:20260421T025806
CREATED:20240823T220039Z
LAST-MODIFIED:20240823T220039Z
UID:10001077-1724936400-1724943600@stjohnscc.org
SUMMARY:Living With Memory Loss
DESCRIPTION:
URL:https://stjohnscc.org/event/living-with-memory-loss/
END:VEVENT
BEGIN:VEVENT
DTSTART;TZID=America/Edmonton:20240828T160000
DTEND;TZID=America/Edmonton:20240828T170000
DTSTAMP:20260421T025806
CREATED:20240604T225155Z
LAST-MODIFIED:20240604T225155Z
UID:10000129-1724860800-1724864400@stjohnscc.org
SUMMARY:Caregiver Support Group
DESCRIPTION:
URL:https://stjohnscc.org/event/caregiver-support-group-6/
END:VEVENT
BEGIN:VEVENT
DTSTART;TZID=America/Edmonton:20240827T180000
DTEND;TZID=America/Edmonton:20240827T190000
DTSTAMP:20260421T025806
CREATED:20240823T215645Z
LAST-MODIFIED:20240823T215645Z
UID:10000814-1724781600-1724785200@stjohnscc.org
SUMMARY:Chair Yoga
DESCRIPTION:
URL:https://stjohnscc.org/event/chair-yoga/2024-08-27/
END:VEVENT
BEGIN:VEVENT
DTSTART;TZID=America/Edmonton:20240827T130000
DTEND;TZID=America/Edmonton:20240827T143000
DTSTAMP:20260421T025806
CREATED:20240604T224022Z
LAST-MODIFIED:20240604T224022Z
UID:10000116-1724763600-1724769000@stjohnscc.org
SUMMARY:Stress Busting Program for Family Caregivers
DESCRIPTION:
URL:https://stjohnscc.org/event/stress-busting-program-for-family-caregivers-9/
END:VEVENT
BEGIN:VEVENT
DTSTART;TZID=America/Edmonton:20240826T090000
DTEND;TZID=America/Edmonton:20240826T103000
DTSTAMP:20260421T025806
CREATED:20240507T160522Z
LAST-MODIFIED:20240823T211952Z
UID:10000087-1724662800-1724668200@stjohnscc.org
SUMMARY:Caregiver Coffee Talk
DESCRIPTION:Verona Coffee Company\n101 East Main Street\nCollinsville\, IL \nEvery Monday\n9 am – 10:30 am \nEvery Friday\n10 am – 11 am \n  \nAll caregivers are welcome. \nCoffee talk is for Caregivers to come together offering information\, resources\, and strategies specifically for caring for someone who may be disabled or have other health related concerns. \nCome together to share space and life experiences over a nice hot cup of coffee on St. John’s Community Care.
URL:https://stjohnscc.org/event/caregiver-coffee-talk-26/
LOCATION:Verona Coffee Company\, 101 East Main Street\, Collinsville\, IL\, United States
ORGANIZER;CN="St. John's Community Care":MAILTO:info@stjohnscc.org
END:VEVENT
BEGIN:VEVENT
DTSTART;TZID=America/Edmonton:20240823T100000
DTEND;TZID=America/Edmonton:20240823T110000
DTSTAMP:20260421T025806
CREATED:20240507T160716Z
LAST-MODIFIED:20240823T211952Z
UID:10000091-1724407200-1724410800@stjohnscc.org
SUMMARY:Caregiver Coffee Talk
DESCRIPTION:Verona Coffee Company\n101 East Main Street\nCollinsville\, IL \nEvery Monday\n9 am – 10:30 am \nEvery Friday\n10 am – 11 am \n  \nAll caregivers are welcome. \nCoffee talk is for Caregivers to come together offering information\, resources\, and strategies specifically for caring for someone who may be disabled or have other health related concerns. \nCome together to share space and life experiences over a nice hot cup of coffee on St. John’s Community Care.
URL:https://stjohnscc.org/event/caregiver-coffee-talk-23/
ORGANIZER;CN="St. John's Community Care":MAILTO:info@stjohnscc.org
END:VEVENT
END:VCALENDAR