BEGIN:VCALENDAR
VERSION:2.0
PRODID:-//St. John’s Community Care - ECPv6.15.20//NONSGML v1.0//EN
CALSCALE:GREGORIAN
METHOD:PUBLISH
X-WR-CALNAME:St. John’s Community Care
X-ORIGINAL-URL:https://stjohnscc.org
X-WR-CALDESC:Events for St. John’s Community Care
REFRESH-INTERVAL;VALUE=DURATION:PT1H
X-Robots-Tag:noindex
X-PUBLISHED-TTL:PT1H
BEGIN:VTIMEZONE
TZID:America/Edmonton
BEGIN:DAYLIGHT
TZOFFSETFROM:-0700
TZOFFSETTO:-0600
TZNAME:MDT
DTSTART:20230312T090000
END:DAYLIGHT
BEGIN:STANDARD
TZOFFSETFROM:-0600
TZOFFSETTO:-0700
TZNAME:MST
DTSTART:20231105T080000
END:STANDARD
BEGIN:DAYLIGHT
TZOFFSETFROM:-0700
TZOFFSETTO:-0600
TZNAME:MDT
DTSTART:20240310T090000
END:DAYLIGHT
BEGIN:STANDARD
TZOFFSETFROM:-0600
TZOFFSETTO:-0700
TZNAME:MST
DTSTART:20241103T080000
END:STANDARD
BEGIN:DAYLIGHT
TZOFFSETFROM:-0700
TZOFFSETTO:-0600
TZNAME:MDT
DTSTART:20250309T090000
END:DAYLIGHT
BEGIN:STANDARD
TZOFFSETFROM:-0600
TZOFFSETTO:-0700
TZNAME:MST
DTSTART:20251102T080000
END:STANDARD
END:VTIMEZONE
BEGIN:VEVENT
DTSTART;TZID=America/Edmonton:20241118T090000
DTEND;TZID=America/Edmonton:20241118T103000
DTSTAMP:20260421T000015
CREATED:20240823T214550Z
LAST-MODIFIED:20251004T161842Z
UID:10000144-1731920400-1731925800@stjohnscc.org
SUMMARY:Caregiver Coffee Talk
DESCRIPTION:Every Monday\n9 am – 10:30 am \nEvery Friday\n10 am – 11:30 am \nAll caregivers are welcome. \nCoffee talk is for Caregivers to come together offering information\, resources\, and strategies specifically for caring for someone who may be disabled or have other health related concerns. \nCome together to share space and life experiences over a nice hot cup of coffee on St. John’s Community Care.
URL:https://stjohnscc.org/event/coffee-talk/2024-11-18/
END:VEVENT
BEGIN:VEVENT
DTSTART;TZID=America/Edmonton:20241115T100000
DTEND;TZID=America/Edmonton:20241115T113000
DTSTAMP:20260421T000015
CREATED:20240823T214659Z
LAST-MODIFIED:20250307T232054Z
UID:10000399-1731664800-1731670200@stjohnscc.org
SUMMARY:Caregiver Coffee Talk
DESCRIPTION:Every Monday\n9 am – 10:30 am \nEvery Friday\n10 am – 11:30 am \n\nAll caregivers are welcome. \nCoffee talk is for Caregivers to come together offering information\, resources\, and strategies specifically for caring for someone who may be disabled or have other health related concerns. \nCome together to share space and life experiences over a nice hot cup of coffee on St. John’s Community Care.
URL:https://stjohnscc.org/event/coffee-talk-2/2024-11-15/
END:VEVENT
BEGIN:VEVENT
DTSTART;TZID=America/Edmonton:20241113T160000
DTEND;TZID=America/Edmonton:20241113T170000
DTSTAMP:20260421T000015
CREATED:20240604T225335Z
LAST-MODIFIED:20240604T225335Z
UID:10000134-1731513600-1731517200@stjohnscc.org
SUMMARY:Caregiver Support Group
DESCRIPTION:
URL:https://stjohnscc.org/event/caregiver-support-group-11/
END:VEVENT
BEGIN:VEVENT
DTSTART;TZID=America/Edmonton:20241112T180000
DTEND;TZID=America/Edmonton:20241112T190000
DTSTAMP:20260421T000015
CREATED:20240823T215645Z
LAST-MODIFIED:20240823T215645Z
UID:10000825-1731434400-1731438000@stjohnscc.org
SUMMARY:Chair Yoga
DESCRIPTION:
URL:https://stjohnscc.org/event/chair-yoga/2024-11-12/
END:VEVENT
BEGIN:VEVENT
DTSTART;TZID=America/Edmonton:20241112T133000
DTEND;TZID=America/Edmonton:20241112T150000
DTSTAMP:20260421T000015
CREATED:20240604T224824Z
LAST-MODIFIED:20240604T224824Z
UID:10000122-1731418200-1731423600@stjohnscc.org
SUMMARY:Alzheimer's Support Group
DESCRIPTION:
URL:https://stjohnscc.org/event/alzheimers-support-group-6/
END:VEVENT
BEGIN:VEVENT
DTSTART;TZID=America/Edmonton:20241111T090000
DTEND;TZID=America/Edmonton:20241111T103000
DTSTAMP:20260421T000015
CREATED:20240823T214550Z
LAST-MODIFIED:20251004T161842Z
UID:10000143-1731315600-1731321000@stjohnscc.org
SUMMARY:Caregiver Coffee Talk
DESCRIPTION:Every Monday\n9 am – 10:30 am \nEvery Friday\n10 am – 11:30 am \nAll caregivers are welcome. \nCoffee talk is for Caregivers to come together offering information\, resources\, and strategies specifically for caring for someone who may be disabled or have other health related concerns. \nCome together to share space and life experiences over a nice hot cup of coffee on St. John’s Community Care.
URL:https://stjohnscc.org/event/coffee-talk/2024-11-11/
END:VEVENT
BEGIN:VEVENT
DTSTART;TZID=America/Edmonton:20241108T100000
DTEND;TZID=America/Edmonton:20241108T113000
DTSTAMP:20260421T000015
CREATED:20240823T214659Z
LAST-MODIFIED:20250307T232054Z
UID:10000398-1731060000-1731065400@stjohnscc.org
SUMMARY:Caregiver Coffee Talk
DESCRIPTION:Every Monday\n9 am – 10:30 am \nEvery Friday\n10 am – 11:30 am \n\nAll caregivers are welcome. \nCoffee talk is for Caregivers to come together offering information\, resources\, and strategies specifically for caring for someone who may be disabled or have other health related concerns. \nCome together to share space and life experiences over a nice hot cup of coffee on St. John’s Community Care.
URL:https://stjohnscc.org/event/coffee-talk-2/2024-11-08/
END:VEVENT
BEGIN:VEVENT
DTSTART;TZID=America/Edmonton:20241105T180000
DTEND;TZID=America/Edmonton:20241105T190000
DTSTAMP:20260421T000015
CREATED:20240823T215645Z
LAST-MODIFIED:20240823T215645Z
UID:10000824-1730829600-1730833200@stjohnscc.org
SUMMARY:Chair Yoga
DESCRIPTION:
URL:https://stjohnscc.org/event/chair-yoga/2024-11-05/
END:VEVENT
BEGIN:VEVENT
DTSTART;TZID=America/Edmonton:20241104T090000
DTEND;TZID=America/Edmonton:20241104T103000
DTSTAMP:20260421T000015
CREATED:20240823T214550Z
LAST-MODIFIED:20251004T161842Z
UID:10000142-1730710800-1730716200@stjohnscc.org
SUMMARY:Caregiver Coffee Talk
DESCRIPTION:Every Monday\n9 am – 10:30 am \nEvery Friday\n10 am – 11:30 am \nAll caregivers are welcome. \nCoffee talk is for Caregivers to come together offering information\, resources\, and strategies specifically for caring for someone who may be disabled or have other health related concerns. \nCome together to share space and life experiences over a nice hot cup of coffee on St. John’s Community Care.
URL:https://stjohnscc.org/event/coffee-talk/2024-11-04/
END:VEVENT
BEGIN:VEVENT
DTSTART;TZID=America/Edmonton:20241102T110000
DTEND;TZID=America/Edmonton:20241102T150000
DTSTAMP:20260421T000015
CREATED:20240823T215817Z
LAST-MODIFIED:20240823T215817Z
UID:10001075-1730545200-1730559600@stjohnscc.org
SUMMARY:Community Resource Fair
DESCRIPTION:
URL:https://stjohnscc.org/event/community-resource-fair-2/
END:VEVENT
BEGIN:VEVENT
DTSTART;TZID=America/Edmonton:20241102T110000
DTEND;TZID=America/Edmonton:20241102T150000
DTSTAMP:20260421T000015
CREATED:20240411T154623Z
LAST-MODIFIED:20240411T154723Z
UID:10000053-1730545200-1730559600@stjohnscc.org
SUMMARY:Community Resource Fair
DESCRIPTION:
URL:https://stjohnscc.org/event/community-resource-fair/
END:VEVENT
BEGIN:VEVENT
DTSTART;TZID=America/Edmonton:20241101T100000
DTEND;TZID=America/Edmonton:20241101T113000
DTSTAMP:20260421T000015
CREATED:20240823T214659Z
LAST-MODIFIED:20250307T232054Z
UID:10000397-1730455200-1730460600@stjohnscc.org
SUMMARY:Caregiver Coffee Talk
DESCRIPTION:Every Monday\n9 am – 10:30 am \nEvery Friday\n10 am – 11:30 am \n\nAll caregivers are welcome. \nCoffee talk is for Caregivers to come together offering information\, resources\, and strategies specifically for caring for someone who may be disabled or have other health related concerns. \nCome together to share space and life experiences over a nice hot cup of coffee on St. John’s Community Care.
URL:https://stjohnscc.org/event/coffee-talk-2/2024-11-01/
END:VEVENT
BEGIN:VEVENT
DTSTART;TZID=America/Edmonton:20241030T160000
DTEND;TZID=America/Edmonton:20241030T170000
DTSTAMP:20260421T000015
CREATED:20240604T225313Z
LAST-MODIFIED:20240604T225313Z
UID:10000133-1730304000-1730307600@stjohnscc.org
SUMMARY:Caregiver Support Group
DESCRIPTION:
URL:https://stjohnscc.org/event/caregiver-support-group-10/
END:VEVENT
BEGIN:VEVENT
DTSTART;TZID=America/Edmonton:20241029T180000
DTEND;TZID=America/Edmonton:20241029T190000
DTSTAMP:20260421T000015
CREATED:20240823T215645Z
LAST-MODIFIED:20240823T215645Z
UID:10000823-1730224800-1730228400@stjohnscc.org
SUMMARY:Chair Yoga
DESCRIPTION:
URL:https://stjohnscc.org/event/chair-yoga/2024-10-29/
END:VEVENT
BEGIN:VEVENT
DTSTART;TZID=America/Edmonton:20241028T090000
DTEND;TZID=America/Edmonton:20241028T103000
DTSTAMP:20260421T000015
CREATED:20240823T214550Z
LAST-MODIFIED:20251004T161842Z
UID:10000141-1730106000-1730111400@stjohnscc.org
SUMMARY:Caregiver Coffee Talk
DESCRIPTION:Every Monday\n9 am – 10:30 am \nEvery Friday\n10 am – 11:30 am \nAll caregivers are welcome. \nCoffee talk is for Caregivers to come together offering information\, resources\, and strategies specifically for caring for someone who may be disabled or have other health related concerns. \nCome together to share space and life experiences over a nice hot cup of coffee on St. John’s Community Care.
URL:https://stjohnscc.org/event/coffee-talk/2024-10-28/
END:VEVENT
BEGIN:VEVENT
DTSTART;TZID=America/Edmonton:20241025T100000
DTEND;TZID=America/Edmonton:20241025T113000
DTSTAMP:20260421T000015
CREATED:20240823T214659Z
LAST-MODIFIED:20250307T232054Z
UID:10000396-1729850400-1729855800@stjohnscc.org
SUMMARY:Caregiver Coffee Talk
DESCRIPTION:Every Monday\n9 am – 10:30 am \nEvery Friday\n10 am – 11:30 am \n\nAll caregivers are welcome. \nCoffee talk is for Caregivers to come together offering information\, resources\, and strategies specifically for caring for someone who may be disabled or have other health related concerns. \nCome together to share space and life experiences over a nice hot cup of coffee on St. John’s Community Care.
URL:https://stjohnscc.org/event/coffee-talk-2/2024-10-25/
END:VEVENT
BEGIN:VEVENT
DTSTART;TZID=America/Edmonton:20241022T180000
DTEND;TZID=America/Edmonton:20241022T190000
DTSTAMP:20260421T000015
CREATED:20240823T215645Z
LAST-MODIFIED:20240823T215645Z
UID:10000822-1729620000-1729623600@stjohnscc.org
SUMMARY:Chair Yoga
DESCRIPTION:
URL:https://stjohnscc.org/event/chair-yoga/2024-10-22/
END:VEVENT
BEGIN:VEVENT
DTSTART;TZID=America/Edmonton:20241021T090000
DTEND;TZID=America/Edmonton:20241021T103000
DTSTAMP:20260421T000015
CREATED:20240823T214550Z
LAST-MODIFIED:20251004T161842Z
UID:10000140-1729501200-1729506600@stjohnscc.org
SUMMARY:Caregiver Coffee Talk
DESCRIPTION:Every Monday\n9 am – 10:30 am \nEvery Friday\n10 am – 11:30 am \nAll caregivers are welcome. \nCoffee talk is for Caregivers to come together offering information\, resources\, and strategies specifically for caring for someone who may be disabled or have other health related concerns. \nCome together to share space and life experiences over a nice hot cup of coffee on St. John’s Community Care.
URL:https://stjohnscc.org/event/coffee-talk/2024-10-21/
END:VEVENT
BEGIN:VEVENT
DTSTART;TZID=America/Edmonton:20241018T100000
DTEND;TZID=America/Edmonton:20241018T113000
DTSTAMP:20260421T000015
CREATED:20240823T214659Z
LAST-MODIFIED:20250307T232054Z
UID:10000395-1729245600-1729251000@stjohnscc.org
SUMMARY:Caregiver Coffee Talk
DESCRIPTION:Every Monday\n9 am – 10:30 am \nEvery Friday\n10 am – 11:30 am \n\nAll caregivers are welcome. \nCoffee talk is for Caregivers to come together offering information\, resources\, and strategies specifically for caring for someone who may be disabled or have other health related concerns. \nCome together to share space and life experiences over a nice hot cup of coffee on St. John’s Community Care.
URL:https://stjohnscc.org/event/coffee-talk-2/2024-10-18/
END:VEVENT
BEGIN:VEVENT
DTSTART;TZID=America/Edmonton:20241015T180000
DTEND;TZID=America/Edmonton:20241015T190000
DTSTAMP:20260421T000015
CREATED:20240823T215645Z
LAST-MODIFIED:20240823T215645Z
UID:10000821-1729015200-1729018800@stjohnscc.org
SUMMARY:Chair Yoga
DESCRIPTION:
URL:https://stjohnscc.org/event/chair-yoga/2024-10-15/
END:VEVENT
BEGIN:VEVENT
DTSTART;TZID=America/Edmonton:20241014T090000
DTEND;TZID=America/Edmonton:20241014T103000
DTSTAMP:20260421T000015
CREATED:20240823T214550Z
LAST-MODIFIED:20251004T161842Z
UID:10000139-1728896400-1728901800@stjohnscc.org
SUMMARY:Caregiver Coffee Talk
DESCRIPTION:Every Monday\n9 am – 10:30 am \nEvery Friday\n10 am – 11:30 am \nAll caregivers are welcome. \nCoffee talk is for Caregivers to come together offering information\, resources\, and strategies specifically for caring for someone who may be disabled or have other health related concerns. \nCome together to share space and life experiences over a nice hot cup of coffee on St. John’s Community Care.
URL:https://stjohnscc.org/event/coffee-talk/2024-10-14/
END:VEVENT
BEGIN:VEVENT
DTSTART;TZID=America/Edmonton:20241011T100000
DTEND;TZID=America/Edmonton:20241011T113000
DTSTAMP:20260421T000015
CREATED:20240823T214659Z
LAST-MODIFIED:20250307T232054Z
UID:10000394-1728640800-1728646200@stjohnscc.org
SUMMARY:Caregiver Coffee Talk
DESCRIPTION:Every Monday\n9 am – 10:30 am \nEvery Friday\n10 am – 11:30 am \n\nAll caregivers are welcome. \nCoffee talk is for Caregivers to come together offering information\, resources\, and strategies specifically for caring for someone who may be disabled or have other health related concerns. \nCome together to share space and life experiences over a nice hot cup of coffee on St. John’s Community Care.
URL:https://stjohnscc.org/event/coffee-talk-2/2024-10-11/
END:VEVENT
BEGIN:VEVENT
DTSTART;TZID=America/Edmonton:20241009T160000
DTEND;TZID=America/Edmonton:20241009T170000
DTSTAMP:20260421T000015
CREATED:20240604T225253Z
LAST-MODIFIED:20240604T225253Z
UID:10000132-1728489600-1728493200@stjohnscc.org
SUMMARY:Caregiver Support Group
DESCRIPTION:
URL:https://stjohnscc.org/event/caregiver-support-group-9/
END:VEVENT
BEGIN:VEVENT
DTSTART;TZID=America/Edmonton:20241008T180000
DTEND;TZID=America/Edmonton:20241008T190000
DTSTAMP:20260421T000015
CREATED:20240823T215645Z
LAST-MODIFIED:20240823T215645Z
UID:10000820-1728410400-1728414000@stjohnscc.org
SUMMARY:Chair Yoga
DESCRIPTION:
URL:https://stjohnscc.org/event/chair-yoga/2024-10-08/
END:VEVENT
BEGIN:VEVENT
DTSTART;TZID=America/Edmonton:20241008T133000
DTEND;TZID=America/Edmonton:20241008T150000
DTSTAMP:20260421T000015
CREATED:20240604T224752Z
LAST-MODIFIED:20240604T224752Z
UID:10000121-1728394200-1728399600@stjohnscc.org
SUMMARY:Alzheimer's Support Group
DESCRIPTION:
URL:https://stjohnscc.org/event/alzheimers-support-group-5/
END:VEVENT
BEGIN:VEVENT
DTSTART;TZID=America/Edmonton:20241007T090000
DTEND;TZID=America/Edmonton:20241007T103000
DTSTAMP:20260421T000015
CREATED:20240823T214550Z
LAST-MODIFIED:20251004T161842Z
UID:10000138-1728291600-1728297000@stjohnscc.org
SUMMARY:Caregiver Coffee Talk
DESCRIPTION:Every Monday\n9 am – 10:30 am \nEvery Friday\n10 am – 11:30 am \nAll caregivers are welcome. \nCoffee talk is for Caregivers to come together offering information\, resources\, and strategies specifically for caring for someone who may be disabled or have other health related concerns. \nCome together to share space and life experiences over a nice hot cup of coffee on St. John’s Community Care.
URL:https://stjohnscc.org/event/coffee-talk/2024-10-07/
END:VEVENT
BEGIN:VEVENT
DTSTART;TZID=America/Edmonton:20241004T100000
DTEND;TZID=America/Edmonton:20241004T113000
DTSTAMP:20260421T000015
CREATED:20240823T214659Z
LAST-MODIFIED:20250307T232054Z
UID:10000393-1728036000-1728041400@stjohnscc.org
SUMMARY:Caregiver Coffee Talk
DESCRIPTION:Every Monday\n9 am – 10:30 am \nEvery Friday\n10 am – 11:30 am \n\nAll caregivers are welcome. \nCoffee talk is for Caregivers to come together offering information\, resources\, and strategies specifically for caring for someone who may be disabled or have other health related concerns. \nCome together to share space and life experiences over a nice hot cup of coffee on St. John’s Community Care.
URL:https://stjohnscc.org/event/coffee-talk-2/2024-10-04/
END:VEVENT
BEGIN:VEVENT
DTSTART;TZID=America/Edmonton:20241001T180000
DTEND;TZID=America/Edmonton:20241001T190000
DTSTAMP:20260421T000015
CREATED:20240823T215645Z
LAST-MODIFIED:20240823T215645Z
UID:10000819-1727805600-1727809200@stjohnscc.org
SUMMARY:Chair Yoga
DESCRIPTION:
URL:https://stjohnscc.org/event/chair-yoga/2024-10-01/
END:VEVENT
BEGIN:VEVENT
DTSTART;TZID=America/Edmonton:20240930T090000
DTEND;TZID=America/Edmonton:20240930T103000
DTSTAMP:20260421T000015
CREATED:20240507T160956Z
LAST-MODIFIED:20240823T212312Z
UID:10000097-1727686800-1727692200@stjohnscc.org
SUMMARY:Caregiver Coffee Talk
DESCRIPTION:Verona Coffee Company\n101 East Main Street\nCollinsville\, IL \nEvery Monday\n9 am – 10:30 am \nEvery Friday\n10 am – 11 am \n  \nAll caregivers are welcome. \nCoffee talk is for Caregivers to come together offering information\, resources\, and strategies specifically for caring for someone who may be disabled or have other health related concerns. \nCome together to share space and life experiences over a nice hot cup of coffee on St. John’s Community Care.
URL:https://stjohnscc.org/event/caregiver-coffee-30/
LOCATION:Verona Coffee Company\, 101 East Main Street\, Collinsville\, IL\, United States
ORGANIZER;CN="St. John's Community Care":MAILTO:info@stjohnscc.org
END:VEVENT
BEGIN:VEVENT
DTSTART;TZID=America/Edmonton:20240927T100000
DTEND;TZID=America/Edmonton:20240927T110000
DTSTAMP:20260421T000015
CREATED:20240507T161121Z
LAST-MODIFIED:20240823T212231Z
UID:10000101-1727431200-1727434800@stjohnscc.org
SUMMARY:Caregiver Coffee Talk
DESCRIPTION:Verona Coffee Company\n101 East Main Street\nCollinsville\, IL \nEvery Monday\n9 am – 10:30 am \nEvery Friday\n10 am – 11 am \n  \nAll caregivers are welcome. \nCoffee talk is for Caregivers to come together offering information\, resources\, and strategies specifically for caring for someone who may be disabled or have other health related concerns. \nCome together to share space and life experiences over a nice hot cup of coffee on St. John’s Community Care.
URL:https://stjohnscc.org/event/caregiver-coffee-talk-27/
ORGANIZER;CN="St. John's Community Care":MAILTO:info@stjohnscc.org
END:VEVENT
END:VCALENDAR