BEGIN:VCALENDAR
VERSION:2.0
PRODID:-//St. John’s Community Care - ECPv6.15.20//NONSGML v1.0//EN
CALSCALE:GREGORIAN
METHOD:PUBLISH
X-WR-CALNAME:St. John’s Community Care
X-ORIGINAL-URL:https://stjohnscc.org
X-WR-CALDESC:Events for St. John’s Community Care
REFRESH-INTERVAL;VALUE=DURATION:PT1H
X-Robots-Tag:noindex
X-PUBLISHED-TTL:PT1H
BEGIN:VTIMEZONE
TZID:America/Edmonton
BEGIN:DAYLIGHT
TZOFFSETFROM:-0700
TZOFFSETTO:-0600
TZNAME:MDT
DTSTART:20230312T090000
END:DAYLIGHT
BEGIN:STANDARD
TZOFFSETFROM:-0600
TZOFFSETTO:-0700
TZNAME:MST
DTSTART:20231105T080000
END:STANDARD
BEGIN:DAYLIGHT
TZOFFSETFROM:-0700
TZOFFSETTO:-0600
TZNAME:MDT
DTSTART:20240310T090000
END:DAYLIGHT
BEGIN:STANDARD
TZOFFSETFROM:-0600
TZOFFSETTO:-0700
TZNAME:MST
DTSTART:20241103T080000
END:STANDARD
BEGIN:DAYLIGHT
TZOFFSETFROM:-0700
TZOFFSETTO:-0600
TZNAME:MDT
DTSTART:20250309T090000
END:DAYLIGHT
BEGIN:STANDARD
TZOFFSETFROM:-0600
TZOFFSETTO:-0700
TZNAME:MST
DTSTART:20251102T080000
END:STANDARD
BEGIN:DAYLIGHT
TZOFFSETFROM:-0700
TZOFFSETTO:-0600
TZNAME:MDT
DTSTART:20260308T090000
END:DAYLIGHT
BEGIN:STANDARD
TZOFFSETFROM:-0600
TZOFFSETTO:-0700
TZNAME:MST
DTSTART:20261101T080000
END:STANDARD
END:VTIMEZONE
BEGIN:VEVENT
DTSTART;TZID=America/Edmonton:20250106T090000
DTEND;TZID=America/Edmonton:20250106T103000
DTSTAMP:20260420T211049
CREATED:20240823T214550Z
LAST-MODIFIED:20251004T161842Z
UID:10000151-1736154000-1736159400@stjohnscc.org
SUMMARY:Caregiver Coffee Talk
DESCRIPTION:Every Monday\n9 am – 10:30 am \nEvery Friday\n10 am – 11:30 am \nAll caregivers are welcome. \nCoffee talk is for Caregivers to come together offering information\, resources\, and strategies specifically for caring for someone who may be disabled or have other health related concerns. \nCome together to share space and life experiences over a nice hot cup of coffee on St. John’s Community Care.
URL:https://stjohnscc.org/event/coffee-talk/2025-01-06/
END:VEVENT
BEGIN:VEVENT
DTSTART;TZID=America/Edmonton:20250103T100000
DTEND;TZID=America/Edmonton:20250103T113000
DTSTAMP:20260420T211049
CREATED:20240823T214659Z
LAST-MODIFIED:20250307T232054Z
UID:10000406-1735898400-1735903800@stjohnscc.org
SUMMARY:Caregiver Coffee Talk
DESCRIPTION:Every Monday\n9 am – 10:30 am \nEvery Friday\n10 am – 11:30 am \n\nAll caregivers are welcome. \nCoffee talk is for Caregivers to come together offering information\, resources\, and strategies specifically for caring for someone who may be disabled or have other health related concerns. \nCome together to share space and life experiences over a nice hot cup of coffee on St. John’s Community Care.
URL:https://stjohnscc.org/event/coffee-talk-2/2025-01-03/
END:VEVENT
BEGIN:VEVENT
DTSTART;TZID=America/Edmonton:20241231T180000
DTEND;TZID=America/Edmonton:20241231T190000
DTSTAMP:20260420T211049
CREATED:20240823T215645Z
LAST-MODIFIED:20240823T215645Z
UID:10000832-1735668000-1735671600@stjohnscc.org
SUMMARY:Chair Yoga
DESCRIPTION:
URL:https://stjohnscc.org/event/chair-yoga/2024-12-31/
END:VEVENT
BEGIN:VEVENT
DTSTART;TZID=America/Edmonton:20241230T090000
DTEND;TZID=America/Edmonton:20241230T103000
DTSTAMP:20260420T211049
CREATED:20240823T214550Z
LAST-MODIFIED:20251004T161842Z
UID:10000150-1735549200-1735554600@stjohnscc.org
SUMMARY:Caregiver Coffee Talk
DESCRIPTION:Every Monday\n9 am – 10:30 am \nEvery Friday\n10 am – 11:30 am \nAll caregivers are welcome. \nCoffee talk is for Caregivers to come together offering information\, resources\, and strategies specifically for caring for someone who may be disabled or have other health related concerns. \nCome together to share space and life experiences over a nice hot cup of coffee on St. John’s Community Care.
URL:https://stjohnscc.org/event/coffee-talk/2024-12-30/
END:VEVENT
BEGIN:VEVENT
DTSTART;TZID=America/Edmonton:20241227T100000
DTEND;TZID=America/Edmonton:20241227T113000
DTSTAMP:20260420T211049
CREATED:20240823T214659Z
LAST-MODIFIED:20250307T232054Z
UID:10000405-1735293600-1735299000@stjohnscc.org
SUMMARY:Caregiver Coffee Talk
DESCRIPTION:Every Monday\n9 am – 10:30 am \nEvery Friday\n10 am – 11:30 am \n\nAll caregivers are welcome. \nCoffee talk is for Caregivers to come together offering information\, resources\, and strategies specifically for caring for someone who may be disabled or have other health related concerns. \nCome together to share space and life experiences over a nice hot cup of coffee on St. John’s Community Care.
URL:https://stjohnscc.org/event/coffee-talk-2/2024-12-27/
END:VEVENT
BEGIN:VEVENT
DTSTART;TZID=America/Edmonton:20241224T180000
DTEND;TZID=America/Edmonton:20241224T190000
DTSTAMP:20260420T211049
CREATED:20240823T215645Z
LAST-MODIFIED:20240823T215645Z
UID:10000831-1735063200-1735066800@stjohnscc.org
SUMMARY:Chair Yoga
DESCRIPTION:
URL:https://stjohnscc.org/event/chair-yoga/2024-12-24/
END:VEVENT
BEGIN:VEVENT
DTSTART;TZID=America/Edmonton:20241223T090000
DTEND;TZID=America/Edmonton:20241223T103000
DTSTAMP:20260420T211049
CREATED:20240823T214550Z
LAST-MODIFIED:20251004T161842Z
UID:10000149-1734944400-1734949800@stjohnscc.org
SUMMARY:Caregiver Coffee Talk
DESCRIPTION:Every Monday\n9 am – 10:30 am \nEvery Friday\n10 am – 11:30 am \nAll caregivers are welcome. \nCoffee talk is for Caregivers to come together offering information\, resources\, and strategies specifically for caring for someone who may be disabled or have other health related concerns. \nCome together to share space and life experiences over a nice hot cup of coffee on St. John’s Community Care.
URL:https://stjohnscc.org/event/coffee-talk/2024-12-23/
END:VEVENT
BEGIN:VEVENT
DTSTART;TZID=America/Edmonton:20241220T100000
DTEND;TZID=America/Edmonton:20241220T113000
DTSTAMP:20260420T211049
CREATED:20240823T214659Z
LAST-MODIFIED:20250307T232054Z
UID:10000404-1734688800-1734694200@stjohnscc.org
SUMMARY:Caregiver Coffee Talk
DESCRIPTION:Every Monday\n9 am – 10:30 am \nEvery Friday\n10 am – 11:30 am \n\nAll caregivers are welcome. \nCoffee talk is for Caregivers to come together offering information\, resources\, and strategies specifically for caring for someone who may be disabled or have other health related concerns. \nCome together to share space and life experiences over a nice hot cup of coffee on St. John’s Community Care.
URL:https://stjohnscc.org/event/coffee-talk-2/2024-12-20/
END:VEVENT
BEGIN:VEVENT
DTSTART;TZID=America/Edmonton:20241217T180000
DTEND;TZID=America/Edmonton:20241217T190000
DTSTAMP:20260420T211049
CREATED:20240823T215645Z
LAST-MODIFIED:20240823T215645Z
UID:10000830-1734458400-1734462000@stjohnscc.org
SUMMARY:Chair Yoga
DESCRIPTION:
URL:https://stjohnscc.org/event/chair-yoga/2024-12-17/
END:VEVENT
BEGIN:VEVENT
DTSTART;TZID=America/Edmonton:20241216T090000
DTEND;TZID=America/Edmonton:20241216T103000
DTSTAMP:20260420T211049
CREATED:20240823T214550Z
LAST-MODIFIED:20251004T161842Z
UID:10000148-1734339600-1734345000@stjohnscc.org
SUMMARY:Caregiver Coffee Talk
DESCRIPTION:Every Monday\n9 am – 10:30 am \nEvery Friday\n10 am – 11:30 am \nAll caregivers are welcome. \nCoffee talk is for Caregivers to come together offering information\, resources\, and strategies specifically for caring for someone who may be disabled or have other health related concerns. \nCome together to share space and life experiences over a nice hot cup of coffee on St. John’s Community Care.
URL:https://stjohnscc.org/event/coffee-talk/2024-12-16/
END:VEVENT
BEGIN:VEVENT
DTSTART;TZID=America/Edmonton:20241213T100000
DTEND;TZID=America/Edmonton:20241213T113000
DTSTAMP:20260420T211049
CREATED:20240823T214659Z
LAST-MODIFIED:20250307T232054Z
UID:10000403-1734084000-1734089400@stjohnscc.org
SUMMARY:Caregiver Coffee Talk
DESCRIPTION:Every Monday\n9 am – 10:30 am \nEvery Friday\n10 am – 11:30 am \n\nAll caregivers are welcome. \nCoffee talk is for Caregivers to come together offering information\, resources\, and strategies specifically for caring for someone who may be disabled or have other health related concerns. \nCome together to share space and life experiences over a nice hot cup of coffee on St. John’s Community Care.
URL:https://stjohnscc.org/event/coffee-talk-2/2024-12-13/
END:VEVENT
BEGIN:VEVENT
DTSTART;TZID=America/Edmonton:20241211T160000
DTEND;TZID=America/Edmonton:20241211T170000
DTSTAMP:20260420T211049
CREATED:20240604T225419Z
LAST-MODIFIED:20240604T225419Z
UID:10000136-1733932800-1733936400@stjohnscc.org
SUMMARY:Caregiver Support Group
DESCRIPTION:
URL:https://stjohnscc.org/event/caregiver-support-group-13/
END:VEVENT
BEGIN:VEVENT
DTSTART;TZID=America/Edmonton:20241210T180000
DTEND;TZID=America/Edmonton:20241210T190000
DTSTAMP:20260420T211049
CREATED:20240823T215645Z
LAST-MODIFIED:20240823T215645Z
UID:10000829-1733853600-1733857200@stjohnscc.org
SUMMARY:Chair Yoga
DESCRIPTION:
URL:https://stjohnscc.org/event/chair-yoga/2024-12-10/
END:VEVENT
BEGIN:VEVENT
DTSTART;TZID=America/Edmonton:20241210T133000
DTEND;TZID=America/Edmonton:20241210T150000
DTSTAMP:20260420T211049
CREATED:20240604T224848Z
LAST-MODIFIED:20240604T224848Z
UID:10000123-1733837400-1733842800@stjohnscc.org
SUMMARY:Alzheimer's Support Group
DESCRIPTION:
URL:https://stjohnscc.org/event/alzheimers-support-group-7/
END:VEVENT
BEGIN:VEVENT
DTSTART;TZID=America/Edmonton:20241209T090000
DTEND;TZID=America/Edmonton:20241209T103000
DTSTAMP:20260420T211049
CREATED:20240823T214550Z
LAST-MODIFIED:20251004T161842Z
UID:10000147-1733734800-1733740200@stjohnscc.org
SUMMARY:Caregiver Coffee Talk
DESCRIPTION:Every Monday\n9 am – 10:30 am \nEvery Friday\n10 am – 11:30 am \nAll caregivers are welcome. \nCoffee talk is for Caregivers to come together offering information\, resources\, and strategies specifically for caring for someone who may be disabled or have other health related concerns. \nCome together to share space and life experiences over a nice hot cup of coffee on St. John’s Community Care.
URL:https://stjohnscc.org/event/coffee-talk/2024-12-09/
END:VEVENT
BEGIN:VEVENT
DTSTART;TZID=America/Edmonton:20241206T100000
DTEND;TZID=America/Edmonton:20241206T113000
DTSTAMP:20260420T211049
CREATED:20240823T214659Z
LAST-MODIFIED:20250307T232054Z
UID:10000402-1733479200-1733484600@stjohnscc.org
SUMMARY:Caregiver Coffee Talk
DESCRIPTION:Every Monday\n9 am – 10:30 am \nEvery Friday\n10 am – 11:30 am \n\nAll caregivers are welcome. \nCoffee talk is for Caregivers to come together offering information\, resources\, and strategies specifically for caring for someone who may be disabled or have other health related concerns. \nCome together to share space and life experiences over a nice hot cup of coffee on St. John’s Community Care.
URL:https://stjohnscc.org/event/coffee-talk-2/2024-12-06/
END:VEVENT
BEGIN:VEVENT
DTSTART;TZID=America/Edmonton:20241203T180000
DTEND;TZID=America/Edmonton:20241203T190000
DTSTAMP:20260420T211049
CREATED:20240823T215645Z
LAST-MODIFIED:20240823T215645Z
UID:10000828-1733248800-1733252400@stjohnscc.org
SUMMARY:Chair Yoga
DESCRIPTION:
URL:https://stjohnscc.org/event/chair-yoga/2024-12-03/
END:VEVENT
BEGIN:VEVENT
DTSTART;TZID=America/Edmonton:20241202T090000
DTEND;TZID=America/Edmonton:20241202T103000
DTSTAMP:20260420T211049
CREATED:20240823T214550Z
LAST-MODIFIED:20251004T161842Z
UID:10000146-1733130000-1733135400@stjohnscc.org
SUMMARY:Caregiver Coffee Talk
DESCRIPTION:Every Monday\n9 am – 10:30 am \nEvery Friday\n10 am – 11:30 am \nAll caregivers are welcome. \nCoffee talk is for Caregivers to come together offering information\, resources\, and strategies specifically for caring for someone who may be disabled or have other health related concerns. \nCome together to share space and life experiences over a nice hot cup of coffee on St. John’s Community Care.
URL:https://stjohnscc.org/event/coffee-talk/2024-12-02/
END:VEVENT
BEGIN:VEVENT
DTSTART;TZID=America/Edmonton:20241129T100000
DTEND;TZID=America/Edmonton:20241129T113000
DTSTAMP:20260420T211049
CREATED:20240823T214659Z
LAST-MODIFIED:20250307T232054Z
UID:10000401-1732874400-1732879800@stjohnscc.org
SUMMARY:Caregiver Coffee Talk
DESCRIPTION:Every Monday\n9 am – 10:30 am \nEvery Friday\n10 am – 11:30 am \n\nAll caregivers are welcome. \nCoffee talk is for Caregivers to come together offering information\, resources\, and strategies specifically for caring for someone who may be disabled or have other health related concerns. \nCome together to share space and life experiences over a nice hot cup of coffee on St. John’s Community Care.
URL:https://stjohnscc.org/event/coffee-talk-2/2024-11-29/
END:VEVENT
BEGIN:VEVENT
DTSTART;TZID=America/Edmonton:20241127T160000
DTEND;TZID=America/Edmonton:20241127T170000
DTSTAMP:20260420T211049
CREATED:20240604T225358Z
LAST-MODIFIED:20240604T225358Z
UID:10000135-1732723200-1732726800@stjohnscc.org
SUMMARY:Caregiver Support Group
DESCRIPTION:
URL:https://stjohnscc.org/event/caregiver-support-group-12/
END:VEVENT
BEGIN:VEVENT
DTSTART;TZID=America/Edmonton:20241126T180000
DTEND;TZID=America/Edmonton:20241126T190000
DTSTAMP:20260420T211049
CREATED:20240823T215645Z
LAST-MODIFIED:20240823T215645Z
UID:10000827-1732644000-1732647600@stjohnscc.org
SUMMARY:Chair Yoga
DESCRIPTION:
URL:https://stjohnscc.org/event/chair-yoga/2024-11-26/
END:VEVENT
BEGIN:VEVENT
DTSTART;TZID=America/Edmonton:20241125T090000
DTEND;TZID=America/Edmonton:20241125T103000
DTSTAMP:20260420T211049
CREATED:20240823T214550Z
LAST-MODIFIED:20251004T161842Z
UID:10000145-1732525200-1732530600@stjohnscc.org
SUMMARY:Caregiver Coffee Talk
DESCRIPTION:Every Monday\n9 am – 10:30 am \nEvery Friday\n10 am – 11:30 am \nAll caregivers are welcome. \nCoffee talk is for Caregivers to come together offering information\, resources\, and strategies specifically for caring for someone who may be disabled or have other health related concerns. \nCome together to share space and life experiences over a nice hot cup of coffee on St. John’s Community Care.
URL:https://stjohnscc.org/event/coffee-talk/2024-11-25/
END:VEVENT
BEGIN:VEVENT
DTSTART;TZID=America/Edmonton:20241122T100000
DTEND;TZID=America/Edmonton:20241122T113000
DTSTAMP:20260420T211049
CREATED:20240823T214659Z
LAST-MODIFIED:20250307T232054Z
UID:10000400-1732269600-1732275000@stjohnscc.org
SUMMARY:Caregiver Coffee Talk
DESCRIPTION:Every Monday\n9 am – 10:30 am \nEvery Friday\n10 am – 11:30 am \n\nAll caregivers are welcome. \nCoffee talk is for Caregivers to come together offering information\, resources\, and strategies specifically for caring for someone who may be disabled or have other health related concerns. \nCome together to share space and life experiences over a nice hot cup of coffee on St. John’s Community Care.
URL:https://stjohnscc.org/event/coffee-talk-2/2024-11-22/
END:VEVENT
BEGIN:VEVENT
DTSTART;TZID=America/Edmonton:20241119T180000
DTEND;TZID=America/Edmonton:20241119T190000
DTSTAMP:20260420T211049
CREATED:20240823T215645Z
LAST-MODIFIED:20240823T215645Z
UID:10000826-1732039200-1732042800@stjohnscc.org
SUMMARY:Chair Yoga
DESCRIPTION:
URL:https://stjohnscc.org/event/chair-yoga/2024-11-19/
END:VEVENT
BEGIN:VEVENT
DTSTART;TZID=America/Edmonton:20241118T090000
DTEND;TZID=America/Edmonton:20241118T103000
DTSTAMP:20260420T211049
CREATED:20240823T214550Z
LAST-MODIFIED:20251004T161842Z
UID:10000144-1731920400-1731925800@stjohnscc.org
SUMMARY:Caregiver Coffee Talk
DESCRIPTION:Every Monday\n9 am – 10:30 am \nEvery Friday\n10 am – 11:30 am \nAll caregivers are welcome. \nCoffee talk is for Caregivers to come together offering information\, resources\, and strategies specifically for caring for someone who may be disabled or have other health related concerns. \nCome together to share space and life experiences over a nice hot cup of coffee on St. John’s Community Care.
URL:https://stjohnscc.org/event/coffee-talk/2024-11-18/
END:VEVENT
BEGIN:VEVENT
DTSTART;TZID=America/Edmonton:20241115T100000
DTEND;TZID=America/Edmonton:20241115T113000
DTSTAMP:20260420T211049
CREATED:20240823T214659Z
LAST-MODIFIED:20250307T232054Z
UID:10000399-1731664800-1731670200@stjohnscc.org
SUMMARY:Caregiver Coffee Talk
DESCRIPTION:Every Monday\n9 am – 10:30 am \nEvery Friday\n10 am – 11:30 am \n\nAll caregivers are welcome. \nCoffee talk is for Caregivers to come together offering information\, resources\, and strategies specifically for caring for someone who may be disabled or have other health related concerns. \nCome together to share space and life experiences over a nice hot cup of coffee on St. John’s Community Care.
URL:https://stjohnscc.org/event/coffee-talk-2/2024-11-15/
END:VEVENT
BEGIN:VEVENT
DTSTART;TZID=America/Edmonton:20241113T160000
DTEND;TZID=America/Edmonton:20241113T170000
DTSTAMP:20260420T211049
CREATED:20240604T225335Z
LAST-MODIFIED:20240604T225335Z
UID:10000134-1731513600-1731517200@stjohnscc.org
SUMMARY:Caregiver Support Group
DESCRIPTION:
URL:https://stjohnscc.org/event/caregiver-support-group-11/
END:VEVENT
BEGIN:VEVENT
DTSTART;TZID=America/Edmonton:20241112T180000
DTEND;TZID=America/Edmonton:20241112T190000
DTSTAMP:20260420T211049
CREATED:20240823T215645Z
LAST-MODIFIED:20240823T215645Z
UID:10000825-1731434400-1731438000@stjohnscc.org
SUMMARY:Chair Yoga
DESCRIPTION:
URL:https://stjohnscc.org/event/chair-yoga/2024-11-12/
END:VEVENT
BEGIN:VEVENT
DTSTART;TZID=America/Edmonton:20241112T133000
DTEND;TZID=America/Edmonton:20241112T150000
DTSTAMP:20260420T211049
CREATED:20240604T224824Z
LAST-MODIFIED:20240604T224824Z
UID:10000122-1731418200-1731423600@stjohnscc.org
SUMMARY:Alzheimer's Support Group
DESCRIPTION:
URL:https://stjohnscc.org/event/alzheimers-support-group-6/
END:VEVENT
BEGIN:VEVENT
DTSTART;TZID=America/Edmonton:20241111T090000
DTEND;TZID=America/Edmonton:20241111T103000
DTSTAMP:20260420T211049
CREATED:20240823T214550Z
LAST-MODIFIED:20251004T161842Z
UID:10000143-1731315600-1731321000@stjohnscc.org
SUMMARY:Caregiver Coffee Talk
DESCRIPTION:Every Monday\n9 am – 10:30 am \nEvery Friday\n10 am – 11:30 am \nAll caregivers are welcome. \nCoffee talk is for Caregivers to come together offering information\, resources\, and strategies specifically for caring for someone who may be disabled or have other health related concerns. \nCome together to share space and life experiences over a nice hot cup of coffee on St. John’s Community Care.
URL:https://stjohnscc.org/event/coffee-talk/2024-11-11/
END:VEVENT
END:VCALENDAR